BEGIN:VCALENDAR
VERSION:2.0
PRODID:-//Baker Street Quarter Partnership - ECPv6.15.20//NONSGML v1.0//EN
CALSCALE:GREGORIAN
METHOD:PUBLISH
X-WR-CALNAME:Baker Street Quarter Partnership
X-ORIGINAL-URL:https://bakerstreetq.co.uk
X-WR-CALDESC:Events for Baker Street Quarter Partnership
REFRESH-INTERVAL;VALUE=DURATION:PT1H
X-Robots-Tag:noindex
X-PUBLISHED-TTL:PT1H
BEGIN:VTIMEZONE
TZID:Europe/London
BEGIN:DAYLIGHT
TZOFFSETFROM:+0000
TZOFFSETTO:+0100
TZNAME:BST
DTSTART:20210328T010000
END:DAYLIGHT
BEGIN:STANDARD
TZOFFSETFROM:+0100
TZOFFSETTO:+0000
TZNAME:GMT
DTSTART:20211031T010000
END:STANDARD
BEGIN:DAYLIGHT
TZOFFSETFROM:+0000
TZOFFSETTO:+0100
TZNAME:BST
DTSTART:20220327T010000
END:DAYLIGHT
BEGIN:STANDARD
TZOFFSETFROM:+0100
TZOFFSETTO:+0000
TZNAME:GMT
DTSTART:20221030T010000
END:STANDARD
BEGIN:DAYLIGHT
TZOFFSETFROM:+0000
TZOFFSETTO:+0100
TZNAME:BST
DTSTART:20230326T010000
END:DAYLIGHT
BEGIN:STANDARD
TZOFFSETFROM:+0100
TZOFFSETTO:+0000
TZNAME:GMT
DTSTART:20231029T010000
END:STANDARD
END:VTIMEZONE
BEGIN:VEVENT
DTSTART;TZID=Europe/London:20220512T120000
DTEND;TZID=Europe/London:20220512T143000
DTSTAMP:20260420T023227
CREATED:20211206T082054Z
LAST-MODIFIED:20211206T082054Z
UID:10000010-1652356800-1652365800@bakerstreetq.co.uk
SUMMARY:Food Market at 55 Baker Street
DESCRIPTION:Our food market returns to the outdoor atrium of 55 Baker Street from 12.00 to 14.30. A small but perfectly formed ‘mini’ market\, it will feature independent street-food stalls from our market partners Urban Food Fest. Everyone is welcome to drop by for a bite to eat. \n\nRodgis | Mediterranean\nRummanco | Caribbean\nLilium Cakery | Cakes\nSoffrito | Italian // Pasta\nHush Hush | Deli\nBerlin Doner | Doner
URL:https://bakerstreetq.co.uk/event/food-market-at-55-baker-street-3/2022-05-12/
CATEGORIES:In Person
ATTACH;FMTTYPE=image/png:https://bakerstreetq.co.uk/wp-content/uploads/2021/12/55-Baker-Street-Market-events-page-2.png
END:VEVENT
BEGIN:VEVENT
DTSTART;TZID=Europe/London:20220512T120000
DTEND;TZID=Europe/London:20220512T143000
DTSTAMP:20260420T023227
CREATED:20211206T082054Z
LAST-MODIFIED:20211206T082054Z
UID:10000106-1652356800-1652365800@bakerstreetq.co.uk
SUMMARY:Food Market at 55 Baker Street
DESCRIPTION:Our food market returns to the outdoor atrium of 55 Baker Street from 12.00 to 14.30. A small but perfectly formed ‘mini’ market\, it will feature independent street-food stalls from our market partners Urban Food Fest. Everyone is welcome to drop by for a bite to eat. \n\nXurros Club | Mexican Tacos\nRummanco | Caribbean\nLilium Cakery | Cakes\nSoffrito | Italian // Pasta\nHush Hush | Deli\nMeli | Greek
URL:https://bakerstreetq.co.uk/event/food-market-at-55-baker-street-3/2022-05-12/
CATEGORIES:In Person
ATTACH;FMTTYPE=image/png:https://bakerstreetq.co.uk/wp-content/uploads/2021/12/55-Baker-Street-Market-events-page-2.png
END:VEVENT
BEGIN:VEVENT
DTSTART;TZID=Europe/London:20220512T120000
DTEND;TZID=Europe/London:20220512T143000
DTSTAMP:20260420T023227
CREATED:20211206T082054Z
LAST-MODIFIED:20211206T082054Z
UID:10000135-1652356800-1652365800@bakerstreetq.co.uk
SUMMARY:Food Market at 55 Baker Street
DESCRIPTION:Our food market returns to the outdoor atrium of 55 Baker Street from 12.00 to 14.30. A small but perfectly formed ‘mini’ market\, it will feature independent street-food stalls from our market partners Urban Food Fest. Everyone is welcome to drop by for a bite to eat. \n\nXurros Club | Mexican Tacos\nRummanco | Caribbean\nLilium Cakery | Cakes\nSoffrito | Italian // Pasta\nHush Hush | Deli\nMeli | Greek
URL:https://bakerstreetq.co.uk/event/food-market-at-55-baker-street-3/2022-05-12/
CATEGORIES:In Person
ATTACH;FMTTYPE=image/png:https://bakerstreetq.co.uk/wp-content/uploads/2021/12/55-Baker-Street-Market-events-page-2.png
END:VEVENT
BEGIN:VEVENT
DTSTART;TZID=Europe/London:20220512T120000
DTEND;TZID=Europe/London:20220512T143000
DTSTAMP:20260420T023227
CREATED:20211206T082054Z
LAST-MODIFIED:20211206T082054Z
UID:10000164-1652356800-1652365800@bakerstreetq.co.uk
SUMMARY:Food Market at 55 Baker Street
DESCRIPTION:Our food market returns to the outdoor atrium of 55 Baker Street from 12.00 to 14.30. A small but perfectly formed ‘mini’ market\, it will feature independent street-food stalls from our market partners Urban Food Fest. Everyone is welcome to drop by for a bite to eat. \n\nXurros Club | Mexican Tacos\nRummanco | Caribbean\nLilium Cakery | Cakes\nSoffrito | Italian // Pasta\nHush Hush | Deli\nMeli | Greek
URL:https://bakerstreetq.co.uk/event/food-market-at-55-baker-street-3/2022-05-12/
CATEGORIES:In Person
ATTACH;FMTTYPE=image/png:https://bakerstreetq.co.uk/wp-content/uploads/2021/12/55-Baker-Street-Market-events-page-2.png
END:VEVENT
BEGIN:VEVENT
DTSTART;TZID=Europe/London:20220512T120000
DTEND;TZID=Europe/London:20220512T143000
DTSTAMP:20260420T023227
CREATED:20211206T082054Z
LAST-MODIFIED:20211206T082054Z
UID:10000193-1652356800-1652365800@bakerstreetq.co.uk
SUMMARY:Food Market at 55 Baker Street
DESCRIPTION:Our food market returns to the outdoor atrium of 55 Baker Street from 12.00 to 14.30. A small but perfectly formed ‘mini’ market\, it will feature independent street-food stalls from our market partners Urban Food Fest. Everyone is welcome to drop by for a bite to eat. \n\nXurros Club | Mexican Tacos\nRummanco | Caribbean\nLilium Cakery | Cakes\nSoffrito | Italian // Pasta\nHush Hush | Deli\nMeli | Greek
URL:https://bakerstreetq.co.uk/event/food-market-at-55-baker-street-3/2022-05-12/
CATEGORIES:In Person
ATTACH;FMTTYPE=image/png:https://bakerstreetq.co.uk/wp-content/uploads/2021/12/55-Baker-Street-Market-events-page-2.png
END:VEVENT
BEGIN:VEVENT
DTSTART;TZID=Europe/London:20220512T120000
DTEND;TZID=Europe/London:20220512T143000
DTSTAMP:20260420T023227
CREATED:20211206T082054Z
LAST-MODIFIED:20211206T082054Z
UID:10000222-1652356800-1652365800@bakerstreetq.co.uk
SUMMARY:Food Market at 55 Baker Street
DESCRIPTION:Our food market returns to the outdoor atrium of 55 Baker Street from 12.00 to 14.30. A small but perfectly formed ‘mini’ market\, it will feature independent street-food stalls from our market partners Urban Food Fest. Everyone is welcome to drop by for a bite to eat. \n\nXurros Club | Mexican Tacos\nRummanco | Caribbean\nLilium Cakery | Cakes\nSoffrito | Italian // Pasta\nHush Hush | Deli\nMeli | Greek
URL:https://bakerstreetq.co.uk/event/food-market-at-55-baker-street-3/2022-05-12/
CATEGORIES:In Person
ATTACH;FMTTYPE=image/png:https://bakerstreetq.co.uk/wp-content/uploads/2021/12/55-Baker-Street-Market-events-page-2.png
END:VEVENT
BEGIN:VEVENT
DTSTART;TZID=Europe/London:20220512T120000
DTEND;TZID=Europe/London:20220512T143000
DTSTAMP:20260420T023227
CREATED:20211206T082054Z
LAST-MODIFIED:20211206T082054Z
UID:10000251-1652356800-1652365800@bakerstreetq.co.uk
SUMMARY:Food Market at 55 Baker Street
DESCRIPTION:Our food market returns to the outdoor atrium of 55 Baker Street from 12.00 to 14.30. A small but perfectly formed ‘mini’ market\, it will feature independent street-food stalls from our market partners Urban Food Fest. Everyone is welcome to drop by for a bite to eat. \n\nXurros Club | Mexican Tacos\nRummanco | Caribbean\nLilium Cakery | Cakes\nSoffrito | Italian // Pasta\nHush Hush | Deli\nMeli | Greek
URL:https://bakerstreetq.co.uk/event/food-market-at-55-baker-street-3/2022-05-12/
CATEGORIES:In Person
ATTACH;FMTTYPE=image/png:https://bakerstreetq.co.uk/wp-content/uploads/2021/12/55-Baker-Street-Market-events-page-2.png
END:VEVENT
BEGIN:VEVENT
DTSTART;TZID=Europe/London:20220512T120000
DTEND;TZID=Europe/London:20220512T143000
DTSTAMP:20260420T023227
CREATED:20211206T082054Z
LAST-MODIFIED:20211206T082054Z
UID:10000280-1652356800-1652365800@bakerstreetq.co.uk
SUMMARY:Food Market at 55 Baker Street
DESCRIPTION:Our food market returns to the outdoor atrium of 55 Baker Street from 12.00 to 14.30. A small but perfectly formed ‘mini’ market\, it will feature independent street-food stalls from our market partners Urban Food Fest. Everyone is welcome to drop by for a bite to eat. \n\nXurros Club | Mexican Tacos\nRummanco | Caribbean\nLilium Cakery | Cakes\nSoffrito | Italian // Pasta\nHush Hush | Deli\nMeli | Greek
URL:https://bakerstreetq.co.uk/event/food-market-at-55-baker-street-3/2022-05-12/
CATEGORIES:In Person
ATTACH;FMTTYPE=image/png:https://bakerstreetq.co.uk/wp-content/uploads/2021/12/55-Baker-Street-Market-events-page-2.png
END:VEVENT
BEGIN:VEVENT
DTSTART;TZID=Europe/London:20220512T120000
DTEND;TZID=Europe/London:20220512T143000
DTSTAMP:20260420T023227
CREATED:20211206T082054Z
LAST-MODIFIED:20211206T082054Z
UID:10000309-1652356800-1652365800@bakerstreetq.co.uk
SUMMARY:Food Market at 55 Baker Street
DESCRIPTION:Our food market returns to the outdoor atrium of 55 Baker Street from 12.00 to 14.30. A small but perfectly formed ‘mini’ market\, it will feature independent street-food stalls from our market partners Urban Food Fest. Everyone is welcome to drop by for a bite to eat. \n\nXurros Club | Mexican Tacos\nRummanco | Caribbean\nLilium Cakery | Cakes\nSoffrito | Italian // Pasta\nHush Hush | Deli\nMeli | Greek
URL:https://bakerstreetq.co.uk/event/food-market-at-55-baker-street-3/2022-05-12/
CATEGORIES:In Person
ATTACH;FMTTYPE=image/png:https://bakerstreetq.co.uk/wp-content/uploads/2021/12/55-Baker-Street-Market-events-page-2.png
END:VEVENT
BEGIN:VEVENT
DTSTART;TZID=Europe/London:20220512T120000
DTEND;TZID=Europe/London:20220512T143000
DTSTAMP:20260420T023227
CREATED:20211206T082054Z
LAST-MODIFIED:20211206T082054Z
UID:10000338-1652356800-1652365800@bakerstreetq.co.uk
SUMMARY:Food Market at 55 Baker Street
DESCRIPTION:Our food market returns to the outdoor atrium of 55 Baker Street from 12.00 to 14.30. A small but perfectly formed ‘mini’ market\, it will feature independent street-food stalls from our market partners Urban Food Fest. Everyone is welcome to drop by for a bite to eat. \n\nXurros Club | Mexican Tacos\nRummanco | Caribbean\nLilium Cakery | Cakes\nSoffrito | Italian // Pasta\nHush Hush | Deli\nMeli | Greek
URL:https://bakerstreetq.co.uk/event/food-market-at-55-baker-street-3/2022-05-12/
CATEGORIES:In Person
ATTACH;FMTTYPE=image/png:https://bakerstreetq.co.uk/wp-content/uploads/2021/12/55-Baker-Street-Market-events-page-2.png
END:VEVENT
BEGIN:VEVENT
DTSTART;TZID=Europe/London:20220512T120000
DTEND;TZID=Europe/London:20220512T143000
DTSTAMP:20260420T023227
CREATED:20211206T082054Z
LAST-MODIFIED:20211206T082054Z
UID:10000367-1652356800-1652365800@bakerstreetq.co.uk
SUMMARY:Food Market at 55 Baker Street
DESCRIPTION:Our food market returns to the outdoor atrium of 55 Baker Street from 12.00 to 14.30. A small but perfectly formed ‘mini’ market\, it will feature independent street-food stalls from our market partners Urban Food Fest. Everyone is welcome to drop by for a bite to eat. \n\nXurros Club | Mexican Tacos\nRummanco | Caribbean\nLilium Cakery | Cakes\nSoffrito | Italian // Pasta\nHush Hush | Deli\nMeli | Greek
URL:https://bakerstreetq.co.uk/event/food-market-at-55-baker-street-3/2022-05-12/
CATEGORIES:In Person
ATTACH;FMTTYPE=image/png:https://bakerstreetq.co.uk/wp-content/uploads/2021/12/55-Baker-Street-Market-events-page-2.png
END:VEVENT
BEGIN:VEVENT
DTSTART;TZID=Europe/London:20220512T120000
DTEND;TZID=Europe/London:20220512T143000
DTSTAMP:20260420T023227
CREATED:20211206T082054Z
LAST-MODIFIED:20211206T082054Z
UID:10000396-1652356800-1652365800@bakerstreetq.co.uk
SUMMARY:Food Market at 55 Baker Street
DESCRIPTION:Our food market returns to the outdoor atrium of 55 Baker Street from 12.00 to 14.30. A small but perfectly formed ‘mini’ market\, it will feature independent street-food stalls from our market partners Urban Food Fest. Everyone is welcome to drop by for a bite to eat. \n\nXurros Club | Mexican Tacos\nRummanco | Caribbean\nLilium Cakery | Cakes\nSoffrito | Italian // Pasta\nHush Hush | Deli\nMeli | Greek
URL:https://bakerstreetq.co.uk/event/food-market-at-55-baker-street-3/2022-05-12/
CATEGORIES:In Person
ATTACH;FMTTYPE=image/png:https://bakerstreetq.co.uk/wp-content/uploads/2021/12/55-Baker-Street-Market-events-page-2.png
END:VEVENT
BEGIN:VEVENT
DTSTART;TZID=Europe/London:20220512T120000
DTEND;TZID=Europe/London:20220512T143000
DTSTAMP:20260420T023227
CREATED:20211206T082054Z
LAST-MODIFIED:20211206T082054Z
UID:10000425-1652356800-1652365800@bakerstreetq.co.uk
SUMMARY:Food Market at 55 Baker Street
DESCRIPTION:Our food market returns to the outdoor atrium of 55 Baker Street from 12.00 to 14.30. A small but perfectly formed ‘mini’ market\, it will feature independent street-food stalls from our market partners Urban Food Fest. Everyone is welcome to drop by for a bite to eat. \n\nXurros Club | Mexican Tacos\nRummanco | Caribbean\nLilium Cakery | Cakes\nSoffrito | Italian // Pasta\nHush Hush | Deli\nMeli | Greek
URL:https://bakerstreetq.co.uk/event/food-market-at-55-baker-street-3/2022-05-12/
CATEGORIES:In Person
ATTACH;FMTTYPE=image/png:https://bakerstreetq.co.uk/wp-content/uploads/2021/12/55-Baker-Street-Market-events-page-2.png
END:VEVENT
BEGIN:VEVENT
DTSTART;TZID=Europe/London:20220512T120000
DTEND;TZID=Europe/London:20220512T143000
DTSTAMP:20260420T023227
CREATED:20211206T082054Z
LAST-MODIFIED:20211206T082054Z
UID:10000454-1652356800-1652365800@bakerstreetq.co.uk
SUMMARY:Food Market at 55 Baker Street
DESCRIPTION:Our food market returns to the outdoor atrium of 55 Baker Street from 12.00 to 14.30. A small but perfectly formed ‘mini’ market\, it will feature independent street-food stalls from our market partners Urban Food Fest. Everyone is welcome to drop by for a bite to eat. \n\nXurros Club | Mexican Tacos\nRummanco | Caribbean\nLilium Cakery | Cakes\nSoffrito | Italian // Pasta\nHush Hush | Deli\nMeli | Greek
URL:https://bakerstreetq.co.uk/event/food-market-at-55-baker-street-3/2022-05-12/
CATEGORIES:In Person
ATTACH;FMTTYPE=image/png:https://bakerstreetq.co.uk/wp-content/uploads/2021/12/55-Baker-Street-Market-events-page-2.png
END:VEVENT
BEGIN:VEVENT
DTSTART;TZID=Europe/London:20220512T120000
DTEND;TZID=Europe/London:20220512T143000
DTSTAMP:20260420T023227
CREATED:20211206T082054Z
LAST-MODIFIED:20211206T082054Z
UID:10000483-1652356800-1652365800@bakerstreetq.co.uk
SUMMARY:Food Market at 55 Baker Street
DESCRIPTION:Our food market returns to the outdoor atrium of 55 Baker Street from 12.00 to 14.30. A small but perfectly formed ‘mini’ market\, it will feature independent street-food stalls from our market partners Urban Food Fest. Everyone is welcome to drop by for a bite to eat. \n\nXurros Club | Mexican Tacos\nRummanco | Caribbean\nLilium Cakery | Cakes\nSoffrito | Italian // Pasta\nHush Hush | Deli\nMeli | Greek
URL:https://bakerstreetq.co.uk/event/food-market-at-55-baker-street-3/2022-05-12/
CATEGORIES:In Person
ATTACH;FMTTYPE=image/png:https://bakerstreetq.co.uk/wp-content/uploads/2021/12/55-Baker-Street-Market-events-page-2.png
END:VEVENT
BEGIN:VEVENT
DTSTART;TZID=Europe/London:20220512T120000
DTEND;TZID=Europe/London:20220512T143000
DTSTAMP:20260420T023227
CREATED:20211206T082054Z
LAST-MODIFIED:20211206T082054Z
UID:10000512-1652356800-1652365800@bakerstreetq.co.uk
SUMMARY:Food Market at 55 Baker Street
DESCRIPTION:Our food market returns to the outdoor atrium of 55 Baker Street from 12.00 to 14.30. A small but perfectly formed ‘mini’ market\, it will feature independent street-food stalls from our market partners Urban Food Fest. Everyone is welcome to drop by for a bite to eat. \n\nXurros Club | Mexican Tacos\nRummanco | Caribbean\nLilium Cakery | Cakes\nSoffrito | Italian // Pasta\nHush Hush | Deli\nMeli | Greek
URL:https://bakerstreetq.co.uk/event/food-market-at-55-baker-street-3/2022-05-12/
CATEGORIES:In Person
ATTACH;FMTTYPE=image/png:https://bakerstreetq.co.uk/wp-content/uploads/2021/12/55-Baker-Street-Market-events-page-2.png
END:VEVENT
BEGIN:VEVENT
DTSTART;TZID=Europe/London:20220512T120000
DTEND;TZID=Europe/London:20220512T143000
DTSTAMP:20260420T023227
CREATED:20211206T082054Z
LAST-MODIFIED:20211206T082054Z
UID:10000541-1652356800-1652365800@bakerstreetq.co.uk
SUMMARY:Food Market at 55 Baker Street
DESCRIPTION:Our food market returns to the outdoor atrium of 55 Baker Street from 12.00 to 14.30. A small but perfectly formed ‘mini’ market\, it will feature independent street-food stalls from our market partners Urban Food Fest. Everyone is welcome to drop by for a bite to eat. \n\nXurros Club | Mexican Tacos\nRummanco | Caribbean\nLilium Cakery | Cakes\nSoffrito | Italian // Pasta\nHush Hush | Deli\nMeli | Greek
URL:https://bakerstreetq.co.uk/event/food-market-at-55-baker-street-3/2022-05-12/
CATEGORIES:In Person
ATTACH;FMTTYPE=image/png:https://bakerstreetq.co.uk/wp-content/uploads/2021/12/55-Baker-Street-Market-events-page-2.png
END:VEVENT
BEGIN:VEVENT
DTSTART;TZID=Europe/London:20220512T120000
DTEND;TZID=Europe/London:20220512T143000
DTSTAMP:20260420T023227
CREATED:20211206T082054Z
LAST-MODIFIED:20211206T082054Z
UID:10000570-1652356800-1652365800@bakerstreetq.co.uk
SUMMARY:Food Market at 55 Baker Street
DESCRIPTION:Our food market returns to the outdoor atrium of 55 Baker Street from 12.00 to 14.30. A small but perfectly formed ‘mini’ market\, it will feature independent street-food stalls from our market partners Urban Food Fest. Everyone is welcome to drop by for a bite to eat. \n\nXurros Club | Mexican Tacos\nRummanco | Caribbean\nLilium Cakery | Cakes\nSoffrito | Italian // Pasta\nHush Hush | Deli\nMeli | Greek
URL:https://bakerstreetq.co.uk/event/food-market-at-55-baker-street-3/2022-05-12/
CATEGORIES:In Person
ATTACH;FMTTYPE=image/png:https://bakerstreetq.co.uk/wp-content/uploads/2021/12/55-Baker-Street-Market-events-page-2.png
END:VEVENT
BEGIN:VEVENT
DTSTART;TZID=Europe/London:20220512T120000
DTEND;TZID=Europe/London:20220512T143000
DTSTAMP:20260420T023227
CREATED:20211206T082054Z
LAST-MODIFIED:20211206T082054Z
UID:10000599-1652356800-1652365800@bakerstreetq.co.uk
SUMMARY:Food Market at 55 Baker Street
DESCRIPTION:Our food market returns to the outdoor atrium of 55 Baker Street from 12.00 to 14.30. A small but perfectly formed ‘mini’ market\, it will feature independent street-food stalls from our market partners Urban Food Fest. Everyone is welcome to drop by for a bite to eat. \n\nXurros Club | Mexican Tacos\nRummanco | Caribbean\nLilium Cakery | Cakes\nSoffrito | Italian // Pasta\nHush Hush | Deli\nMeli | Greek
URL:https://bakerstreetq.co.uk/event/food-market-at-55-baker-street-3/2022-05-12/
CATEGORIES:In Person
ATTACH;FMTTYPE=image/png:https://bakerstreetq.co.uk/wp-content/uploads/2021/12/55-Baker-Street-Market-events-page-2.png
END:VEVENT
BEGIN:VEVENT
DTSTART;TZID=Europe/London:20220512T120000
DTEND;TZID=Europe/London:20220512T143000
DTSTAMP:20260420T023227
CREATED:20211206T082054Z
LAST-MODIFIED:20211206T082054Z
UID:10000640-1652356800-1652365800@bakerstreetq.co.uk
SUMMARY:Food Market at 55 Baker Street
DESCRIPTION:Our food market returns to the outdoor atrium of 55 Baker Street from 12.00 to 14.30. A small but perfectly formed ‘mini’ market\, it will feature independent street-food stalls from our market partners Urban Food Fest. Everyone is welcome to drop by for a bite to eat. \n\nXurros Club | Mexican Tacos\nRummanco | Caribbean\nLilium Cakery | Cakes\nSoffrito | Italian // Pasta\nHush Hush | Deli\nMeli | Greek
URL:https://bakerstreetq.co.uk/event/food-market-at-55-baker-street-3/2022-05-12/
CATEGORIES:In Person
ATTACH;FMTTYPE=image/png:https://bakerstreetq.co.uk/wp-content/uploads/2021/12/55-Baker-Street-Market-events-page-2.png
END:VEVENT
BEGIN:VEVENT
DTSTART;TZID=Europe/London:20220512T120000
DTEND;TZID=Europe/London:20220512T143000
DTSTAMP:20260420T023227
CREATED:20211206T082054Z
LAST-MODIFIED:20211206T082054Z
UID:10000669-1652356800-1652365800@bakerstreetq.co.uk
SUMMARY:Food Market at 55 Baker Street
DESCRIPTION:Our food market returns to the outdoor atrium of 55 Baker Street from 12.00 to 14.30. A small but perfectly formed ‘mini’ market\, it will feature independent street-food stalls from our market partners Urban Food Fest. Everyone is welcome to drop by for a bite to eat. \n\nXurros Club | Mexican Tacos\nRummanco | Caribbean\nLilium Cakery | Cakes\nSoffrito | Italian // Pasta\nHush Hush | Deli\nMeli | Greek
URL:https://bakerstreetq.co.uk/event/food-market-at-55-baker-street-3/2022-05-12/
CATEGORIES:In Person
ATTACH;FMTTYPE=image/png:https://bakerstreetq.co.uk/wp-content/uploads/2021/12/55-Baker-Street-Market-events-page-2.png
END:VEVENT
BEGIN:VEVENT
DTSTART;TZID=Europe/London:20220512T120000
DTEND;TZID=Europe/London:20220512T143000
DTSTAMP:20260420T023227
CREATED:20211206T082054Z
LAST-MODIFIED:20211206T082054Z
UID:10000698-1652356800-1652365800@bakerstreetq.co.uk
SUMMARY:Food Market at 55 Baker Street
DESCRIPTION:Our food market returns to the outdoor atrium of 55 Baker Street from 12.00 to 14.30. A small but perfectly formed ‘mini’ market\, it will feature independent street-food stalls from our market partners Urban Food Fest. Everyone is welcome to drop by for a bite to eat. \n\nXurros Club | Mexican Tacos\nRummanco | Caribbean\nLilium Cakery | Cakes\nSoffrito | Italian // Pasta\nHush Hush | Deli\nMeli | Greek
URL:https://bakerstreetq.co.uk/event/food-market-at-55-baker-street-3/2022-05-12/
CATEGORIES:In Person
ATTACH;FMTTYPE=image/png:https://bakerstreetq.co.uk/wp-content/uploads/2021/12/55-Baker-Street-Market-events-page-2.png
END:VEVENT
BEGIN:VEVENT
DTSTART;TZID=Europe/London:20220512T120000
DTEND;TZID=Europe/London:20220512T143000
DTSTAMP:20260420T023227
CREATED:20211206T082054Z
LAST-MODIFIED:20211206T082054Z
UID:10000727-1652356800-1652365800@bakerstreetq.co.uk
SUMMARY:Food Market at 55 Baker Street
DESCRIPTION:Our food market returns to the outdoor atrium of 55 Baker Street from 12.00 to 14.30. A small but perfectly formed ‘mini’ market\, it will feature independent street-food stalls from our market partners Urban Food Fest. Everyone is welcome to drop by for a bite to eat. \n\nXurros Club | Mexican Tacos\nRummanco | Caribbean\nLilium Cakery | Cakes\nSoffrito | Italian // Pasta\nHush Hush | Deli\nMeli | Greek
URL:https://bakerstreetq.co.uk/event/food-market-at-55-baker-street-3/2022-05-12/
CATEGORIES:In Person
ATTACH;FMTTYPE=image/png:https://bakerstreetq.co.uk/wp-content/uploads/2021/12/55-Baker-Street-Market-events-page-2.png
END:VEVENT
BEGIN:VEVENT
DTSTART;TZID=Europe/London:20220512T120000
DTEND;TZID=Europe/London:20220512T143000
DTSTAMP:20260420T023227
CREATED:20211206T082054Z
LAST-MODIFIED:20211206T082054Z
UID:10000756-1652356800-1652365800@bakerstreetq.co.uk
SUMMARY:Food Market at 55 Baker Street
DESCRIPTION:Our food market returns to the outdoor atrium of 55 Baker Street from 12.00 to 14.30. A small but perfectly formed ‘mini’ market\, it will feature independent street-food stalls from our market partners Urban Food Fest. Everyone is welcome to drop by for a bite to eat. \n\nXurros Club | Mexican Tacos\nRummanco | Caribbean\nLilium Cakery | Cakes\nSoffrito | Italian // Pasta\nHush Hush | Deli\nMeli | Greek
URL:https://bakerstreetq.co.uk/event/food-market-at-55-baker-street-3/2022-05-12/
CATEGORIES:In Person
ATTACH;FMTTYPE=image/png:https://bakerstreetq.co.uk/wp-content/uploads/2021/12/55-Baker-Street-Market-events-page-2.png
END:VEVENT
BEGIN:VEVENT
DTSTART;TZID=Europe/London:20220512T120000
DTEND;TZID=Europe/London:20220512T143000
DTSTAMP:20260420T023227
CREATED:20211206T082054Z
LAST-MODIFIED:20211206T082054Z
UID:10000785-1652356800-1652365800@bakerstreetq.co.uk
SUMMARY:Food Market at 55 Baker Street
DESCRIPTION:Our food market returns to the outdoor atrium of 55 Baker Street from 12.00 to 14.30. A small but perfectly formed ‘mini’ market\, it will feature independent street-food stalls from our market partners Urban Food Fest. Everyone is welcome to drop by for a bite to eat. \n\nXurros Club | Mexican Tacos\nRummanco | Caribbean\nLilium Cakery | Cakes\nSoffrito | Italian // Pasta\nHush Hush | Deli\nMeli | Greek
URL:https://bakerstreetq.co.uk/event/food-market-at-55-baker-street-3/2022-05-12/
CATEGORIES:In Person
ATTACH;FMTTYPE=image/png:https://bakerstreetq.co.uk/wp-content/uploads/2021/12/55-Baker-Street-Market-events-page-2.png
END:VEVENT
BEGIN:VEVENT
DTSTART;TZID=Europe/London:20220512T120000
DTEND;TZID=Europe/London:20220512T143000
DTSTAMP:20260420T023227
CREATED:20211206T082054Z
LAST-MODIFIED:20211206T082054Z
UID:10000814-1652356800-1652365800@bakerstreetq.co.uk
SUMMARY:Food Market at 55 Baker Street
DESCRIPTION:Our food market returns to the outdoor atrium of 55 Baker Street from 12.00 to 14.30. A small but perfectly formed ‘mini’ market\, it will feature independent street-food stalls from our market partners Urban Food Fest. Everyone is welcome to drop by for a bite to eat. \n\nXurros Club | Mexican Tacos\nRummanco | Caribbean\nLilium Cakery | Cakes\nSoffrito | Italian // Pasta\nHush Hush | Deli\nMeli | Greek
URL:https://bakerstreetq.co.uk/event/food-market-at-55-baker-street-3/2022-05-12/
CATEGORIES:In Person
ATTACH;FMTTYPE=image/png:https://bakerstreetq.co.uk/wp-content/uploads/2021/12/55-Baker-Street-Market-events-page-2.png
END:VEVENT
BEGIN:VEVENT
DTSTART;TZID=Europe/London:20220512T120000
DTEND;TZID=Europe/London:20220512T143000
DTSTAMP:20260420T023227
CREATED:20211206T082054Z
LAST-MODIFIED:20211206T082054Z
UID:10000843-1652356800-1652365800@bakerstreetq.co.uk
SUMMARY:Food Market at 55 Baker Street
DESCRIPTION:Our food market returns to the outdoor atrium of 55 Baker Street from 12.00 to 14.30. A small but perfectly formed ‘mini’ market\, it will feature independent street-food stalls from our market partners Urban Food Fest. Everyone is welcome to drop by for a bite to eat. \n\nXurros Club | Mexican Tacos\nRummanco | Caribbean\nLilium Cakery | Cakes\nSoffrito | Italian // Pasta\nHush Hush | Deli\nMeli | Greek
URL:https://bakerstreetq.co.uk/event/food-market-at-55-baker-street-3/2022-05-12/
CATEGORIES:In Person
ATTACH;FMTTYPE=image/png:https://bakerstreetq.co.uk/wp-content/uploads/2021/12/55-Baker-Street-Market-events-page-2.png
END:VEVENT
BEGIN:VEVENT
DTSTART;TZID=Europe/London:20220512T120000
DTEND;TZID=Europe/London:20220512T143000
DTSTAMP:20260420T023227
CREATED:20211206T082054Z
LAST-MODIFIED:20211206T082054Z
UID:10000872-1652356800-1652365800@bakerstreetq.co.uk
SUMMARY:Food Market at 55 Baker Street
DESCRIPTION:Our food market returns to the outdoor atrium of 55 Baker Street from 12.00 to 14.30. A small but perfectly formed ‘mini’ market\, it will feature independent street-food stalls from our market partners Urban Food Fest. Everyone is welcome to drop by for a bite to eat. \n\nXurros Club | Mexican Tacos\nRummanco | Caribbean\nLilium Cakery | Cakes\nSoffrito | Italian // Pasta\nHush Hush | Deli\nMeli | Greek
URL:https://bakerstreetq.co.uk/event/food-market-at-55-baker-street-3/2022-05-12/
CATEGORIES:In Person
ATTACH;FMTTYPE=image/png:https://bakerstreetq.co.uk/wp-content/uploads/2021/12/55-Baker-Street-Market-events-page-2.png
END:VEVENT
BEGIN:VEVENT
DTSTART;TZID=Europe/London:20220511T130000
DTEND;TZID=Europe/London:20220511T134500
DTSTAMP:20260420T023227
CREATED:20220401T162307Z
LAST-MODIFIED:20220401T162307Z
UID:10000933-1652274000-1652276700@bakerstreetq.co.uk
SUMMARY:Dance Yoga Online Club
DESCRIPTION:Bring your lunch break to life with our Dance Yoga Club with feel good yoga flow choreographed to a well-known song. \nTo celebrate Mental Health Awareness Month\, this session promises to be uplifting combining the benefits of both yoga and breath work with all the endorphins of a dance class. \nEveryone is welcome at this fun and energising class. There is no pressure to move like Darcy Bussell either as the session is low pressure and subtle on the body. \nAll you will need is a yoga mat or soft surface to practice on and clothes you can move and wiggle comfortably in!
URL:https://bakerstreetq.co.uk/event/dance-yoga-online-club-3/
CATEGORIES:Virtual
ATTACH;FMTTYPE=image/png:https://bakerstreetq.co.uk/wp-content/uploads/2022/04/dance-yoga-1.png
END:VEVENT
BEGIN:VEVENT
DTSTART;TZID=Europe/London:20220510T133000
DTEND;TZID=Europe/London:20220510T140000
DTSTAMP:20260420T023227
CREATED:20220331T125127Z
LAST-MODIFIED:20220331T125127Z
UID:10000929-1652189400-1652191200@bakerstreetq.co.uk
SUMMARY:How to Prevent Burnout
DESCRIPTION:A concise networking event to help you connect with other businesses and build relationships within the Quarter. This event will be full of connections\, good conversations and interesting insights focusing on How to Prevent Burnout. You will find out the difference between stress and burnout\, understanding the signs and symptoms of burnout and how to prevent burnout and nurture good mental health. \nBakerStreetQ presents guest presenter Tania Diggory\, an author\, entrepreneur and international Burnout Prevention speaker. Tania is the Founder and Director of Calmer\, a global award-winning training organisation based in the UK\, empowering entrepreneurs\, freelancers\, and business teams to nurture good mental health and wellbeing. As a qualified NLP Practitioner\, Mindfulness Teacher and Mental Health Trainer & First Aider\, Tania is passionate about raising awareness about the importance of balancing mental wellbeing with business success. \nThis event is is exclusive to employees of Baker Street Quarter Partnership member businesses. To check if your business is a member\, email info@bakerstreetq.co.uk.
URL:https://bakerstreetq.co.uk/event/how-to-prevent-burnout-3/
CATEGORIES:Virtual
ATTACH;FMTTYPE=image/png:https://bakerstreetq.co.uk/wp-content/uploads/2022/03/burnout-prevention.png
END:VEVENT
END:VCALENDAR