BEGIN:VCALENDAR
VERSION:2.0
PRODID:-//Baker Street Quarter Partnership - ECPv6.15.20//NONSGML v1.0//EN
CALSCALE:GREGORIAN
METHOD:PUBLISH
X-WR-CALNAME:Baker Street Quarter Partnership
X-ORIGINAL-URL:https://bakerstreetq.co.uk
X-WR-CALDESC:Events for Baker Street Quarter Partnership
REFRESH-INTERVAL;VALUE=DURATION:PT1H
X-Robots-Tag:noindex
X-PUBLISHED-TTL:PT1H
BEGIN:VTIMEZONE
TZID:Europe/London
BEGIN:DAYLIGHT
TZOFFSETFROM:+0000
TZOFFSETTO:+0100
TZNAME:BST
DTSTART:20210328T010000
END:DAYLIGHT
BEGIN:STANDARD
TZOFFSETFROM:+0100
TZOFFSETTO:+0000
TZNAME:GMT
DTSTART:20211031T010000
END:STANDARD
BEGIN:DAYLIGHT
TZOFFSETFROM:+0000
TZOFFSETTO:+0100
TZNAME:BST
DTSTART:20220327T010000
END:DAYLIGHT
BEGIN:STANDARD
TZOFFSETFROM:+0100
TZOFFSETTO:+0000
TZNAME:GMT
DTSTART:20221030T010000
END:STANDARD
BEGIN:DAYLIGHT
TZOFFSETFROM:+0000
TZOFFSETTO:+0100
TZNAME:BST
DTSTART:20230326T010000
END:DAYLIGHT
BEGIN:STANDARD
TZOFFSETFROM:+0100
TZOFFSETTO:+0000
TZNAME:GMT
DTSTART:20231029T010000
END:STANDARD
END:VTIMEZONE
BEGIN:VEVENT
DTSTART;TZID=Europe/London:20220127T180000
DTEND;TZID=Europe/London:20220127T190000
DTSTAMP:20260423T030355
CREATED:20220117T094841Z
LAST-MODIFIED:20220117T094841Z
UID:10000895-1643306400-1643310000@bakerstreetq.co.uk
SUMMARY:A Garden for all Season - Sketch and Chat
DESCRIPTION:Create your own botanical-themed collage with this inspiring online winter workshop which can be enjoyed from home. \nYou will work with artist Alice Barton Roche to explore flowers and foliage across all four seasons\, which will help us to shape a potential new public artwork for Marylebone. \nThis workshop is suitable for all age groups and abilities\, with only the most basic art materials required. You can use any paper\, pens and pencils you have to hand\, and also download our online collage pack for further inspiration\, which will be available shortly.  \nThe workshop and public artwork is a collaborative project with partners\, Baker Street Quarter Partnership\, The Portman Estate and Westminster City Council.
URL:https://bakerstreetq.co.uk/event/a-garden-for-all-season-sketch-and-chat-3/2022-01-27/
CATEGORIES:Virtual
ATTACH;FMTTYPE=image/jpeg:https://bakerstreetq.co.uk/wp-content/uploads/2022/01/Drawing-Workshop-scaled.jpeg
END:VEVENT
BEGIN:VEVENT
DTSTART;TZID=Europe/London:20220127T180000
DTEND;TZID=Europe/London:20220127T190000
DTSTAMP:20260423T030356
CREATED:20220117T094841Z
LAST-MODIFIED:20220117T094841Z
UID:10000630-1643306400-1643310000@bakerstreetq.co.uk
SUMMARY:A Garden for all Season - Sketch and Chat
DESCRIPTION:Create your own botanical-themed collage with this inspiring online winter workshop which can be enjoyed from home. \nYou will work with artist Alice Barton Roche to explore flowers and foliage across all four seasons\, which will help us to shape a potential new public artwork for Marylebone. \nThis workshop is suitable for all age groups and abilities\, with only the most basic art materials required. You can use any paper\, pens and pencils you have to hand\, and also download our online collage pack for further inspiration\, which will be available shortly.  \nThe workshop and public artwork is a collaborative project with partners\, Baker Street Quarter Partnership\, The Portman Estate and Westminster City Council.
URL:https://bakerstreetq.co.uk/event/a-garden-for-all-season-sketch-and-chat-3/2022-01-27/
CATEGORIES:Virtual
ATTACH;FMTTYPE=image/jpeg:https://bakerstreetq.co.uk/wp-content/uploads/2022/01/Drawing-Workshop-scaled.jpeg
END:VEVENT
BEGIN:VEVENT
DTSTART;TZID=Europe/London:20220127T120000
DTEND;TZID=Europe/London:20220127T150000
DTSTAMP:20260423T030356
CREATED:20211206T082054Z
LAST-MODIFIED:20211206T082054Z
UID:10000592-1643284800-1643295600@bakerstreetq.co.uk
SUMMARY:Food Market at 55 Baker Street
DESCRIPTION:Our food market returns to the outdoor atrium of 55 Baker Street from 12.00 to 14.30. A small but perfectly formed ‘mini’ market\, it will feature independent street-food stalls from our market partners Urban Food Fest. Everyone is welcome to drop by for a bite to eat. \n\nXurros Club | Mexican Tacos\nRummanco | Caribbean\nLilium Cakery | Cakes\nSoffrito | Italian // Pasta\nHush Hush | Deli\nMeli | Greek
URL:https://bakerstreetq.co.uk/event/food-market-at-55-baker-street-3/2022-01-27/
CATEGORIES:In Person
ATTACH;FMTTYPE=image/png:https://bakerstreetq.co.uk/wp-content/uploads/2021/12/55-Baker-Street-Market-events-page-2.png
END:VEVENT
BEGIN:VEVENT
DTSTART;TZID=Europe/London:20220127T120000
DTEND;TZID=Europe/London:20220127T150000
DTSTAMP:20260423T030356
CREATED:20211206T082054Z
LAST-MODIFIED:20211206T082054Z
UID:10000302-1643284800-1643295600@bakerstreetq.co.uk
SUMMARY:Food Market at 55 Baker Street
DESCRIPTION:Our food market returns to the outdoor atrium of 55 Baker Street from 12.00 to 14.30. A small but perfectly formed ‘mini’ market\, it will feature independent street-food stalls from our market partners Urban Food Fest. Everyone is welcome to drop by for a bite to eat. \n\nXurros Club | Mexican Tacos\nRummanco | Caribbean\nLilium Cakery | Cakes\nSoffrito | Italian // Pasta\nHush Hush | Deli\nMeli | Greek
URL:https://bakerstreetq.co.uk/event/food-market-at-55-baker-street-3/2022-01-27/
CATEGORIES:In Person
ATTACH;FMTTYPE=image/png:https://bakerstreetq.co.uk/wp-content/uploads/2021/12/55-Baker-Street-Market-events-page-2.png
END:VEVENT
BEGIN:VEVENT
DTSTART;TZID=Europe/London:20220127T120000
DTEND;TZID=Europe/London:20220127T150000
DTSTAMP:20260423T030356
CREATED:20211206T082054Z
LAST-MODIFIED:20211206T082054Z
UID:10000331-1643284800-1643295600@bakerstreetq.co.uk
SUMMARY:Food Market at 55 Baker Street
DESCRIPTION:Our food market returns to the outdoor atrium of 55 Baker Street from 12.00 to 14.30. A small but perfectly formed ‘mini’ market\, it will feature independent street-food stalls from our market partners Urban Food Fest. Everyone is welcome to drop by for a bite to eat. \n\nXurros Club | Mexican Tacos\nRummanco | Caribbean\nLilium Cakery | Cakes\nSoffrito | Italian // Pasta\nHush Hush | Deli\nMeli | Greek
URL:https://bakerstreetq.co.uk/event/food-market-at-55-baker-street-3/2022-01-27/
CATEGORIES:In Person
ATTACH;FMTTYPE=image/png:https://bakerstreetq.co.uk/wp-content/uploads/2021/12/55-Baker-Street-Market-events-page-2.png
END:VEVENT
BEGIN:VEVENT
DTSTART;TZID=Europe/London:20220127T120000
DTEND;TZID=Europe/London:20220127T150000
DTSTAMP:20260423T030356
CREATED:20211206T082054Z
LAST-MODIFIED:20211206T082054Z
UID:10000360-1643284800-1643295600@bakerstreetq.co.uk
SUMMARY:Food Market at 55 Baker Street
DESCRIPTION:Our food market returns to the outdoor atrium of 55 Baker Street from 12.00 to 14.30. A small but perfectly formed ‘mini’ market\, it will feature independent street-food stalls from our market partners Urban Food Fest. Everyone is welcome to drop by for a bite to eat. \n\nXurros Club | Mexican Tacos\nRummanco | Caribbean\nLilium Cakery | Cakes\nSoffrito | Italian // Pasta\nHush Hush | Deli\nMeli | Greek
URL:https://bakerstreetq.co.uk/event/food-market-at-55-baker-street-3/2022-01-27/
CATEGORIES:In Person
ATTACH;FMTTYPE=image/png:https://bakerstreetq.co.uk/wp-content/uploads/2021/12/55-Baker-Street-Market-events-page-2.png
END:VEVENT
BEGIN:VEVENT
DTSTART;TZID=Europe/London:20220127T120000
DTEND;TZID=Europe/London:20220127T150000
DTSTAMP:20260423T030356
CREATED:20211206T082054Z
LAST-MODIFIED:20211206T082054Z
UID:10000389-1643284800-1643295600@bakerstreetq.co.uk
SUMMARY:Food Market at 55 Baker Street
DESCRIPTION:Our food market returns to the outdoor atrium of 55 Baker Street from 12.00 to 14.30. A small but perfectly formed ‘mini’ market\, it will feature independent street-food stalls from our market partners Urban Food Fest. Everyone is welcome to drop by for a bite to eat. \n\nXurros Club | Mexican Tacos\nRummanco | Caribbean\nLilium Cakery | Cakes\nSoffrito | Italian // Pasta\nHush Hush | Deli\nMeli | Greek
URL:https://bakerstreetq.co.uk/event/food-market-at-55-baker-street-3/2022-01-27/
CATEGORIES:In Person
ATTACH;FMTTYPE=image/png:https://bakerstreetq.co.uk/wp-content/uploads/2021/12/55-Baker-Street-Market-events-page-2.png
END:VEVENT
BEGIN:VEVENT
DTSTART;TZID=Europe/London:20220127T120000
DTEND;TZID=Europe/London:20220127T150000
DTSTAMP:20260423T030356
CREATED:20211206T082054Z
LAST-MODIFIED:20211206T082054Z
UID:10000418-1643284800-1643295600@bakerstreetq.co.uk
SUMMARY:Food Market at 55 Baker Street
DESCRIPTION:Our food market returns to the outdoor atrium of 55 Baker Street from 12.00 to 14.30. A small but perfectly formed ‘mini’ market\, it will feature independent street-food stalls from our market partners Urban Food Fest. Everyone is welcome to drop by for a bite to eat. \n\nXurros Club | Mexican Tacos\nRummanco | Caribbean\nLilium Cakery | Cakes\nSoffrito | Italian // Pasta\nHush Hush | Deli\nMeli | Greek
URL:https://bakerstreetq.co.uk/event/food-market-at-55-baker-street-3/2022-01-27/
CATEGORIES:In Person
ATTACH;FMTTYPE=image/png:https://bakerstreetq.co.uk/wp-content/uploads/2021/12/55-Baker-Street-Market-events-page-2.png
END:VEVENT
BEGIN:VEVENT
DTSTART;TZID=Europe/London:20220127T120000
DTEND;TZID=Europe/London:20220127T150000
DTSTAMP:20260423T030356
CREATED:20211206T082054Z
LAST-MODIFIED:20211206T082054Z
UID:10000447-1643284800-1643295600@bakerstreetq.co.uk
SUMMARY:Food Market at 55 Baker Street
DESCRIPTION:Our food market returns to the outdoor atrium of 55 Baker Street from 12.00 to 14.30. A small but perfectly formed ‘mini’ market\, it will feature independent street-food stalls from our market partners Urban Food Fest. Everyone is welcome to drop by for a bite to eat. \n\nXurros Club | Mexican Tacos\nRummanco | Caribbean\nLilium Cakery | Cakes\nSoffrito | Italian // Pasta\nHush Hush | Deli\nMeli | Greek
URL:https://bakerstreetq.co.uk/event/food-market-at-55-baker-street-3/2022-01-27/
CATEGORIES:In Person
ATTACH;FMTTYPE=image/png:https://bakerstreetq.co.uk/wp-content/uploads/2021/12/55-Baker-Street-Market-events-page-2.png
END:VEVENT
BEGIN:VEVENT
DTSTART;TZID=Europe/London:20220127T120000
DTEND;TZID=Europe/London:20220127T150000
DTSTAMP:20260423T030356
CREATED:20211206T082054Z
LAST-MODIFIED:20211206T082054Z
UID:10000505-1643284800-1643295600@bakerstreetq.co.uk
SUMMARY:Food Market at 55 Baker Street
DESCRIPTION:Our food market returns to the outdoor atrium of 55 Baker Street from 12.00 to 14.30. A small but perfectly formed ‘mini’ market\, it will feature independent street-food stalls from our market partners Urban Food Fest. Everyone is welcome to drop by for a bite to eat. \n\nXurros Club | Mexican Tacos\nRummanco | Caribbean\nLilium Cakery | Cakes\nSoffrito | Italian // Pasta\nHush Hush | Deli\nMeli | Greek
URL:https://bakerstreetq.co.uk/event/food-market-at-55-baker-street-3/2022-01-27/
CATEGORIES:In Person
ATTACH;FMTTYPE=image/png:https://bakerstreetq.co.uk/wp-content/uploads/2021/12/55-Baker-Street-Market-events-page-2.png
END:VEVENT
BEGIN:VEVENT
DTSTART;TZID=Europe/London:20220127T120000
DTEND;TZID=Europe/London:20220127T150000
DTSTAMP:20260423T030356
CREATED:20211206T082054Z
LAST-MODIFIED:20211206T082054Z
UID:10000534-1643284800-1643295600@bakerstreetq.co.uk
SUMMARY:Food Market at 55 Baker Street
DESCRIPTION:Our food market returns to the outdoor atrium of 55 Baker Street from 12.00 to 14.30. A small but perfectly formed ‘mini’ market\, it will feature independent street-food stalls from our market partners Urban Food Fest. Everyone is welcome to drop by for a bite to eat. \n\nXurros Club | Mexican Tacos\nRummanco | Caribbean\nLilium Cakery | Cakes\nSoffrito | Italian // Pasta\nHush Hush | Deli\nMeli | Greek
URL:https://bakerstreetq.co.uk/event/food-market-at-55-baker-street-3/2022-01-27/
CATEGORIES:In Person
ATTACH;FMTTYPE=image/png:https://bakerstreetq.co.uk/wp-content/uploads/2021/12/55-Baker-Street-Market-events-page-2.png
END:VEVENT
BEGIN:VEVENT
DTSTART;TZID=Europe/London:20220127T120000
DTEND;TZID=Europe/London:20220127T150000
DTSTAMP:20260423T030356
CREATED:20211206T082054Z
LAST-MODIFIED:20211206T082054Z
UID:10000563-1643284800-1643295600@bakerstreetq.co.uk
SUMMARY:Food Market at 55 Baker Street
DESCRIPTION:Our food market returns to the outdoor atrium of 55 Baker Street from 12.00 to 14.30. A small but perfectly formed ‘mini’ market\, it will feature independent street-food stalls from our market partners Urban Food Fest. Everyone is welcome to drop by for a bite to eat. \n\nXurros Club | Mexican Tacos\nRummanco | Caribbean\nLilium Cakery | Cakes\nSoffrito | Italian // Pasta\nHush Hush | Deli\nMeli | Greek
URL:https://bakerstreetq.co.uk/event/food-market-at-55-baker-street-3/2022-01-27/
CATEGORIES:In Person
ATTACH;FMTTYPE=image/png:https://bakerstreetq.co.uk/wp-content/uploads/2021/12/55-Baker-Street-Market-events-page-2.png
END:VEVENT
BEGIN:VEVENT
DTSTART;TZID=Europe/London:20220127T120000
DTEND;TZID=Europe/London:20220127T150000
DTSTAMP:20260423T030356
CREATED:20211206T082054Z
LAST-MODIFIED:20211206T082054Z
UID:10000865-1643284800-1643295600@bakerstreetq.co.uk
SUMMARY:Food Market at 55 Baker Street
DESCRIPTION:Our food market returns to the outdoor atrium of 55 Baker Street from 12.00 to 14.30. A small but perfectly formed ‘mini’ market\, it will feature independent street-food stalls from our market partners Urban Food Fest. Everyone is welcome to drop by for a bite to eat. \n\nXurros Club | Mexican Tacos\nRummanco | Caribbean\nLilium Cakery | Cakes\nSoffrito | Italian // Pasta\nHush Hush | Deli\nMeli | Greek
URL:https://bakerstreetq.co.uk/event/food-market-at-55-baker-street-3/2022-01-27/
CATEGORIES:In Person
ATTACH;FMTTYPE=image/png:https://bakerstreetq.co.uk/wp-content/uploads/2021/12/55-Baker-Street-Market-events-page-2.png
END:VEVENT
BEGIN:VEVENT
DTSTART;TZID=Europe/London:20220127T120000
DTEND;TZID=Europe/London:20220127T150000
DTSTAMP:20260423T030356
CREATED:20211206T082054Z
LAST-MODIFIED:20211206T082054Z
UID:10000476-1643284800-1643295600@bakerstreetq.co.uk
SUMMARY:Food Market at 55 Baker Street
DESCRIPTION:Our food market returns to the outdoor atrium of 55 Baker Street from 12.00 to 14.30. A small but perfectly formed ‘mini’ market\, it will feature independent street-food stalls from our market partners Urban Food Fest. Everyone is welcome to drop by for a bite to eat. \n\nXurros Club | Mexican Tacos\nRummanco | Caribbean\nLilium Cakery | Cakes\nSoffrito | Italian // Pasta\nHush Hush | Deli\nMeli | Greek
URL:https://bakerstreetq.co.uk/event/food-market-at-55-baker-street-3/2022-01-27/
CATEGORIES:In Person
ATTACH;FMTTYPE=image/png:https://bakerstreetq.co.uk/wp-content/uploads/2021/12/55-Baker-Street-Market-events-page-2.png
END:VEVENT
BEGIN:VEVENT
DTSTART;TZID=Europe/London:20220127T120000
DTEND;TZID=Europe/London:20220127T150000
DTSTAMP:20260423T030356
CREATED:20211206T082054Z
LAST-MODIFIED:20211206T082054Z
UID:10000633-1643284800-1643295600@bakerstreetq.co.uk
SUMMARY:Food Market at 55 Baker Street
DESCRIPTION:Our food market returns to the outdoor atrium of 55 Baker Street from 12.00 to 14.30. A small but perfectly formed ‘mini’ market\, it will feature independent street-food stalls from our market partners Urban Food Fest. Everyone is welcome to drop by for a bite to eat. \n\nXurros Club | Mexican Tacos\nRummanco | Caribbean\nLilium Cakery | Cakes\nSoffrito | Italian // Pasta\nHush Hush | Deli\nMeli | Greek
URL:https://bakerstreetq.co.uk/event/food-market-at-55-baker-street-3/2022-01-27/
CATEGORIES:In Person
ATTACH;FMTTYPE=image/png:https://bakerstreetq.co.uk/wp-content/uploads/2021/12/55-Baker-Street-Market-events-page-2.png
END:VEVENT
BEGIN:VEVENT
DTSTART;TZID=Europe/London:20220127T120000
DTEND;TZID=Europe/London:20220127T150000
DTSTAMP:20260423T030356
CREATED:20211206T082054Z
LAST-MODIFIED:20211206T082054Z
UID:10000662-1643284800-1643295600@bakerstreetq.co.uk
SUMMARY:Food Market at 55 Baker Street
DESCRIPTION:Our food market returns to the outdoor atrium of 55 Baker Street from 12.00 to 14.30. A small but perfectly formed ‘mini’ market\, it will feature independent street-food stalls from our market partners Urban Food Fest. Everyone is welcome to drop by for a bite to eat. \n\nXurros Club | Mexican Tacos\nRummanco | Caribbean\nLilium Cakery | Cakes\nSoffrito | Italian // Pasta\nHush Hush | Deli\nMeli | Greek
URL:https://bakerstreetq.co.uk/event/food-market-at-55-baker-street-3/2022-01-27/
CATEGORIES:In Person
ATTACH;FMTTYPE=image/png:https://bakerstreetq.co.uk/wp-content/uploads/2021/12/55-Baker-Street-Market-events-page-2.png
END:VEVENT
BEGIN:VEVENT
DTSTART;TZID=Europe/London:20220127T120000
DTEND;TZID=Europe/London:20220127T150000
DTSTAMP:20260423T030356
CREATED:20211206T082054Z
LAST-MODIFIED:20211206T082054Z
UID:10000691-1643284800-1643295600@bakerstreetq.co.uk
SUMMARY:Food Market at 55 Baker Street
DESCRIPTION:Our food market returns to the outdoor atrium of 55 Baker Street from 12.00 to 14.30. A small but perfectly formed ‘mini’ market\, it will feature independent street-food stalls from our market partners Urban Food Fest. Everyone is welcome to drop by for a bite to eat. \n\nXurros Club | Mexican Tacos\nRummanco | Caribbean\nLilium Cakery | Cakes\nSoffrito | Italian // Pasta\nHush Hush | Deli\nMeli | Greek
URL:https://bakerstreetq.co.uk/event/food-market-at-55-baker-street-3/2022-01-27/
CATEGORIES:In Person
ATTACH;FMTTYPE=image/png:https://bakerstreetq.co.uk/wp-content/uploads/2021/12/55-Baker-Street-Market-events-page-2.png
END:VEVENT
BEGIN:VEVENT
DTSTART;TZID=Europe/London:20220127T120000
DTEND;TZID=Europe/London:20220127T150000
DTSTAMP:20260423T030356
CREATED:20211206T082054Z
LAST-MODIFIED:20211206T082054Z
UID:10000720-1643284800-1643295600@bakerstreetq.co.uk
SUMMARY:Food Market at 55 Baker Street
DESCRIPTION:Our food market returns to the outdoor atrium of 55 Baker Street from 12.00 to 14.30. A small but perfectly formed ‘mini’ market\, it will feature independent street-food stalls from our market partners Urban Food Fest. Everyone is welcome to drop by for a bite to eat. \n\nXurros Club | Mexican Tacos\nRummanco | Caribbean\nLilium Cakery | Cakes\nSoffrito | Italian // Pasta\nHush Hush | Deli\nMeli | Greek
URL:https://bakerstreetq.co.uk/event/food-market-at-55-baker-street-3/2022-01-27/
CATEGORIES:In Person
ATTACH;FMTTYPE=image/png:https://bakerstreetq.co.uk/wp-content/uploads/2021/12/55-Baker-Street-Market-events-page-2.png
END:VEVENT
BEGIN:VEVENT
DTSTART;TZID=Europe/London:20220127T120000
DTEND;TZID=Europe/London:20220127T150000
DTSTAMP:20260423T030356
CREATED:20211206T082054Z
LAST-MODIFIED:20211206T082054Z
UID:10000749-1643284800-1643295600@bakerstreetq.co.uk
SUMMARY:Food Market at 55 Baker Street
DESCRIPTION:Our food market returns to the outdoor atrium of 55 Baker Street from 12.00 to 14.30. A small but perfectly formed ‘mini’ market\, it will feature independent street-food stalls from our market partners Urban Food Fest. Everyone is welcome to drop by for a bite to eat. \n\nXurros Club | Mexican Tacos\nRummanco | Caribbean\nLilium Cakery | Cakes\nSoffrito | Italian // Pasta\nHush Hush | Deli\nMeli | Greek
URL:https://bakerstreetq.co.uk/event/food-market-at-55-baker-street-3/2022-01-27/
CATEGORIES:In Person
ATTACH;FMTTYPE=image/png:https://bakerstreetq.co.uk/wp-content/uploads/2021/12/55-Baker-Street-Market-events-page-2.png
END:VEVENT
BEGIN:VEVENT
DTSTART;TZID=Europe/London:20220127T120000
DTEND;TZID=Europe/London:20220127T150000
DTSTAMP:20260423T030356
CREATED:20211206T082054Z
LAST-MODIFIED:20211206T082054Z
UID:10000778-1643284800-1643295600@bakerstreetq.co.uk
SUMMARY:Food Market at 55 Baker Street
DESCRIPTION:Our food market returns to the outdoor atrium of 55 Baker Street from 12.00 to 14.30. A small but perfectly formed ‘mini’ market\, it will feature independent street-food stalls from our market partners Urban Food Fest. Everyone is welcome to drop by for a bite to eat. \n\nXurros Club | Mexican Tacos\nRummanco | Caribbean\nLilium Cakery | Cakes\nSoffrito | Italian // Pasta\nHush Hush | Deli\nMeli | Greek
URL:https://bakerstreetq.co.uk/event/food-market-at-55-baker-street-3/2022-01-27/
CATEGORIES:In Person
ATTACH;FMTTYPE=image/png:https://bakerstreetq.co.uk/wp-content/uploads/2021/12/55-Baker-Street-Market-events-page-2.png
END:VEVENT
BEGIN:VEVENT
DTSTART;TZID=Europe/London:20220127T120000
DTEND;TZID=Europe/London:20220127T150000
DTSTAMP:20260423T030356
CREATED:20211206T082054Z
LAST-MODIFIED:20211206T082054Z
UID:10000807-1643284800-1643295600@bakerstreetq.co.uk
SUMMARY:Food Market at 55 Baker Street
DESCRIPTION:Our food market returns to the outdoor atrium of 55 Baker Street from 12.00 to 14.30. A small but perfectly formed ‘mini’ market\, it will feature independent street-food stalls from our market partners Urban Food Fest. Everyone is welcome to drop by for a bite to eat. \n\nXurros Club | Mexican Tacos\nRummanco | Caribbean\nLilium Cakery | Cakes\nSoffrito | Italian // Pasta\nHush Hush | Deli\nMeli | Greek
URL:https://bakerstreetq.co.uk/event/food-market-at-55-baker-street-3/2022-01-27/
CATEGORIES:In Person
ATTACH;FMTTYPE=image/png:https://bakerstreetq.co.uk/wp-content/uploads/2021/12/55-Baker-Street-Market-events-page-2.png
END:VEVENT
BEGIN:VEVENT
DTSTART;TZID=Europe/London:20220127T120000
DTEND;TZID=Europe/London:20220127T150000
DTSTAMP:20260423T030356
CREATED:20211206T082054Z
LAST-MODIFIED:20211206T082054Z
UID:10000836-1643284800-1643295600@bakerstreetq.co.uk
SUMMARY:Food Market at 55 Baker Street
DESCRIPTION:Our food market returns to the outdoor atrium of 55 Baker Street from 12.00 to 14.30. A small but perfectly formed ‘mini’ market\, it will feature independent street-food stalls from our market partners Urban Food Fest. Everyone is welcome to drop by for a bite to eat. \n\nXurros Club | Mexican Tacos\nRummanco | Caribbean\nLilium Cakery | Cakes\nSoffrito | Italian // Pasta\nHush Hush | Deli\nMeli | Greek
URL:https://bakerstreetq.co.uk/event/food-market-at-55-baker-street-3/2022-01-27/
CATEGORIES:In Person
ATTACH;FMTTYPE=image/png:https://bakerstreetq.co.uk/wp-content/uploads/2021/12/55-Baker-Street-Market-events-page-2.png
END:VEVENT
BEGIN:VEVENT
DTSTART;TZID=Europe/London:20220127T120000
DTEND;TZID=Europe/London:20220127T150000
DTSTAMP:20260423T030356
CREATED:20211206T082054Z
LAST-MODIFIED:20211206T082054Z
UID:10000128-1643284800-1643295600@bakerstreetq.co.uk
SUMMARY:Food Market at 55 Baker Street
DESCRIPTION:Our food market returns to the outdoor atrium of 55 Baker Street from 12.00 to 14.30. A small but perfectly formed ‘mini’ market\, it will feature independent street-food stalls from our market partners Urban Food Fest. Everyone is welcome to drop by for a bite to eat. \n\nXurros Club | Mexican Tacos\nRummanco | Caribbean\nLilium Cakery | Cakes\nSoffrito | Italian // Pasta\nHush Hush | Deli\nMeli | Greek
URL:https://bakerstreetq.co.uk/event/food-market-at-55-baker-street-3/2022-01-27/
CATEGORIES:In Person
ATTACH;FMTTYPE=image/png:https://bakerstreetq.co.uk/wp-content/uploads/2021/12/55-Baker-Street-Market-events-page-2.png
END:VEVENT
BEGIN:VEVENT
DTSTART;TZID=Europe/London:20220127T120000
DTEND;TZID=Europe/London:20220127T150000
DTSTAMP:20260423T030356
CREATED:20211206T082054Z
LAST-MODIFIED:20211206T082054Z
UID:10000099-1643284800-1643295600@bakerstreetq.co.uk
SUMMARY:Food Market at 55 Baker Street
DESCRIPTION:Our food market returns to the outdoor atrium of 55 Baker Street from 12.00 to 14.30. A small but perfectly formed ‘mini’ market\, it will feature independent street-food stalls from our market partners Urban Food Fest. Everyone is welcome to drop by for a bite to eat. \n\nXurros Club | Mexican Tacos\nRummanco | Caribbean\nLilium Cakery | Cakes\nSoffrito | Italian // Pasta\nHush Hush | Deli\nMeli | Greek
URL:https://bakerstreetq.co.uk/event/food-market-at-55-baker-street-3/2022-01-27/
CATEGORIES:In Person
ATTACH;FMTTYPE=image/png:https://bakerstreetq.co.uk/wp-content/uploads/2021/12/55-Baker-Street-Market-events-page-2.png
END:VEVENT
BEGIN:VEVENT
DTSTART;TZID=Europe/London:20220127T120000
DTEND;TZID=Europe/London:20220127T150000
DTSTAMP:20260423T030356
CREATED:20211206T082054Z
LAST-MODIFIED:20211206T082054Z
UID:10000186-1643284800-1643295600@bakerstreetq.co.uk
SUMMARY:Food Market at 55 Baker Street
DESCRIPTION:Our food market returns to the outdoor atrium of 55 Baker Street from 12.00 to 14.30. A small but perfectly formed ‘mini’ market\, it will feature independent street-food stalls from our market partners Urban Food Fest. Everyone is welcome to drop by for a bite to eat. \n\nXurros Club | Mexican Tacos\nRummanco | Caribbean\nLilium Cakery | Cakes\nSoffrito | Italian // Pasta\nHush Hush | Deli\nMeli | Greek
URL:https://bakerstreetq.co.uk/event/food-market-at-55-baker-street-3/2022-01-27/
CATEGORIES:In Person
ATTACH;FMTTYPE=image/png:https://bakerstreetq.co.uk/wp-content/uploads/2021/12/55-Baker-Street-Market-events-page-2.png
END:VEVENT
BEGIN:VEVENT
DTSTART;TZID=Europe/London:20220127T120000
DTEND;TZID=Europe/London:20220127T150000
DTSTAMP:20260423T030356
CREATED:20211206T082054Z
LAST-MODIFIED:20211206T082054Z
UID:10000157-1643284800-1643295600@bakerstreetq.co.uk
SUMMARY:Food Market at 55 Baker Street
DESCRIPTION:Our food market returns to the outdoor atrium of 55 Baker Street from 12.00 to 14.30. A small but perfectly formed ‘mini’ market\, it will feature independent street-food stalls from our market partners Urban Food Fest. Everyone is welcome to drop by for a bite to eat. \n\nXurros Club | Mexican Tacos\nRummanco | Caribbean\nLilium Cakery | Cakes\nSoffrito | Italian // Pasta\nHush Hush | Deli\nMeli | Greek
URL:https://bakerstreetq.co.uk/event/food-market-at-55-baker-street-3/2022-01-27/
CATEGORIES:In Person
ATTACH;FMTTYPE=image/png:https://bakerstreetq.co.uk/wp-content/uploads/2021/12/55-Baker-Street-Market-events-page-2.png
END:VEVENT
BEGIN:VEVENT
DTSTART;TZID=Europe/London:20220127T120000
DTEND;TZID=Europe/London:20220127T150000
DTSTAMP:20260423T030356
CREATED:20211206T082054Z
LAST-MODIFIED:20211206T082054Z
UID:10000069-1643284800-1643295600@bakerstreetq.co.uk
SUMMARY:Food Market at 55 Baker Street
DESCRIPTION:Our food market returns to the outdoor atrium of 55 Baker Street from 12.00 to 14.30. A small but perfectly formed ‘mini’ market\, it will feature independent street-food stalls from our market partners Urban Food Fest. Everyone is welcome to drop by for a bite to eat. \n\nXurros Club | Mexican Tacos\nRummanco | Caribbean\nLilium Cakery | Cakes\nSoffrito | Italian // Pasta\nHush Hush | Deli\nMeli | Greek
URL:https://bakerstreetq.co.uk/event/food-market-at-55-baker-street-3/2022-01-27/
CATEGORIES:In Person
ATTACH;FMTTYPE=image/png:https://bakerstreetq.co.uk/wp-content/uploads/2021/12/55-Baker-Street-Market-events-page-2.png
END:VEVENT
BEGIN:VEVENT
DTSTART;TZID=Europe/London:20220127T120000
DTEND;TZID=Europe/London:20220127T150000
DTSTAMP:20260423T030356
CREATED:20211206T082054Z
LAST-MODIFIED:20211206T082054Z
UID:10000215-1643284800-1643295600@bakerstreetq.co.uk
SUMMARY:Food Market at 55 Baker Street
DESCRIPTION:Our food market returns to the outdoor atrium of 55 Baker Street from 12.00 to 14.30. A small but perfectly formed ‘mini’ market\, it will feature independent street-food stalls from our market partners Urban Food Fest. Everyone is welcome to drop by for a bite to eat. \n\nXurros Club | Mexican Tacos\nRummanco | Caribbean\nLilium Cakery | Cakes\nSoffrito | Italian // Pasta\nHush Hush | Deli\nMeli | Greek
URL:https://bakerstreetq.co.uk/event/food-market-at-55-baker-street-3/2022-01-27/
CATEGORIES:In Person
ATTACH;FMTTYPE=image/png:https://bakerstreetq.co.uk/wp-content/uploads/2021/12/55-Baker-Street-Market-events-page-2.png
END:VEVENT
BEGIN:VEVENT
DTSTART;TZID=Europe/London:20220127T120000
DTEND;TZID=Europe/London:20220127T150000
DTSTAMP:20260423T030356
CREATED:20211206T082054Z
LAST-MODIFIED:20211206T082054Z
UID:10000032-1643284800-1643295600@bakerstreetq.co.uk
SUMMARY:Food Market at 55 Baker Street
DESCRIPTION:Our food market returns to the outdoor atrium of 55 Baker Street from 12.00 to 14.30. A small but perfectly formed ‘mini’ market\, it will feature independent street-food stalls from our market partners Urban Food Fest. Everyone is welcome to drop by for a bite to eat. \n\nXurros Club | Mexican Tacos\nRummanco | Caribbean\nLilium Cakery | Cakes\nSoffrito | Italian // Pasta\nHush Hush | Deli\nMeli | Greek
URL:https://bakerstreetq.co.uk/event/food-market-at-55-baker-street-3/2022-01-27/
CATEGORIES:In Person
ATTACH;FMTTYPE=image/png:https://bakerstreetq.co.uk/wp-content/uploads/2021/12/55-Baker-Street-Market-events-page-2.png
END:VEVENT
BEGIN:VEVENT
DTSTART;TZID=Europe/London:20220127T120000
DTEND;TZID=Europe/London:20220127T150000
DTSTAMP:20260423T030356
CREATED:20211206T082054Z
LAST-MODIFIED:20211206T082054Z
UID:10000244-1643284800-1643295600@bakerstreetq.co.uk
SUMMARY:Food Market at 55 Baker Street
DESCRIPTION:Our food market returns to the outdoor atrium of 55 Baker Street from 12.00 to 14.30. A small but perfectly formed ‘mini’ market\, it will feature independent street-food stalls from our market partners Urban Food Fest. Everyone is welcome to drop by for a bite to eat. \n\nXurros Club | Mexican Tacos\nRummanco | Caribbean\nLilium Cakery | Cakes\nSoffrito | Italian // Pasta\nHush Hush | Deli\nMeli | Greek
URL:https://bakerstreetq.co.uk/event/food-market-at-55-baker-street-3/2022-01-27/
CATEGORIES:In Person
ATTACH;FMTTYPE=image/png:https://bakerstreetq.co.uk/wp-content/uploads/2021/12/55-Baker-Street-Market-events-page-2.png
END:VEVENT
END:VCALENDAR