BEGIN:VCALENDAR
VERSION:2.0
PRODID:-//Baker Street Quarter Partnership - ECPv6.15.20//NONSGML v1.0//EN
CALSCALE:GREGORIAN
METHOD:PUBLISH
X-ORIGINAL-URL:https://bakerstreetq.co.uk
X-WR-CALDESC:Events for Baker Street Quarter Partnership
REFRESH-INTERVAL;VALUE=DURATION:PT1H
X-Robots-Tag:noindex
X-PUBLISHED-TTL:PT1H
BEGIN:VTIMEZONE
TZID:Europe/London
BEGIN:DAYLIGHT
TZOFFSETFROM:+0000
TZOFFSETTO:+0100
TZNAME:BST
DTSTART:20210328T010000
END:DAYLIGHT
BEGIN:STANDARD
TZOFFSETFROM:+0100
TZOFFSETTO:+0000
TZNAME:GMT
DTSTART:20211031T010000
END:STANDARD
BEGIN:DAYLIGHT
TZOFFSETFROM:+0000
TZOFFSETTO:+0100
TZNAME:BST
DTSTART:20220327T010000
END:DAYLIGHT
BEGIN:STANDARD
TZOFFSETFROM:+0100
TZOFFSETTO:+0000
TZNAME:GMT
DTSTART:20221030T010000
END:STANDARD
BEGIN:DAYLIGHT
TZOFFSETFROM:+0000
TZOFFSETTO:+0100
TZNAME:BST
DTSTART:20230326T010000
END:DAYLIGHT
BEGIN:STANDARD
TZOFFSETFROM:+0100
TZOFFSETTO:+0000
TZNAME:GMT
DTSTART:20231029T010000
END:STANDARD
END:VTIMEZONE
BEGIN:VEVENT
DTSTART;TZID=Europe/London:20220318T190000
DTEND;TZID=Europe/London:20220318T200000
DTSTAMP:20260421T165510
CREATED:20220113T113551Z
LAST-MODIFIED:20220113T113551Z
UID:10000628-1647630000-1647633600@bakerstreetq.co.uk
SUMMARY:Understanding Sleep (and how to get more of it)
DESCRIPTION:Understand sleep in simple terms and why it is so important to manage your sleep for better mental and physical health. \nOn World Sleep Day\, we are giving you the opportunity to learn how to get and sustain better sleep. \nFind out why we sleep\, what happens to our body and brain while we sleep\, why it’s important to prioritise sleep and how to manage stress and anxiety while in bed. \nLearn practical tips\, lifestyle changes and simple techniques to get a better night’s sleep and on how to clear the mind and relax the body to fall asleep. \nJulie Wright is the founder of WeSleep\, an entrepreneur\, sleep ambassador\, speaker\, and author of The Natural Sleeper. Julie is a sleep educator and ambassador\, her mission is to help people live better lives by improving their sleep. Her motto is: “Sleep\, and your life’s dreams will come true”.
URL:https://bakerstreetq.co.uk/event/understanding-sleep-and-how-to-get-more-of-it-3/
CATEGORIES:Virtual
ATTACH;FMTTYPE=image/jpeg:https://bakerstreetq.co.uk/wp-content/uploads/2022/01/Template-for-event-page.jpg
END:VEVENT
BEGIN:VEVENT
DTSTART;TZID=Europe/London:20220310T120000
DTEND;TZID=Europe/London:20220310T150000
DTSTAMP:20260421T165510
CREATED:20211206T082054Z
LAST-MODIFIED:20211206T082054Z
UID:10000035-1646913600-1646924400@bakerstreetq.co.uk
SUMMARY:Food Market at 55 Baker Street
DESCRIPTION:Our food market returns to the outdoor atrium of 55 Baker Street from 12.00 to 14.30. A small but perfectly formed ‘mini’ market\, it will feature independent street-food stalls from our market partners Urban Food Fest. Everyone is welcome to drop by for a bite to eat. \n\nXurros Club | Mexican Tacos\nRummanco | Caribbean\nLilium Cakery | Cakes\nSoffrito | Italian // Pasta\nHush Hush | Deli\nMeli | Greek
URL:https://bakerstreetq.co.uk/event/food-market-at-55-baker-street-3/2022-03-10/
CATEGORIES:In Person
ATTACH;FMTTYPE=image/png:https://bakerstreetq.co.uk/wp-content/uploads/2021/12/55-Baker-Street-Market-events-page-2.png
END:VEVENT
BEGIN:VEVENT
DTSTART;TZID=Europe/London:20220310T120000
DTEND;TZID=Europe/London:20220310T150000
DTSTAMP:20260421T165510
CREATED:20211206T082054Z
LAST-MODIFIED:20211206T082054Z
UID:10000072-1646913600-1646924400@bakerstreetq.co.uk
SUMMARY:Food Market at 55 Baker Street
DESCRIPTION:Our food market returns to the outdoor atrium of 55 Baker Street from 12.00 to 14.30. A small but perfectly formed ‘mini’ market\, it will feature independent street-food stalls from our market partners Urban Food Fest. Everyone is welcome to drop by for a bite to eat. \n\nXurros Club | Mexican Tacos\nRummanco | Caribbean\nLilium Cakery | Cakes\nSoffrito | Italian // Pasta\nHush Hush | Deli\nMeli | Greek
URL:https://bakerstreetq.co.uk/event/food-market-at-55-baker-street-3/2022-03-10/
CATEGORIES:In Person
ATTACH;FMTTYPE=image/png:https://bakerstreetq.co.uk/wp-content/uploads/2021/12/55-Baker-Street-Market-events-page-2.png
END:VEVENT
BEGIN:VEVENT
DTSTART;TZID=Europe/London:20220310T120000
DTEND;TZID=Europe/London:20220310T143000
DTSTAMP:20260421T165510
CREATED:20211206T082054Z
LAST-MODIFIED:20211206T082054Z
UID:10000006-1646913600-1646922600@bakerstreetq.co.uk
SUMMARY:Food Market at 55 Baker Street
DESCRIPTION:Our food market returns to the outdoor atrium of 55 Baker Street from 12.00 to 14.30. A small but perfectly formed ‘mini’ market\, it will feature independent street-food stalls from our market partners Urban Food Fest. Everyone is welcome to drop by for a bite to eat. \n\nRodgis | Mediterranean\nRummanco | Caribbean\nLilium Cakery | Cakes\nSoffrito | Italian // Pasta\nHush Hush | Deli\nBerlin Doner | Doner
URL:https://bakerstreetq.co.uk/event/food-market-at-55-baker-street-3/2022-03-10/
CATEGORIES:In Person
ATTACH;FMTTYPE=image/png:https://bakerstreetq.co.uk/wp-content/uploads/2021/12/55-Baker-Street-Market-events-page-2.png
END:VEVENT
BEGIN:VEVENT
DTSTART;TZID=Europe/London:20220310T120000
DTEND;TZID=Europe/London:20220310T143000
DTSTAMP:20260421T165510
CREATED:20211206T082054Z
LAST-MODIFIED:20211206T082054Z
UID:10000102-1646913600-1646922600@bakerstreetq.co.uk
SUMMARY:Food Market at 55 Baker Street
DESCRIPTION:Our food market returns to the outdoor atrium of 55 Baker Street from 12.00 to 14.30. A small but perfectly formed ‘mini’ market\, it will feature independent street-food stalls from our market partners Urban Food Fest. Everyone is welcome to drop by for a bite to eat. \n\nXurros Club | Mexican Tacos\nRummanco | Caribbean\nLilium Cakery | Cakes\nSoffrito | Italian // Pasta\nHush Hush | Deli\nMeli | Greek
URL:https://bakerstreetq.co.uk/event/food-market-at-55-baker-street-3/2022-03-10/
CATEGORIES:In Person
ATTACH;FMTTYPE=image/png:https://bakerstreetq.co.uk/wp-content/uploads/2021/12/55-Baker-Street-Market-events-page-2.png
END:VEVENT
BEGIN:VEVENT
DTSTART;TZID=Europe/London:20220310T120000
DTEND;TZID=Europe/London:20220310T143000
DTSTAMP:20260421T165510
CREATED:20211206T082054Z
LAST-MODIFIED:20211206T082054Z
UID:10000131-1646913600-1646922600@bakerstreetq.co.uk
SUMMARY:Food Market at 55 Baker Street
DESCRIPTION:Our food market returns to the outdoor atrium of 55 Baker Street from 12.00 to 14.30. A small but perfectly formed ‘mini’ market\, it will feature independent street-food stalls from our market partners Urban Food Fest. Everyone is welcome to drop by for a bite to eat. \n\nXurros Club | Mexican Tacos\nRummanco | Caribbean\nLilium Cakery | Cakes\nSoffrito | Italian // Pasta\nHush Hush | Deli\nMeli | Greek
URL:https://bakerstreetq.co.uk/event/food-market-at-55-baker-street-3/2022-03-10/
CATEGORIES:In Person
ATTACH;FMTTYPE=image/png:https://bakerstreetq.co.uk/wp-content/uploads/2021/12/55-Baker-Street-Market-events-page-2.png
END:VEVENT
BEGIN:VEVENT
DTSTART;TZID=Europe/London:20220310T120000
DTEND;TZID=Europe/London:20220310T143000
DTSTAMP:20260421T165510
CREATED:20211206T082054Z
LAST-MODIFIED:20211206T082054Z
UID:10000160-1646913600-1646922600@bakerstreetq.co.uk
SUMMARY:Food Market at 55 Baker Street
DESCRIPTION:Our food market returns to the outdoor atrium of 55 Baker Street from 12.00 to 14.30. A small but perfectly formed ‘mini’ market\, it will feature independent street-food stalls from our market partners Urban Food Fest. Everyone is welcome to drop by for a bite to eat. \n\nXurros Club | Mexican Tacos\nRummanco | Caribbean\nLilium Cakery | Cakes\nSoffrito | Italian // Pasta\nHush Hush | Deli\nMeli | Greek
URL:https://bakerstreetq.co.uk/event/food-market-at-55-baker-street-3/2022-03-10/
CATEGORIES:In Person
ATTACH;FMTTYPE=image/png:https://bakerstreetq.co.uk/wp-content/uploads/2021/12/55-Baker-Street-Market-events-page-2.png
END:VEVENT
BEGIN:VEVENT
DTSTART;TZID=Europe/London:20220310T120000
DTEND;TZID=Europe/London:20220310T143000
DTSTAMP:20260421T165510
CREATED:20211206T082054Z
LAST-MODIFIED:20211206T082054Z
UID:10000189-1646913600-1646922600@bakerstreetq.co.uk
SUMMARY:Food Market at 55 Baker Street
DESCRIPTION:Our food market returns to the outdoor atrium of 55 Baker Street from 12.00 to 14.30. A small but perfectly formed ‘mini’ market\, it will feature independent street-food stalls from our market partners Urban Food Fest. Everyone is welcome to drop by for a bite to eat. \n\nXurros Club | Mexican Tacos\nRummanco | Caribbean\nLilium Cakery | Cakes\nSoffrito | Italian // Pasta\nHush Hush | Deli\nMeli | Greek
URL:https://bakerstreetq.co.uk/event/food-market-at-55-baker-street-3/2022-03-10/
CATEGORIES:In Person
ATTACH;FMTTYPE=image/png:https://bakerstreetq.co.uk/wp-content/uploads/2021/12/55-Baker-Street-Market-events-page-2.png
END:VEVENT
BEGIN:VEVENT
DTSTART;TZID=Europe/London:20220310T120000
DTEND;TZID=Europe/London:20220310T143000
DTSTAMP:20260421T165510
CREATED:20211206T082054Z
LAST-MODIFIED:20211206T082054Z
UID:10000218-1646913600-1646922600@bakerstreetq.co.uk
SUMMARY:Food Market at 55 Baker Street
DESCRIPTION:Our food market returns to the outdoor atrium of 55 Baker Street from 12.00 to 14.30. A small but perfectly formed ‘mini’ market\, it will feature independent street-food stalls from our market partners Urban Food Fest. Everyone is welcome to drop by for a bite to eat. \n\nXurros Club | Mexican Tacos\nRummanco | Caribbean\nLilium Cakery | Cakes\nSoffrito | Italian // Pasta\nHush Hush | Deli\nMeli | Greek
URL:https://bakerstreetq.co.uk/event/food-market-at-55-baker-street-3/2022-03-10/
CATEGORIES:In Person
ATTACH;FMTTYPE=image/png:https://bakerstreetq.co.uk/wp-content/uploads/2021/12/55-Baker-Street-Market-events-page-2.png
END:VEVENT
BEGIN:VEVENT
DTSTART;TZID=Europe/London:20220310T120000
DTEND;TZID=Europe/London:20220310T143000
DTSTAMP:20260421T165510
CREATED:20211206T082054Z
LAST-MODIFIED:20211206T082054Z
UID:10000247-1646913600-1646922600@bakerstreetq.co.uk
SUMMARY:Food Market at 55 Baker Street
DESCRIPTION:Our food market returns to the outdoor atrium of 55 Baker Street from 12.00 to 14.30. A small but perfectly formed ‘mini’ market\, it will feature independent street-food stalls from our market partners Urban Food Fest. Everyone is welcome to drop by for a bite to eat. \n\nXurros Club | Mexican Tacos\nRummanco | Caribbean\nLilium Cakery | Cakes\nSoffrito | Italian // Pasta\nHush Hush | Deli\nMeli | Greek
URL:https://bakerstreetq.co.uk/event/food-market-at-55-baker-street-3/2022-03-10/
CATEGORIES:In Person
ATTACH;FMTTYPE=image/png:https://bakerstreetq.co.uk/wp-content/uploads/2021/12/55-Baker-Street-Market-events-page-2.png
END:VEVENT
BEGIN:VEVENT
DTSTART;TZID=Europe/London:20220310T120000
DTEND;TZID=Europe/London:20220310T143000
DTSTAMP:20260421T165510
CREATED:20211206T082054Z
LAST-MODIFIED:20211206T082054Z
UID:10000276-1646913600-1646922600@bakerstreetq.co.uk
SUMMARY:Food Market at 55 Baker Street
DESCRIPTION:Our food market returns to the outdoor atrium of 55 Baker Street from 12.00 to 14.30. A small but perfectly formed ‘mini’ market\, it will feature independent street-food stalls from our market partners Urban Food Fest. Everyone is welcome to drop by for a bite to eat. \n\nXurros Club | Mexican Tacos\nRummanco | Caribbean\nLilium Cakery | Cakes\nSoffrito | Italian // Pasta\nHush Hush | Deli\nMeli | Greek
URL:https://bakerstreetq.co.uk/event/food-market-at-55-baker-street-3/2022-03-10/
CATEGORIES:In Person
ATTACH;FMTTYPE=image/png:https://bakerstreetq.co.uk/wp-content/uploads/2021/12/55-Baker-Street-Market-events-page-2.png
END:VEVENT
BEGIN:VEVENT
DTSTART;TZID=Europe/London:20220310T120000
DTEND;TZID=Europe/London:20220310T143000
DTSTAMP:20260421T165510
CREATED:20211206T082054Z
LAST-MODIFIED:20211206T082054Z
UID:10000305-1646913600-1646922600@bakerstreetq.co.uk
SUMMARY:Food Market at 55 Baker Street
DESCRIPTION:Our food market returns to the outdoor atrium of 55 Baker Street from 12.00 to 14.30. A small but perfectly formed ‘mini’ market\, it will feature independent street-food stalls from our market partners Urban Food Fest. Everyone is welcome to drop by for a bite to eat. \n\nXurros Club | Mexican Tacos\nRummanco | Caribbean\nLilium Cakery | Cakes\nSoffrito | Italian // Pasta\nHush Hush | Deli\nMeli | Greek
URL:https://bakerstreetq.co.uk/event/food-market-at-55-baker-street-3/2022-03-10/
CATEGORIES:In Person
ATTACH;FMTTYPE=image/png:https://bakerstreetq.co.uk/wp-content/uploads/2021/12/55-Baker-Street-Market-events-page-2.png
END:VEVENT
BEGIN:VEVENT
DTSTART;TZID=Europe/London:20220310T120000
DTEND;TZID=Europe/London:20220310T143000
DTSTAMP:20260421T165510
CREATED:20211206T082054Z
LAST-MODIFIED:20211206T082054Z
UID:10000334-1646913600-1646922600@bakerstreetq.co.uk
SUMMARY:Food Market at 55 Baker Street
DESCRIPTION:Our food market returns to the outdoor atrium of 55 Baker Street from 12.00 to 14.30. A small but perfectly formed ‘mini’ market\, it will feature independent street-food stalls from our market partners Urban Food Fest. Everyone is welcome to drop by for a bite to eat. \n\nXurros Club | Mexican Tacos\nRummanco | Caribbean\nLilium Cakery | Cakes\nSoffrito | Italian // Pasta\nHush Hush | Deli\nMeli | Greek
URL:https://bakerstreetq.co.uk/event/food-market-at-55-baker-street-3/2022-03-10/
CATEGORIES:In Person
ATTACH;FMTTYPE=image/png:https://bakerstreetq.co.uk/wp-content/uploads/2021/12/55-Baker-Street-Market-events-page-2.png
END:VEVENT
BEGIN:VEVENT
DTSTART;TZID=Europe/London:20220310T120000
DTEND;TZID=Europe/London:20220310T143000
DTSTAMP:20260421T165510
CREATED:20211206T082054Z
LAST-MODIFIED:20211206T082054Z
UID:10000363-1646913600-1646922600@bakerstreetq.co.uk
SUMMARY:Food Market at 55 Baker Street
DESCRIPTION:Our food market returns to the outdoor atrium of 55 Baker Street from 12.00 to 14.30. A small but perfectly formed ‘mini’ market\, it will feature independent street-food stalls from our market partners Urban Food Fest. Everyone is welcome to drop by for a bite to eat. \n\nXurros Club | Mexican Tacos\nRummanco | Caribbean\nLilium Cakery | Cakes\nSoffrito | Italian // Pasta\nHush Hush | Deli\nMeli | Greek
URL:https://bakerstreetq.co.uk/event/food-market-at-55-baker-street-3/2022-03-10/
CATEGORIES:In Person
ATTACH;FMTTYPE=image/png:https://bakerstreetq.co.uk/wp-content/uploads/2021/12/55-Baker-Street-Market-events-page-2.png
END:VEVENT
BEGIN:VEVENT
DTSTART;TZID=Europe/London:20220310T120000
DTEND;TZID=Europe/London:20220310T143000
DTSTAMP:20260421T165510
CREATED:20211206T082054Z
LAST-MODIFIED:20211206T082054Z
UID:10000392-1646913600-1646922600@bakerstreetq.co.uk
SUMMARY:Food Market at 55 Baker Street
DESCRIPTION:Our food market returns to the outdoor atrium of 55 Baker Street from 12.00 to 14.30. A small but perfectly formed ‘mini’ market\, it will feature independent street-food stalls from our market partners Urban Food Fest. Everyone is welcome to drop by for a bite to eat. \n\nXurros Club | Mexican Tacos\nRummanco | Caribbean\nLilium Cakery | Cakes\nSoffrito | Italian // Pasta\nHush Hush | Deli\nMeli | Greek
URL:https://bakerstreetq.co.uk/event/food-market-at-55-baker-street-3/2022-03-10/
CATEGORIES:In Person
ATTACH;FMTTYPE=image/png:https://bakerstreetq.co.uk/wp-content/uploads/2021/12/55-Baker-Street-Market-events-page-2.png
END:VEVENT
BEGIN:VEVENT
DTSTART;TZID=Europe/London:20220310T120000
DTEND;TZID=Europe/London:20220310T143000
DTSTAMP:20260421T165510
CREATED:20211206T082054Z
LAST-MODIFIED:20211206T082054Z
UID:10000421-1646913600-1646922600@bakerstreetq.co.uk
SUMMARY:Food Market at 55 Baker Street
DESCRIPTION:Our food market returns to the outdoor atrium of 55 Baker Street from 12.00 to 14.30. A small but perfectly formed ‘mini’ market\, it will feature independent street-food stalls from our market partners Urban Food Fest. Everyone is welcome to drop by for a bite to eat. \n\nXurros Club | Mexican Tacos\nRummanco | Caribbean\nLilium Cakery | Cakes\nSoffrito | Italian // Pasta\nHush Hush | Deli\nMeli | Greek
URL:https://bakerstreetq.co.uk/event/food-market-at-55-baker-street-3/2022-03-10/
CATEGORIES:In Person
ATTACH;FMTTYPE=image/png:https://bakerstreetq.co.uk/wp-content/uploads/2021/12/55-Baker-Street-Market-events-page-2.png
END:VEVENT
BEGIN:VEVENT
DTSTART;TZID=Europe/London:20220310T120000
DTEND;TZID=Europe/London:20220310T143000
DTSTAMP:20260421T165510
CREATED:20211206T082054Z
LAST-MODIFIED:20211206T082054Z
UID:10000450-1646913600-1646922600@bakerstreetq.co.uk
SUMMARY:Food Market at 55 Baker Street
DESCRIPTION:Our food market returns to the outdoor atrium of 55 Baker Street from 12.00 to 14.30. A small but perfectly formed ‘mini’ market\, it will feature independent street-food stalls from our market partners Urban Food Fest. Everyone is welcome to drop by for a bite to eat. \n\nXurros Club | Mexican Tacos\nRummanco | Caribbean\nLilium Cakery | Cakes\nSoffrito | Italian // Pasta\nHush Hush | Deli\nMeli | Greek
URL:https://bakerstreetq.co.uk/event/food-market-at-55-baker-street-3/2022-03-10/
CATEGORIES:In Person
ATTACH;FMTTYPE=image/png:https://bakerstreetq.co.uk/wp-content/uploads/2021/12/55-Baker-Street-Market-events-page-2.png
END:VEVENT
BEGIN:VEVENT
DTSTART;TZID=Europe/London:20220310T120000
DTEND;TZID=Europe/London:20220310T143000
DTSTAMP:20260421T165510
CREATED:20211206T082054Z
LAST-MODIFIED:20211206T082054Z
UID:10000479-1646913600-1646922600@bakerstreetq.co.uk
SUMMARY:Food Market at 55 Baker Street
DESCRIPTION:Our food market returns to the outdoor atrium of 55 Baker Street from 12.00 to 14.30. A small but perfectly formed ‘mini’ market\, it will feature independent street-food stalls from our market partners Urban Food Fest. Everyone is welcome to drop by for a bite to eat. \n\nXurros Club | Mexican Tacos\nRummanco | Caribbean\nLilium Cakery | Cakes\nSoffrito | Italian // Pasta\nHush Hush | Deli\nMeli | Greek
URL:https://bakerstreetq.co.uk/event/food-market-at-55-baker-street-3/2022-03-10/
CATEGORIES:In Person
ATTACH;FMTTYPE=image/png:https://bakerstreetq.co.uk/wp-content/uploads/2021/12/55-Baker-Street-Market-events-page-2.png
END:VEVENT
BEGIN:VEVENT
DTSTART;TZID=Europe/London:20220310T120000
DTEND;TZID=Europe/London:20220310T143000
DTSTAMP:20260421T165510
CREATED:20211206T082054Z
LAST-MODIFIED:20211206T082054Z
UID:10000508-1646913600-1646922600@bakerstreetq.co.uk
SUMMARY:Food Market at 55 Baker Street
DESCRIPTION:Our food market returns to the outdoor atrium of 55 Baker Street from 12.00 to 14.30. A small but perfectly formed ‘mini’ market\, it will feature independent street-food stalls from our market partners Urban Food Fest. Everyone is welcome to drop by for a bite to eat. \n\nXurros Club | Mexican Tacos\nRummanco | Caribbean\nLilium Cakery | Cakes\nSoffrito | Italian // Pasta\nHush Hush | Deli\nMeli | Greek
URL:https://bakerstreetq.co.uk/event/food-market-at-55-baker-street-3/2022-03-10/
CATEGORIES:In Person
ATTACH;FMTTYPE=image/png:https://bakerstreetq.co.uk/wp-content/uploads/2021/12/55-Baker-Street-Market-events-page-2.png
END:VEVENT
BEGIN:VEVENT
DTSTART;TZID=Europe/London:20220310T120000
DTEND;TZID=Europe/London:20220310T143000
DTSTAMP:20260421T165510
CREATED:20211206T082054Z
LAST-MODIFIED:20211206T082054Z
UID:10000537-1646913600-1646922600@bakerstreetq.co.uk
SUMMARY:Food Market at 55 Baker Street
DESCRIPTION:Our food market returns to the outdoor atrium of 55 Baker Street from 12.00 to 14.30. A small but perfectly formed ‘mini’ market\, it will feature independent street-food stalls from our market partners Urban Food Fest. Everyone is welcome to drop by for a bite to eat. \n\nXurros Club | Mexican Tacos\nRummanco | Caribbean\nLilium Cakery | Cakes\nSoffrito | Italian // Pasta\nHush Hush | Deli\nMeli | Greek
URL:https://bakerstreetq.co.uk/event/food-market-at-55-baker-street-3/2022-03-10/
CATEGORIES:In Person
ATTACH;FMTTYPE=image/png:https://bakerstreetq.co.uk/wp-content/uploads/2021/12/55-Baker-Street-Market-events-page-2.png
END:VEVENT
BEGIN:VEVENT
DTSTART;TZID=Europe/London:20220310T120000
DTEND;TZID=Europe/London:20220310T143000
DTSTAMP:20260421T165510
CREATED:20211206T082054Z
LAST-MODIFIED:20211206T082054Z
UID:10000566-1646913600-1646922600@bakerstreetq.co.uk
SUMMARY:Food Market at 55 Baker Street
DESCRIPTION:Our food market returns to the outdoor atrium of 55 Baker Street from 12.00 to 14.30. A small but perfectly formed ‘mini’ market\, it will feature independent street-food stalls from our market partners Urban Food Fest. Everyone is welcome to drop by for a bite to eat. \n\nXurros Club | Mexican Tacos\nRummanco | Caribbean\nLilium Cakery | Cakes\nSoffrito | Italian // Pasta\nHush Hush | Deli\nMeli | Greek
URL:https://bakerstreetq.co.uk/event/food-market-at-55-baker-street-3/2022-03-10/
CATEGORIES:In Person
ATTACH;FMTTYPE=image/png:https://bakerstreetq.co.uk/wp-content/uploads/2021/12/55-Baker-Street-Market-events-page-2.png
END:VEVENT
BEGIN:VEVENT
DTSTART;TZID=Europe/London:20220310T120000
DTEND;TZID=Europe/London:20220310T143000
DTSTAMP:20260421T165510
CREATED:20211206T082054Z
LAST-MODIFIED:20211206T082054Z
UID:10000595-1646913600-1646922600@bakerstreetq.co.uk
SUMMARY:Food Market at 55 Baker Street
DESCRIPTION:Our food market returns to the outdoor atrium of 55 Baker Street from 12.00 to 14.30. A small but perfectly formed ‘mini’ market\, it will feature independent street-food stalls from our market partners Urban Food Fest. Everyone is welcome to drop by for a bite to eat. \n\nXurros Club | Mexican Tacos\nRummanco | Caribbean\nLilium Cakery | Cakes\nSoffrito | Italian // Pasta\nHush Hush | Deli\nMeli | Greek
URL:https://bakerstreetq.co.uk/event/food-market-at-55-baker-street-3/2022-03-10/
CATEGORIES:In Person
ATTACH;FMTTYPE=image/png:https://bakerstreetq.co.uk/wp-content/uploads/2021/12/55-Baker-Street-Market-events-page-2.png
END:VEVENT
BEGIN:VEVENT
DTSTART;TZID=Europe/London:20220310T120000
DTEND;TZID=Europe/London:20220310T143000
DTSTAMP:20260421T165510
CREATED:20211206T082054Z
LAST-MODIFIED:20211206T082054Z
UID:10000636-1646913600-1646922600@bakerstreetq.co.uk
SUMMARY:Food Market at 55 Baker Street
DESCRIPTION:Our food market returns to the outdoor atrium of 55 Baker Street from 12.00 to 14.30. A small but perfectly formed ‘mini’ market\, it will feature independent street-food stalls from our market partners Urban Food Fest. Everyone is welcome to drop by for a bite to eat. \n\nXurros Club | Mexican Tacos\nRummanco | Caribbean\nLilium Cakery | Cakes\nSoffrito | Italian // Pasta\nHush Hush | Deli\nMeli | Greek
URL:https://bakerstreetq.co.uk/event/food-market-at-55-baker-street-3/2022-03-10/
CATEGORIES:In Person
ATTACH;FMTTYPE=image/png:https://bakerstreetq.co.uk/wp-content/uploads/2021/12/55-Baker-Street-Market-events-page-2.png
END:VEVENT
BEGIN:VEVENT
DTSTART;TZID=Europe/London:20220310T120000
DTEND;TZID=Europe/London:20220310T143000
DTSTAMP:20260421T165510
CREATED:20211206T082054Z
LAST-MODIFIED:20211206T082054Z
UID:10000665-1646913600-1646922600@bakerstreetq.co.uk
SUMMARY:Food Market at 55 Baker Street
DESCRIPTION:Our food market returns to the outdoor atrium of 55 Baker Street from 12.00 to 14.30. A small but perfectly formed ‘mini’ market\, it will feature independent street-food stalls from our market partners Urban Food Fest. Everyone is welcome to drop by for a bite to eat. \n\nXurros Club | Mexican Tacos\nRummanco | Caribbean\nLilium Cakery | Cakes\nSoffrito | Italian // Pasta\nHush Hush | Deli\nMeli | Greek
URL:https://bakerstreetq.co.uk/event/food-market-at-55-baker-street-3/2022-03-10/
CATEGORIES:In Person
ATTACH;FMTTYPE=image/png:https://bakerstreetq.co.uk/wp-content/uploads/2021/12/55-Baker-Street-Market-events-page-2.png
END:VEVENT
BEGIN:VEVENT
DTSTART;TZID=Europe/London:20220310T120000
DTEND;TZID=Europe/London:20220310T143000
DTSTAMP:20260421T165510
CREATED:20211206T082054Z
LAST-MODIFIED:20211206T082054Z
UID:10000694-1646913600-1646922600@bakerstreetq.co.uk
SUMMARY:Food Market at 55 Baker Street
DESCRIPTION:Our food market returns to the outdoor atrium of 55 Baker Street from 12.00 to 14.30. A small but perfectly formed ‘mini’ market\, it will feature independent street-food stalls from our market partners Urban Food Fest. Everyone is welcome to drop by for a bite to eat. \n\nXurros Club | Mexican Tacos\nRummanco | Caribbean\nLilium Cakery | Cakes\nSoffrito | Italian // Pasta\nHush Hush | Deli\nMeli | Greek
URL:https://bakerstreetq.co.uk/event/food-market-at-55-baker-street-3/2022-03-10/
CATEGORIES:In Person
ATTACH;FMTTYPE=image/png:https://bakerstreetq.co.uk/wp-content/uploads/2021/12/55-Baker-Street-Market-events-page-2.png
END:VEVENT
BEGIN:VEVENT
DTSTART;TZID=Europe/London:20220310T120000
DTEND;TZID=Europe/London:20220310T143000
DTSTAMP:20260421T165510
CREATED:20211206T082054Z
LAST-MODIFIED:20211206T082054Z
UID:10000723-1646913600-1646922600@bakerstreetq.co.uk
SUMMARY:Food Market at 55 Baker Street
DESCRIPTION:Our food market returns to the outdoor atrium of 55 Baker Street from 12.00 to 14.30. A small but perfectly formed ‘mini’ market\, it will feature independent street-food stalls from our market partners Urban Food Fest. Everyone is welcome to drop by for a bite to eat. \n\nXurros Club | Mexican Tacos\nRummanco | Caribbean\nLilium Cakery | Cakes\nSoffrito | Italian // Pasta\nHush Hush | Deli\nMeli | Greek
URL:https://bakerstreetq.co.uk/event/food-market-at-55-baker-street-3/2022-03-10/
CATEGORIES:In Person
ATTACH;FMTTYPE=image/png:https://bakerstreetq.co.uk/wp-content/uploads/2021/12/55-Baker-Street-Market-events-page-2.png
END:VEVENT
BEGIN:VEVENT
DTSTART;TZID=Europe/London:20220310T120000
DTEND;TZID=Europe/London:20220310T143000
DTSTAMP:20260421T165510
CREATED:20211206T082054Z
LAST-MODIFIED:20211206T082054Z
UID:10000752-1646913600-1646922600@bakerstreetq.co.uk
SUMMARY:Food Market at 55 Baker Street
DESCRIPTION:Our food market returns to the outdoor atrium of 55 Baker Street from 12.00 to 14.30. A small but perfectly formed ‘mini’ market\, it will feature independent street-food stalls from our market partners Urban Food Fest. Everyone is welcome to drop by for a bite to eat. \n\nXurros Club | Mexican Tacos\nRummanco | Caribbean\nLilium Cakery | Cakes\nSoffrito | Italian // Pasta\nHush Hush | Deli\nMeli | Greek
URL:https://bakerstreetq.co.uk/event/food-market-at-55-baker-street-3/2022-03-10/
CATEGORIES:In Person
ATTACH;FMTTYPE=image/png:https://bakerstreetq.co.uk/wp-content/uploads/2021/12/55-Baker-Street-Market-events-page-2.png
END:VEVENT
BEGIN:VEVENT
DTSTART;TZID=Europe/London:20220310T120000
DTEND;TZID=Europe/London:20220310T143000
DTSTAMP:20260421T165510
CREATED:20211206T082054Z
LAST-MODIFIED:20211206T082054Z
UID:10000781-1646913600-1646922600@bakerstreetq.co.uk
SUMMARY:Food Market at 55 Baker Street
DESCRIPTION:Our food market returns to the outdoor atrium of 55 Baker Street from 12.00 to 14.30. A small but perfectly formed ‘mini’ market\, it will feature independent street-food stalls from our market partners Urban Food Fest. Everyone is welcome to drop by for a bite to eat. \n\nXurros Club | Mexican Tacos\nRummanco | Caribbean\nLilium Cakery | Cakes\nSoffrito | Italian // Pasta\nHush Hush | Deli\nMeli | Greek
URL:https://bakerstreetq.co.uk/event/food-market-at-55-baker-street-3/2022-03-10/
CATEGORIES:In Person
ATTACH;FMTTYPE=image/png:https://bakerstreetq.co.uk/wp-content/uploads/2021/12/55-Baker-Street-Market-events-page-2.png
END:VEVENT
BEGIN:VEVENT
DTSTART;TZID=Europe/London:20220310T120000
DTEND;TZID=Europe/London:20220310T143000
DTSTAMP:20260421T165510
CREATED:20211206T082054Z
LAST-MODIFIED:20211206T082054Z
UID:10000810-1646913600-1646922600@bakerstreetq.co.uk
SUMMARY:Food Market at 55 Baker Street
DESCRIPTION:Our food market returns to the outdoor atrium of 55 Baker Street from 12.00 to 14.30. A small but perfectly formed ‘mini’ market\, it will feature independent street-food stalls from our market partners Urban Food Fest. Everyone is welcome to drop by for a bite to eat. \n\nXurros Club | Mexican Tacos\nRummanco | Caribbean\nLilium Cakery | Cakes\nSoffrito | Italian // Pasta\nHush Hush | Deli\nMeli | Greek
URL:https://bakerstreetq.co.uk/event/food-market-at-55-baker-street-3/2022-03-10/
CATEGORIES:In Person
ATTACH;FMTTYPE=image/png:https://bakerstreetq.co.uk/wp-content/uploads/2021/12/55-Baker-Street-Market-events-page-2.png
END:VEVENT
BEGIN:VEVENT
DTSTART;TZID=Europe/London:20220310T120000
DTEND;TZID=Europe/London:20220310T143000
DTSTAMP:20260421T165510
CREATED:20211206T082054Z
LAST-MODIFIED:20211206T082054Z
UID:10000839-1646913600-1646922600@bakerstreetq.co.uk
SUMMARY:Food Market at 55 Baker Street
DESCRIPTION:Our food market returns to the outdoor atrium of 55 Baker Street from 12.00 to 14.30. A small but perfectly formed ‘mini’ market\, it will feature independent street-food stalls from our market partners Urban Food Fest. Everyone is welcome to drop by for a bite to eat. \n\nXurros Club | Mexican Tacos\nRummanco | Caribbean\nLilium Cakery | Cakes\nSoffrito | Italian // Pasta\nHush Hush | Deli\nMeli | Greek
URL:https://bakerstreetq.co.uk/event/food-market-at-55-baker-street-3/2022-03-10/
CATEGORIES:In Person
ATTACH;FMTTYPE=image/png:https://bakerstreetq.co.uk/wp-content/uploads/2021/12/55-Baker-Street-Market-events-page-2.png
END:VEVENT
END:VCALENDAR