BEGIN:VCALENDAR
VERSION:2.0
PRODID:-//Baker Street Quarter Partnership - ECPv6.15.20//NONSGML v1.0//EN
CALSCALE:GREGORIAN
METHOD:PUBLISH
X-WR-CALNAME:Baker Street Quarter Partnership
X-ORIGINAL-URL:https://bakerstreetq.co.uk
X-WR-CALDESC:Events for Baker Street Quarter Partnership
REFRESH-INTERVAL;VALUE=DURATION:PT1H
X-Robots-Tag:noindex
X-PUBLISHED-TTL:PT1H
BEGIN:VTIMEZONE
TZID:Europe/London
BEGIN:DAYLIGHT
TZOFFSETFROM:+0000
TZOFFSETTO:+0100
TZNAME:BST
DTSTART:20210328T010000
END:DAYLIGHT
BEGIN:STANDARD
TZOFFSETFROM:+0100
TZOFFSETTO:+0000
TZNAME:GMT
DTSTART:20211031T010000
END:STANDARD
BEGIN:DAYLIGHT
TZOFFSETFROM:+0000
TZOFFSETTO:+0100
TZNAME:BST
DTSTART:20220327T010000
END:DAYLIGHT
BEGIN:STANDARD
TZOFFSETFROM:+0100
TZOFFSETTO:+0000
TZNAME:GMT
DTSTART:20221030T010000
END:STANDARD
BEGIN:DAYLIGHT
TZOFFSETFROM:+0000
TZOFFSETTO:+0100
TZNAME:BST
DTSTART:20230326T010000
END:DAYLIGHT
BEGIN:STANDARD
TZOFFSETFROM:+0100
TZOFFSETTO:+0000
TZNAME:GMT
DTSTART:20231029T010000
END:STANDARD
END:VTIMEZONE
BEGIN:VEVENT
DTSTART;TZID=Europe/London:20220224T100000
DTEND;TZID=Europe/London:20220224T130000
DTSTAMP:20260423T073226
CREATED:20220128T131702Z
LAST-MODIFIED:20220128T131702Z
UID:10000901-1645696800-1645707600@bakerstreetq.co.uk
SUMMARY:Equality\, Diversity\, Equity & Inclusion
DESCRIPTION:This introductory course explores the key themes of equality\, diversity\, equity and inclusion. It includes analysis of the key themes\, what they mean in practice and an overview of equalities legislation. Exploring the barriers faced by equalities communities and groups\, it offers you an opportunity to embed the course themes into practice. By showcasing case studies and introducing cultural competence and intersecting identities\, you will be able to put equalities into practice. \nThis training is exclusive to employees of Baker Street Quarter Partnership member businesses. To check if your business is a member\, email info@bakerstreetq.co.uk.
URL:https://bakerstreetq.co.uk/event/equality-diversity-equity-inclusion-3/
CATEGORIES:Training,Virtual
ATTACH;FMTTYPE=image/jpeg:https://bakerstreetq.co.uk/wp-content/uploads/2022/01/diversity-inclusion.jpg
END:VEVENT
BEGIN:VEVENT
DTSTART;TZID=Europe/London:20220224T120000
DTEND;TZID=Europe/London:20220224T143000
DTSTAMP:20260423T073226
CREATED:20211206T082054Z
LAST-MODIFIED:20211206T082054Z
UID:10000005-1645704000-1645713000@bakerstreetq.co.uk
SUMMARY:Food Market at 55 Baker Street
DESCRIPTION:Our food market returns to the outdoor atrium of 55 Baker Street from 12.00 to 14.30. A small but perfectly formed ‘mini’ market\, it will feature independent street-food stalls from our market partners Urban Food Fest. Everyone is welcome to drop by for a bite to eat. \n\nRodgis | Mediterranean\nRummanco | Caribbean\nLilium Cakery | Cakes\nSoffrito | Italian // Pasta\nHush Hush | Deli\nBerlin Doner | Doner
URL:https://bakerstreetq.co.uk/event/food-market-at-55-baker-street-3/2022-02-24/
CATEGORIES:In Person
ATTACH;FMTTYPE=image/png:https://bakerstreetq.co.uk/wp-content/uploads/2021/12/55-Baker-Street-Market-events-page-2.png
END:VEVENT
BEGIN:VEVENT
DTSTART;TZID=Europe/London:20220224T120000
DTEND;TZID=Europe/London:20220224T143000
DTSTAMP:20260423T073226
CREATED:20211206T082054Z
LAST-MODIFIED:20211206T082054Z
UID:10000101-1645704000-1645713000@bakerstreetq.co.uk
SUMMARY:Food Market at 55 Baker Street
DESCRIPTION:Our food market returns to the outdoor atrium of 55 Baker Street from 12.00 to 14.30. A small but perfectly formed ‘mini’ market\, it will feature independent street-food stalls from our market partners Urban Food Fest. Everyone is welcome to drop by for a bite to eat. \n\nXurros Club | Mexican Tacos\nRummanco | Caribbean\nLilium Cakery | Cakes\nSoffrito | Italian // Pasta\nHush Hush | Deli\nMeli | Greek
URL:https://bakerstreetq.co.uk/event/food-market-at-55-baker-street-3/2022-02-24/
CATEGORIES:In Person
ATTACH;FMTTYPE=image/png:https://bakerstreetq.co.uk/wp-content/uploads/2021/12/55-Baker-Street-Market-events-page-2.png
END:VEVENT
BEGIN:VEVENT
DTSTART;TZID=Europe/London:20220224T120000
DTEND;TZID=Europe/London:20220224T143000
DTSTAMP:20260423T073226
CREATED:20211206T082054Z
LAST-MODIFIED:20211206T082054Z
UID:10000130-1645704000-1645713000@bakerstreetq.co.uk
SUMMARY:Food Market at 55 Baker Street
DESCRIPTION:Our food market returns to the outdoor atrium of 55 Baker Street from 12.00 to 14.30. A small but perfectly formed ‘mini’ market\, it will feature independent street-food stalls from our market partners Urban Food Fest. Everyone is welcome to drop by for a bite to eat. \n\nXurros Club | Mexican Tacos\nRummanco | Caribbean\nLilium Cakery | Cakes\nSoffrito | Italian // Pasta\nHush Hush | Deli\nMeli | Greek
URL:https://bakerstreetq.co.uk/event/food-market-at-55-baker-street-3/2022-02-24/
CATEGORIES:In Person
ATTACH;FMTTYPE=image/png:https://bakerstreetq.co.uk/wp-content/uploads/2021/12/55-Baker-Street-Market-events-page-2.png
END:VEVENT
BEGIN:VEVENT
DTSTART;TZID=Europe/London:20220224T120000
DTEND;TZID=Europe/London:20220224T143000
DTSTAMP:20260423T073226
CREATED:20211206T082054Z
LAST-MODIFIED:20211206T082054Z
UID:10000159-1645704000-1645713000@bakerstreetq.co.uk
SUMMARY:Food Market at 55 Baker Street
DESCRIPTION:Our food market returns to the outdoor atrium of 55 Baker Street from 12.00 to 14.30. A small but perfectly formed ‘mini’ market\, it will feature independent street-food stalls from our market partners Urban Food Fest. Everyone is welcome to drop by for a bite to eat. \n\nXurros Club | Mexican Tacos\nRummanco | Caribbean\nLilium Cakery | Cakes\nSoffrito | Italian // Pasta\nHush Hush | Deli\nMeli | Greek
URL:https://bakerstreetq.co.uk/event/food-market-at-55-baker-street-3/2022-02-24/
CATEGORIES:In Person
ATTACH;FMTTYPE=image/png:https://bakerstreetq.co.uk/wp-content/uploads/2021/12/55-Baker-Street-Market-events-page-2.png
END:VEVENT
BEGIN:VEVENT
DTSTART;TZID=Europe/London:20220224T120000
DTEND;TZID=Europe/London:20220224T143000
DTSTAMP:20260423T073226
CREATED:20211206T082054Z
LAST-MODIFIED:20211206T082054Z
UID:10000188-1645704000-1645713000@bakerstreetq.co.uk
SUMMARY:Food Market at 55 Baker Street
DESCRIPTION:Our food market returns to the outdoor atrium of 55 Baker Street from 12.00 to 14.30. A small but perfectly formed ‘mini’ market\, it will feature independent street-food stalls from our market partners Urban Food Fest. Everyone is welcome to drop by for a bite to eat. \n\nXurros Club | Mexican Tacos\nRummanco | Caribbean\nLilium Cakery | Cakes\nSoffrito | Italian // Pasta\nHush Hush | Deli\nMeli | Greek
URL:https://bakerstreetq.co.uk/event/food-market-at-55-baker-street-3/2022-02-24/
CATEGORIES:In Person
ATTACH;FMTTYPE=image/png:https://bakerstreetq.co.uk/wp-content/uploads/2021/12/55-Baker-Street-Market-events-page-2.png
END:VEVENT
BEGIN:VEVENT
DTSTART;TZID=Europe/London:20220224T120000
DTEND;TZID=Europe/London:20220224T143000
DTSTAMP:20260423T073226
CREATED:20211206T082054Z
LAST-MODIFIED:20211206T082054Z
UID:10000217-1645704000-1645713000@bakerstreetq.co.uk
SUMMARY:Food Market at 55 Baker Street
DESCRIPTION:Our food market returns to the outdoor atrium of 55 Baker Street from 12.00 to 14.30. A small but perfectly formed ‘mini’ market\, it will feature independent street-food stalls from our market partners Urban Food Fest. Everyone is welcome to drop by for a bite to eat. \n\nXurros Club | Mexican Tacos\nRummanco | Caribbean\nLilium Cakery | Cakes\nSoffrito | Italian // Pasta\nHush Hush | Deli\nMeli | Greek
URL:https://bakerstreetq.co.uk/event/food-market-at-55-baker-street-3/2022-02-24/
CATEGORIES:In Person
ATTACH;FMTTYPE=image/png:https://bakerstreetq.co.uk/wp-content/uploads/2021/12/55-Baker-Street-Market-events-page-2.png
END:VEVENT
BEGIN:VEVENT
DTSTART;TZID=Europe/London:20220224T120000
DTEND;TZID=Europe/London:20220224T143000
DTSTAMP:20260423T073226
CREATED:20211206T082054Z
LAST-MODIFIED:20211206T082054Z
UID:10000246-1645704000-1645713000@bakerstreetq.co.uk
SUMMARY:Food Market at 55 Baker Street
DESCRIPTION:Our food market returns to the outdoor atrium of 55 Baker Street from 12.00 to 14.30. A small but perfectly formed ‘mini’ market\, it will feature independent street-food stalls from our market partners Urban Food Fest. Everyone is welcome to drop by for a bite to eat. \n\nXurros Club | Mexican Tacos\nRummanco | Caribbean\nLilium Cakery | Cakes\nSoffrito | Italian // Pasta\nHush Hush | Deli\nMeli | Greek
URL:https://bakerstreetq.co.uk/event/food-market-at-55-baker-street-3/2022-02-24/
CATEGORIES:In Person
ATTACH;FMTTYPE=image/png:https://bakerstreetq.co.uk/wp-content/uploads/2021/12/55-Baker-Street-Market-events-page-2.png
END:VEVENT
BEGIN:VEVENT
DTSTART;TZID=Europe/London:20220224T120000
DTEND;TZID=Europe/London:20220224T143000
DTSTAMP:20260423T073226
CREATED:20211206T082054Z
LAST-MODIFIED:20211206T082054Z
UID:10000275-1645704000-1645713000@bakerstreetq.co.uk
SUMMARY:Food Market at 55 Baker Street
DESCRIPTION:Our food market returns to the outdoor atrium of 55 Baker Street from 12.00 to 14.30. A small but perfectly formed ‘mini’ market\, it will feature independent street-food stalls from our market partners Urban Food Fest. Everyone is welcome to drop by for a bite to eat. \n\nXurros Club | Mexican Tacos\nRummanco | Caribbean\nLilium Cakery | Cakes\nSoffrito | Italian // Pasta\nHush Hush | Deli\nMeli | Greek
URL:https://bakerstreetq.co.uk/event/food-market-at-55-baker-street-3/2022-02-24/
CATEGORIES:In Person
ATTACH;FMTTYPE=image/png:https://bakerstreetq.co.uk/wp-content/uploads/2021/12/55-Baker-Street-Market-events-page-2.png
END:VEVENT
BEGIN:VEVENT
DTSTART;TZID=Europe/London:20220224T120000
DTEND;TZID=Europe/London:20220224T143000
DTSTAMP:20260423T073226
CREATED:20211206T082054Z
LAST-MODIFIED:20211206T082054Z
UID:10000304-1645704000-1645713000@bakerstreetq.co.uk
SUMMARY:Food Market at 55 Baker Street
DESCRIPTION:Our food market returns to the outdoor atrium of 55 Baker Street from 12.00 to 14.30. A small but perfectly formed ‘mini’ market\, it will feature independent street-food stalls from our market partners Urban Food Fest. Everyone is welcome to drop by for a bite to eat. \n\nXurros Club | Mexican Tacos\nRummanco | Caribbean\nLilium Cakery | Cakes\nSoffrito | Italian // Pasta\nHush Hush | Deli\nMeli | Greek
URL:https://bakerstreetq.co.uk/event/food-market-at-55-baker-street-3/2022-02-24/
CATEGORIES:In Person
ATTACH;FMTTYPE=image/png:https://bakerstreetq.co.uk/wp-content/uploads/2021/12/55-Baker-Street-Market-events-page-2.png
END:VEVENT
BEGIN:VEVENT
DTSTART;TZID=Europe/London:20220224T120000
DTEND;TZID=Europe/London:20220224T143000
DTSTAMP:20260423T073226
CREATED:20211206T082054Z
LAST-MODIFIED:20211206T082054Z
UID:10000333-1645704000-1645713000@bakerstreetq.co.uk
SUMMARY:Food Market at 55 Baker Street
DESCRIPTION:Our food market returns to the outdoor atrium of 55 Baker Street from 12.00 to 14.30. A small but perfectly formed ‘mini’ market\, it will feature independent street-food stalls from our market partners Urban Food Fest. Everyone is welcome to drop by for a bite to eat. \n\nXurros Club | Mexican Tacos\nRummanco | Caribbean\nLilium Cakery | Cakes\nSoffrito | Italian // Pasta\nHush Hush | Deli\nMeli | Greek
URL:https://bakerstreetq.co.uk/event/food-market-at-55-baker-street-3/2022-02-24/
CATEGORIES:In Person
ATTACH;FMTTYPE=image/png:https://bakerstreetq.co.uk/wp-content/uploads/2021/12/55-Baker-Street-Market-events-page-2.png
END:VEVENT
BEGIN:VEVENT
DTSTART;TZID=Europe/London:20220224T120000
DTEND;TZID=Europe/London:20220224T143000
DTSTAMP:20260423T073226
CREATED:20211206T082054Z
LAST-MODIFIED:20211206T082054Z
UID:10000362-1645704000-1645713000@bakerstreetq.co.uk
SUMMARY:Food Market at 55 Baker Street
DESCRIPTION:Our food market returns to the outdoor atrium of 55 Baker Street from 12.00 to 14.30. A small but perfectly formed ‘mini’ market\, it will feature independent street-food stalls from our market partners Urban Food Fest. Everyone is welcome to drop by for a bite to eat. \n\nXurros Club | Mexican Tacos\nRummanco | Caribbean\nLilium Cakery | Cakes\nSoffrito | Italian // Pasta\nHush Hush | Deli\nMeli | Greek
URL:https://bakerstreetq.co.uk/event/food-market-at-55-baker-street-3/2022-02-24/
CATEGORIES:In Person
ATTACH;FMTTYPE=image/png:https://bakerstreetq.co.uk/wp-content/uploads/2021/12/55-Baker-Street-Market-events-page-2.png
END:VEVENT
BEGIN:VEVENT
DTSTART;TZID=Europe/London:20220224T120000
DTEND;TZID=Europe/London:20220224T143000
DTSTAMP:20260423T073226
CREATED:20211206T082054Z
LAST-MODIFIED:20211206T082054Z
UID:10000391-1645704000-1645713000@bakerstreetq.co.uk
SUMMARY:Food Market at 55 Baker Street
DESCRIPTION:Our food market returns to the outdoor atrium of 55 Baker Street from 12.00 to 14.30. A small but perfectly formed ‘mini’ market\, it will feature independent street-food stalls from our market partners Urban Food Fest. Everyone is welcome to drop by for a bite to eat. \n\nXurros Club | Mexican Tacos\nRummanco | Caribbean\nLilium Cakery | Cakes\nSoffrito | Italian // Pasta\nHush Hush | Deli\nMeli | Greek
URL:https://bakerstreetq.co.uk/event/food-market-at-55-baker-street-3/2022-02-24/
CATEGORIES:In Person
ATTACH;FMTTYPE=image/png:https://bakerstreetq.co.uk/wp-content/uploads/2021/12/55-Baker-Street-Market-events-page-2.png
END:VEVENT
BEGIN:VEVENT
DTSTART;TZID=Europe/London:20220224T120000
DTEND;TZID=Europe/London:20220224T143000
DTSTAMP:20260423T073226
CREATED:20211206T082054Z
LAST-MODIFIED:20211206T082054Z
UID:10000420-1645704000-1645713000@bakerstreetq.co.uk
SUMMARY:Food Market at 55 Baker Street
DESCRIPTION:Our food market returns to the outdoor atrium of 55 Baker Street from 12.00 to 14.30. A small but perfectly formed ‘mini’ market\, it will feature independent street-food stalls from our market partners Urban Food Fest. Everyone is welcome to drop by for a bite to eat. \n\nXurros Club | Mexican Tacos\nRummanco | Caribbean\nLilium Cakery | Cakes\nSoffrito | Italian // Pasta\nHush Hush | Deli\nMeli | Greek
URL:https://bakerstreetq.co.uk/event/food-market-at-55-baker-street-3/2022-02-24/
CATEGORIES:In Person
ATTACH;FMTTYPE=image/png:https://bakerstreetq.co.uk/wp-content/uploads/2021/12/55-Baker-Street-Market-events-page-2.png
END:VEVENT
BEGIN:VEVENT
DTSTART;TZID=Europe/London:20220224T120000
DTEND;TZID=Europe/London:20220224T143000
DTSTAMP:20260423T073226
CREATED:20211206T082054Z
LAST-MODIFIED:20211206T082054Z
UID:10000449-1645704000-1645713000@bakerstreetq.co.uk
SUMMARY:Food Market at 55 Baker Street
DESCRIPTION:Our food market returns to the outdoor atrium of 55 Baker Street from 12.00 to 14.30. A small but perfectly formed ‘mini’ market\, it will feature independent street-food stalls from our market partners Urban Food Fest. Everyone is welcome to drop by for a bite to eat. \n\nXurros Club | Mexican Tacos\nRummanco | Caribbean\nLilium Cakery | Cakes\nSoffrito | Italian // Pasta\nHush Hush | Deli\nMeli | Greek
URL:https://bakerstreetq.co.uk/event/food-market-at-55-baker-street-3/2022-02-24/
CATEGORIES:In Person
ATTACH;FMTTYPE=image/png:https://bakerstreetq.co.uk/wp-content/uploads/2021/12/55-Baker-Street-Market-events-page-2.png
END:VEVENT
BEGIN:VEVENT
DTSTART;TZID=Europe/London:20220224T120000
DTEND;TZID=Europe/London:20220224T143000
DTSTAMP:20260423T073226
CREATED:20211206T082054Z
LAST-MODIFIED:20211206T082054Z
UID:10000478-1645704000-1645713000@bakerstreetq.co.uk
SUMMARY:Food Market at 55 Baker Street
DESCRIPTION:Our food market returns to the outdoor atrium of 55 Baker Street from 12.00 to 14.30. A small but perfectly formed ‘mini’ market\, it will feature independent street-food stalls from our market partners Urban Food Fest. Everyone is welcome to drop by for a bite to eat. \n\nXurros Club | Mexican Tacos\nRummanco | Caribbean\nLilium Cakery | Cakes\nSoffrito | Italian // Pasta\nHush Hush | Deli\nMeli | Greek
URL:https://bakerstreetq.co.uk/event/food-market-at-55-baker-street-3/2022-02-24/
CATEGORIES:In Person
ATTACH;FMTTYPE=image/png:https://bakerstreetq.co.uk/wp-content/uploads/2021/12/55-Baker-Street-Market-events-page-2.png
END:VEVENT
BEGIN:VEVENT
DTSTART;TZID=Europe/London:20220224T120000
DTEND;TZID=Europe/London:20220224T143000
DTSTAMP:20260423T073226
CREATED:20211206T082054Z
LAST-MODIFIED:20211206T082054Z
UID:10000507-1645704000-1645713000@bakerstreetq.co.uk
SUMMARY:Food Market at 55 Baker Street
DESCRIPTION:Our food market returns to the outdoor atrium of 55 Baker Street from 12.00 to 14.30. A small but perfectly formed ‘mini’ market\, it will feature independent street-food stalls from our market partners Urban Food Fest. Everyone is welcome to drop by for a bite to eat. \n\nXurros Club | Mexican Tacos\nRummanco | Caribbean\nLilium Cakery | Cakes\nSoffrito | Italian // Pasta\nHush Hush | Deli\nMeli | Greek
URL:https://bakerstreetq.co.uk/event/food-market-at-55-baker-street-3/2022-02-24/
CATEGORIES:In Person
ATTACH;FMTTYPE=image/png:https://bakerstreetq.co.uk/wp-content/uploads/2021/12/55-Baker-Street-Market-events-page-2.png
END:VEVENT
BEGIN:VEVENT
DTSTART;TZID=Europe/London:20220224T120000
DTEND;TZID=Europe/London:20220224T143000
DTSTAMP:20260423T073226
CREATED:20211206T082054Z
LAST-MODIFIED:20211206T082054Z
UID:10000536-1645704000-1645713000@bakerstreetq.co.uk
SUMMARY:Food Market at 55 Baker Street
DESCRIPTION:Our food market returns to the outdoor atrium of 55 Baker Street from 12.00 to 14.30. A small but perfectly formed ‘mini’ market\, it will feature independent street-food stalls from our market partners Urban Food Fest. Everyone is welcome to drop by for a bite to eat. \n\nXurros Club | Mexican Tacos\nRummanco | Caribbean\nLilium Cakery | Cakes\nSoffrito | Italian // Pasta\nHush Hush | Deli\nMeli | Greek
URL:https://bakerstreetq.co.uk/event/food-market-at-55-baker-street-3/2022-02-24/
CATEGORIES:In Person
ATTACH;FMTTYPE=image/png:https://bakerstreetq.co.uk/wp-content/uploads/2021/12/55-Baker-Street-Market-events-page-2.png
END:VEVENT
BEGIN:VEVENT
DTSTART;TZID=Europe/London:20220224T120000
DTEND;TZID=Europe/London:20220224T143000
DTSTAMP:20260423T073226
CREATED:20211206T082054Z
LAST-MODIFIED:20211206T082054Z
UID:10000565-1645704000-1645713000@bakerstreetq.co.uk
SUMMARY:Food Market at 55 Baker Street
DESCRIPTION:Our food market returns to the outdoor atrium of 55 Baker Street from 12.00 to 14.30. A small but perfectly formed ‘mini’ market\, it will feature independent street-food stalls from our market partners Urban Food Fest. Everyone is welcome to drop by for a bite to eat. \n\nXurros Club | Mexican Tacos\nRummanco | Caribbean\nLilium Cakery | Cakes\nSoffrito | Italian // Pasta\nHush Hush | Deli\nMeli | Greek
URL:https://bakerstreetq.co.uk/event/food-market-at-55-baker-street-3/2022-02-24/
CATEGORIES:In Person
ATTACH;FMTTYPE=image/png:https://bakerstreetq.co.uk/wp-content/uploads/2021/12/55-Baker-Street-Market-events-page-2.png
END:VEVENT
BEGIN:VEVENT
DTSTART;TZID=Europe/London:20220224T120000
DTEND;TZID=Europe/London:20220224T143000
DTSTAMP:20260423T073226
CREATED:20211206T082054Z
LAST-MODIFIED:20211206T082054Z
UID:10000594-1645704000-1645713000@bakerstreetq.co.uk
SUMMARY:Food Market at 55 Baker Street
DESCRIPTION:Our food market returns to the outdoor atrium of 55 Baker Street from 12.00 to 14.30. A small but perfectly formed ‘mini’ market\, it will feature independent street-food stalls from our market partners Urban Food Fest. Everyone is welcome to drop by for a bite to eat. \n\nXurros Club | Mexican Tacos\nRummanco | Caribbean\nLilium Cakery | Cakes\nSoffrito | Italian // Pasta\nHush Hush | Deli\nMeli | Greek
URL:https://bakerstreetq.co.uk/event/food-market-at-55-baker-street-3/2022-02-24/
CATEGORIES:In Person
ATTACH;FMTTYPE=image/png:https://bakerstreetq.co.uk/wp-content/uploads/2021/12/55-Baker-Street-Market-events-page-2.png
END:VEVENT
BEGIN:VEVENT
DTSTART;TZID=Europe/London:20220224T120000
DTEND;TZID=Europe/London:20220224T143000
DTSTAMP:20260423T073226
CREATED:20211206T082054Z
LAST-MODIFIED:20211206T082054Z
UID:10000635-1645704000-1645713000@bakerstreetq.co.uk
SUMMARY:Food Market at 55 Baker Street
DESCRIPTION:Our food market returns to the outdoor atrium of 55 Baker Street from 12.00 to 14.30. A small but perfectly formed ‘mini’ market\, it will feature independent street-food stalls from our market partners Urban Food Fest. Everyone is welcome to drop by for a bite to eat. \n\nXurros Club | Mexican Tacos\nRummanco | Caribbean\nLilium Cakery | Cakes\nSoffrito | Italian // Pasta\nHush Hush | Deli\nMeli | Greek
URL:https://bakerstreetq.co.uk/event/food-market-at-55-baker-street-3/2022-02-24/
CATEGORIES:In Person
ATTACH;FMTTYPE=image/png:https://bakerstreetq.co.uk/wp-content/uploads/2021/12/55-Baker-Street-Market-events-page-2.png
END:VEVENT
BEGIN:VEVENT
DTSTART;TZID=Europe/London:20220224T120000
DTEND;TZID=Europe/London:20220224T143000
DTSTAMP:20260423T073226
CREATED:20211206T082054Z
LAST-MODIFIED:20211206T082054Z
UID:10000664-1645704000-1645713000@bakerstreetq.co.uk
SUMMARY:Food Market at 55 Baker Street
DESCRIPTION:Our food market returns to the outdoor atrium of 55 Baker Street from 12.00 to 14.30. A small but perfectly formed ‘mini’ market\, it will feature independent street-food stalls from our market partners Urban Food Fest. Everyone is welcome to drop by for a bite to eat. \n\nXurros Club | Mexican Tacos\nRummanco | Caribbean\nLilium Cakery | Cakes\nSoffrito | Italian // Pasta\nHush Hush | Deli\nMeli | Greek
URL:https://bakerstreetq.co.uk/event/food-market-at-55-baker-street-3/2022-02-24/
CATEGORIES:In Person
ATTACH;FMTTYPE=image/png:https://bakerstreetq.co.uk/wp-content/uploads/2021/12/55-Baker-Street-Market-events-page-2.png
END:VEVENT
BEGIN:VEVENT
DTSTART;TZID=Europe/London:20220224T120000
DTEND;TZID=Europe/London:20220224T143000
DTSTAMP:20260423T073226
CREATED:20211206T082054Z
LAST-MODIFIED:20211206T082054Z
UID:10000693-1645704000-1645713000@bakerstreetq.co.uk
SUMMARY:Food Market at 55 Baker Street
DESCRIPTION:Our food market returns to the outdoor atrium of 55 Baker Street from 12.00 to 14.30. A small but perfectly formed ‘mini’ market\, it will feature independent street-food stalls from our market partners Urban Food Fest. Everyone is welcome to drop by for a bite to eat. \n\nXurros Club | Mexican Tacos\nRummanco | Caribbean\nLilium Cakery | Cakes\nSoffrito | Italian // Pasta\nHush Hush | Deli\nMeli | Greek
URL:https://bakerstreetq.co.uk/event/food-market-at-55-baker-street-3/2022-02-24/
CATEGORIES:In Person
ATTACH;FMTTYPE=image/png:https://bakerstreetq.co.uk/wp-content/uploads/2021/12/55-Baker-Street-Market-events-page-2.png
END:VEVENT
BEGIN:VEVENT
DTSTART;TZID=Europe/London:20220224T120000
DTEND;TZID=Europe/London:20220224T143000
DTSTAMP:20260423T073226
CREATED:20211206T082054Z
LAST-MODIFIED:20211206T082054Z
UID:10000722-1645704000-1645713000@bakerstreetq.co.uk
SUMMARY:Food Market at 55 Baker Street
DESCRIPTION:Our food market returns to the outdoor atrium of 55 Baker Street from 12.00 to 14.30. A small but perfectly formed ‘mini’ market\, it will feature independent street-food stalls from our market partners Urban Food Fest. Everyone is welcome to drop by for a bite to eat. \n\nXurros Club | Mexican Tacos\nRummanco | Caribbean\nLilium Cakery | Cakes\nSoffrito | Italian // Pasta\nHush Hush | Deli\nMeli | Greek
URL:https://bakerstreetq.co.uk/event/food-market-at-55-baker-street-3/2022-02-24/
CATEGORIES:In Person
ATTACH;FMTTYPE=image/png:https://bakerstreetq.co.uk/wp-content/uploads/2021/12/55-Baker-Street-Market-events-page-2.png
END:VEVENT
BEGIN:VEVENT
DTSTART;TZID=Europe/London:20220224T120000
DTEND;TZID=Europe/London:20220224T143000
DTSTAMP:20260423T073226
CREATED:20211206T082054Z
LAST-MODIFIED:20211206T082054Z
UID:10000751-1645704000-1645713000@bakerstreetq.co.uk
SUMMARY:Food Market at 55 Baker Street
DESCRIPTION:Our food market returns to the outdoor atrium of 55 Baker Street from 12.00 to 14.30. A small but perfectly formed ‘mini’ market\, it will feature independent street-food stalls from our market partners Urban Food Fest. Everyone is welcome to drop by for a bite to eat. \n\nXurros Club | Mexican Tacos\nRummanco | Caribbean\nLilium Cakery | Cakes\nSoffrito | Italian // Pasta\nHush Hush | Deli\nMeli | Greek
URL:https://bakerstreetq.co.uk/event/food-market-at-55-baker-street-3/2022-02-24/
CATEGORIES:In Person
ATTACH;FMTTYPE=image/png:https://bakerstreetq.co.uk/wp-content/uploads/2021/12/55-Baker-Street-Market-events-page-2.png
END:VEVENT
BEGIN:VEVENT
DTSTART;TZID=Europe/London:20220224T120000
DTEND;TZID=Europe/London:20220224T143000
DTSTAMP:20260423T073226
CREATED:20211206T082054Z
LAST-MODIFIED:20211206T082054Z
UID:10000780-1645704000-1645713000@bakerstreetq.co.uk
SUMMARY:Food Market at 55 Baker Street
DESCRIPTION:Our food market returns to the outdoor atrium of 55 Baker Street from 12.00 to 14.30. A small but perfectly formed ‘mini’ market\, it will feature independent street-food stalls from our market partners Urban Food Fest. Everyone is welcome to drop by for a bite to eat. \n\nXurros Club | Mexican Tacos\nRummanco | Caribbean\nLilium Cakery | Cakes\nSoffrito | Italian // Pasta\nHush Hush | Deli\nMeli | Greek
URL:https://bakerstreetq.co.uk/event/food-market-at-55-baker-street-3/2022-02-24/
CATEGORIES:In Person
ATTACH;FMTTYPE=image/png:https://bakerstreetq.co.uk/wp-content/uploads/2021/12/55-Baker-Street-Market-events-page-2.png
END:VEVENT
BEGIN:VEVENT
DTSTART;TZID=Europe/London:20220224T120000
DTEND;TZID=Europe/London:20220224T143000
DTSTAMP:20260423T073226
CREATED:20211206T082054Z
LAST-MODIFIED:20211206T082054Z
UID:10000809-1645704000-1645713000@bakerstreetq.co.uk
SUMMARY:Food Market at 55 Baker Street
DESCRIPTION:Our food market returns to the outdoor atrium of 55 Baker Street from 12.00 to 14.30. A small but perfectly formed ‘mini’ market\, it will feature independent street-food stalls from our market partners Urban Food Fest. Everyone is welcome to drop by for a bite to eat. \n\nXurros Club | Mexican Tacos\nRummanco | Caribbean\nLilium Cakery | Cakes\nSoffrito | Italian // Pasta\nHush Hush | Deli\nMeli | Greek
URL:https://bakerstreetq.co.uk/event/food-market-at-55-baker-street-3/2022-02-24/
CATEGORIES:In Person
ATTACH;FMTTYPE=image/png:https://bakerstreetq.co.uk/wp-content/uploads/2021/12/55-Baker-Street-Market-events-page-2.png
END:VEVENT
BEGIN:VEVENT
DTSTART;TZID=Europe/London:20220224T120000
DTEND;TZID=Europe/London:20220224T143000
DTSTAMP:20260423T073226
CREATED:20211206T082054Z
LAST-MODIFIED:20211206T082054Z
UID:10000838-1645704000-1645713000@bakerstreetq.co.uk
SUMMARY:Food Market at 55 Baker Street
DESCRIPTION:Our food market returns to the outdoor atrium of 55 Baker Street from 12.00 to 14.30. A small but perfectly formed ‘mini’ market\, it will feature independent street-food stalls from our market partners Urban Food Fest. Everyone is welcome to drop by for a bite to eat. \n\nXurros Club | Mexican Tacos\nRummanco | Caribbean\nLilium Cakery | Cakes\nSoffrito | Italian // Pasta\nHush Hush | Deli\nMeli | Greek
URL:https://bakerstreetq.co.uk/event/food-market-at-55-baker-street-3/2022-02-24/
CATEGORIES:In Person
ATTACH;FMTTYPE=image/png:https://bakerstreetq.co.uk/wp-content/uploads/2021/12/55-Baker-Street-Market-events-page-2.png
END:VEVENT
BEGIN:VEVENT
DTSTART;TZID=Europe/London:20220224T120000
DTEND;TZID=Europe/London:20220224T143000
DTSTAMP:20260423T073226
CREATED:20211206T082054Z
LAST-MODIFIED:20211206T082054Z
UID:10000867-1645704000-1645713000@bakerstreetq.co.uk
SUMMARY:Food Market at 55 Baker Street
DESCRIPTION:Our food market returns to the outdoor atrium of 55 Baker Street from 12.00 to 14.30. A small but perfectly formed ‘mini’ market\, it will feature independent street-food stalls from our market partners Urban Food Fest. Everyone is welcome to drop by for a bite to eat. \n\nXurros Club | Mexican Tacos\nRummanco | Caribbean\nLilium Cakery | Cakes\nSoffrito | Italian // Pasta\nHush Hush | Deli\nMeli | Greek
URL:https://bakerstreetq.co.uk/event/food-market-at-55-baker-street-3/2022-02-24/
CATEGORIES:In Person
ATTACH;FMTTYPE=image/png:https://bakerstreetq.co.uk/wp-content/uploads/2021/12/55-Baker-Street-Market-events-page-2.png
END:VEVENT
BEGIN:VEVENT
DTSTART;TZID=Europe/London:20220224T120000
DTEND;TZID=Europe/London:20220224T150000
DTSTAMP:20260423T073226
CREATED:20211206T082054Z
LAST-MODIFIED:20211206T082054Z
UID:10000034-1645704000-1645714800@bakerstreetq.co.uk
SUMMARY:Food Market at 55 Baker Street
DESCRIPTION:Our food market returns to the outdoor atrium of 55 Baker Street from 12.00 to 14.30. A small but perfectly formed ‘mini’ market\, it will feature independent street-food stalls from our market partners Urban Food Fest. Everyone is welcome to drop by for a bite to eat. \n\nXurros Club | Mexican Tacos\nRummanco | Caribbean\nLilium Cakery | Cakes\nSoffrito | Italian // Pasta\nHush Hush | Deli\nMeli | Greek
URL:https://bakerstreetq.co.uk/event/food-market-at-55-baker-street-3/2022-02-24/
CATEGORIES:In Person
ATTACH;FMTTYPE=image/png:https://bakerstreetq.co.uk/wp-content/uploads/2021/12/55-Baker-Street-Market-events-page-2.png
END:VEVENT
END:VCALENDAR