BEGIN:VCALENDAR
VERSION:2.0
PRODID:-//Baker Street Quarter Partnership - ECPv6.15.20//NONSGML v1.0//EN
CALSCALE:GREGORIAN
METHOD:PUBLISH
X-WR-CALNAME:Baker Street Quarter Partnership
X-ORIGINAL-URL:https://bakerstreetq.co.uk
X-WR-CALDESC:Events for Baker Street Quarter Partnership
REFRESH-INTERVAL;VALUE=DURATION:PT1H
X-Robots-Tag:noindex
X-PUBLISHED-TTL:PT1H
BEGIN:VTIMEZONE
TZID:Europe/London
BEGIN:DAYLIGHT
TZOFFSETFROM:+0000
TZOFFSETTO:+0100
TZNAME:BST
DTSTART:20210328T010000
END:DAYLIGHT
BEGIN:STANDARD
TZOFFSETFROM:+0100
TZOFFSETTO:+0000
TZNAME:GMT
DTSTART:20211031T010000
END:STANDARD
BEGIN:DAYLIGHT
TZOFFSETFROM:+0000
TZOFFSETTO:+0100
TZNAME:BST
DTSTART:20220327T010000
END:DAYLIGHT
BEGIN:STANDARD
TZOFFSETFROM:+0100
TZOFFSETTO:+0000
TZNAME:GMT
DTSTART:20221030T010000
END:STANDARD
BEGIN:DAYLIGHT
TZOFFSETFROM:+0000
TZOFFSETTO:+0100
TZNAME:BST
DTSTART:20230326T010000
END:DAYLIGHT
BEGIN:STANDARD
TZOFFSETFROM:+0100
TZOFFSETTO:+0000
TZNAME:GMT
DTSTART:20231029T010000
END:STANDARD
END:VTIMEZONE
BEGIN:VEVENT
DTSTART;TZID=Europe/London:20221129T120000
DTEND;TZID=Europe/London:20221129T130000
DTSTAMP:20260421T045837
CREATED:20220904T193320Z
LAST-MODIFIED:20220904T193320Z
UID:10000985-1669723200-1669726800@bakerstreetq.co.uk
SUMMARY:Sherlock Walking Tour
DESCRIPTION:Join our Blue Badge Guide Mark as he takes you on a tour of Baker Street and beyond with tip top facts on Sherlock\, Conan Doyle and the history of the streets of the world’s most famous fictitious detective.
URL:https://bakerstreetq.co.uk/event/sherlock-walking-tour-3/
CATEGORIES:In Person
ATTACH;FMTTYPE=image/jpeg:https://bakerstreetq.co.uk/wp-content/uploads/2022/09/Sherlock-.jpg
END:VEVENT
BEGIN:VEVENT
DTSTART;TZID=Europe/London:20221201T120000
DTEND;TZID=Europe/London:20221201T140000
DTSTAMP:20260421T045837
CREATED:20221117T105113Z
LAST-MODIFIED:20221117T105113Z
UID:10001001-1669896000-1669903200@bakerstreetq.co.uk
SUMMARY:Christmas Workshop
DESCRIPTION:Free Drop in Workshops With @janeyjonescollage \nJoin Janey at our Mini Christmas Market for a free workshop to learn how to make popup Christmas cards from scratch using different pop-up techniques and include pop up presents\, snow scenes and Christmas trees. No artistic skills required just turn up and join in – all welcome. \nWorkshops and Parties — Janey Jones Propmaker/Artist
URL:https://bakerstreetq.co.uk/event/christmas-workshop-2-3/
LOCATION:55 Baker Street\, London\, W1U 8EW
CATEGORIES:In Person
ATTACH;FMTTYPE=image/png:https://bakerstreetq.co.uk/wp-content/uploads/2022/11/Christmas-Cards-1.png
END:VEVENT
END:VCALENDAR