BEGIN:VCALENDAR
VERSION:2.0
PRODID:-//Baker Street Quarter Partnership - ECPv6.15.20//NONSGML v1.0//EN
CALSCALE:GREGORIAN
METHOD:PUBLISH
X-WR-CALNAME:Baker Street Quarter Partnership
X-ORIGINAL-URL:https://bakerstreetq.co.uk
X-WR-CALDESC:Events for Baker Street Quarter Partnership
REFRESH-INTERVAL;VALUE=DURATION:PT1H
X-Robots-Tag:noindex
X-PUBLISHED-TTL:PT1H
BEGIN:VTIMEZONE
TZID:Europe/London
BEGIN:DAYLIGHT
TZOFFSETFROM:+0000
TZOFFSETTO:+0100
TZNAME:BST
DTSTART:20210328T010000
END:DAYLIGHT
BEGIN:STANDARD
TZOFFSETFROM:+0100
TZOFFSETTO:+0000
TZNAME:GMT
DTSTART:20211031T010000
END:STANDARD
BEGIN:DAYLIGHT
TZOFFSETFROM:+0000
TZOFFSETTO:+0100
TZNAME:BST
DTSTART:20220327T010000
END:DAYLIGHT
BEGIN:STANDARD
TZOFFSETFROM:+0100
TZOFFSETTO:+0000
TZNAME:GMT
DTSTART:20221030T010000
END:STANDARD
BEGIN:DAYLIGHT
TZOFFSETFROM:+0000
TZOFFSETTO:+0100
TZNAME:BST
DTSTART:20230326T010000
END:DAYLIGHT
BEGIN:STANDARD
TZOFFSETFROM:+0100
TZOFFSETTO:+0000
TZNAME:GMT
DTSTART:20231029T010000
END:STANDARD
END:VTIMEZONE
BEGIN:VEVENT
DTSTART;TZID=Europe/London:20220922T120000
DTEND;TZID=Europe/London:20220922T130000
DTSTAMP:20260423T080832
CREATED:20220803T142416Z
LAST-MODIFIED:20220803T142416Z
UID:10000974-1663848000-1663851600@bakerstreetq.co.uk
SUMMARY:An Invitation To The Old Marylebone Town Hall
DESCRIPTION:The imposing Town Hall was first opened by royalty and became the go-to destination for celebrity couples\, to tie the knot. You are invited to step inside this vast edifice\, view the photographs and visit the rooms where many famous names got hitched.
URL:https://bakerstreetq.co.uk/event/an-invitation-to-marylebone-town-hall-3/
LOCATION:55 Baker Street\, London\, W1U 8EW
CATEGORIES:In Person
ATTACH;FMTTYPE=image/jpeg:https://bakerstreetq.co.uk/wp-content/uploads/2022/08/Town-Hall-scaled.jpg
END:VEVENT
END:VCALENDAR