BEGIN:VCALENDAR
VERSION:2.0
PRODID:-//Baker Street Quarter Partnership - ECPv6.15.20//NONSGML v1.0//EN
CALSCALE:GREGORIAN
METHOD:PUBLISH
X-ORIGINAL-URL:https://bakerstreetq.co.uk
X-WR-CALDESC:Events for Baker Street Quarter Partnership
REFRESH-INTERVAL;VALUE=DURATION:PT1H
X-Robots-Tag:noindex
X-PUBLISHED-TTL:PT1H
BEGIN:VTIMEZONE
TZID:Europe/London
BEGIN:DAYLIGHT
TZOFFSETFROM:+0000
TZOFFSETTO:+0100
TZNAME:BST
DTSTART:20210328T010000
END:DAYLIGHT
BEGIN:STANDARD
TZOFFSETFROM:+0100
TZOFFSETTO:+0000
TZNAME:GMT
DTSTART:20211031T010000
END:STANDARD
BEGIN:DAYLIGHT
TZOFFSETFROM:+0000
TZOFFSETTO:+0100
TZNAME:BST
DTSTART:20220327T010000
END:DAYLIGHT
BEGIN:STANDARD
TZOFFSETFROM:+0100
TZOFFSETTO:+0000
TZNAME:GMT
DTSTART:20221030T010000
END:STANDARD
BEGIN:DAYLIGHT
TZOFFSETFROM:+0000
TZOFFSETTO:+0100
TZNAME:BST
DTSTART:20230326T010000
END:DAYLIGHT
BEGIN:STANDARD
TZOFFSETFROM:+0100
TZOFFSETTO:+0000
TZNAME:GMT
DTSTART:20231029T010000
END:STANDARD
END:VTIMEZONE
BEGIN:VEVENT
DTSTART;TZID=Europe/London:20220609T120000
DTEND;TZID=Europe/London:20220609T143000
DTSTAMP:20260426T022650
CREATED:20211206T082054Z
LAST-MODIFIED:20211206T082054Z
UID:10000137-1654776000-1654785000@bakerstreetq.co.uk
SUMMARY:Food Market at 55 Baker Street
DESCRIPTION:Our food market returns to the outdoor atrium of 55 Baker Street from 12.00 to 14.30. A small but perfectly formed ‘mini’ market\, it will feature independent street-food stalls from our market partners Urban Food Fest. Everyone is welcome to drop by for a bite to eat. \n\nXurros Club | Mexican Tacos\nRummanco | Caribbean\nLilium Cakery | Cakes\nSoffrito | Italian // Pasta\nHush Hush | Deli\nMeli | Greek
URL:https://bakerstreetq.co.uk/event/food-market-at-55-baker-street-3/2022-06-09/
CATEGORIES:In Person
ATTACH;FMTTYPE=image/png:https://bakerstreetq.co.uk/wp-content/uploads/2021/12/55-Baker-Street-Market-events-page-2.png
END:VEVENT
BEGIN:VEVENT
DTSTART;TZID=Europe/London:20220609T120000
DTEND;TZID=Europe/London:20220609T143000
DTSTAMP:20260426T022650
CREATED:20211206T082054Z
LAST-MODIFIED:20211206T082054Z
UID:10000166-1654776000-1654785000@bakerstreetq.co.uk
SUMMARY:Food Market at 55 Baker Street
DESCRIPTION:Our food market returns to the outdoor atrium of 55 Baker Street from 12.00 to 14.30. A small but perfectly formed ‘mini’ market\, it will feature independent street-food stalls from our market partners Urban Food Fest. Everyone is welcome to drop by for a bite to eat. \n\nXurros Club | Mexican Tacos\nRummanco | Caribbean\nLilium Cakery | Cakes\nSoffrito | Italian // Pasta\nHush Hush | Deli\nMeli | Greek
URL:https://bakerstreetq.co.uk/event/food-market-at-55-baker-street-3/2022-06-09/
CATEGORIES:In Person
ATTACH;FMTTYPE=image/png:https://bakerstreetq.co.uk/wp-content/uploads/2021/12/55-Baker-Street-Market-events-page-2.png
END:VEVENT
BEGIN:VEVENT
DTSTART;TZID=Europe/London:20220609T120000
DTEND;TZID=Europe/London:20220609T143000
DTSTAMP:20260426T022650
CREATED:20211206T082054Z
LAST-MODIFIED:20211206T082054Z
UID:10000195-1654776000-1654785000@bakerstreetq.co.uk
SUMMARY:Food Market at 55 Baker Street
DESCRIPTION:Our food market returns to the outdoor atrium of 55 Baker Street from 12.00 to 14.30. A small but perfectly formed ‘mini’ market\, it will feature independent street-food stalls from our market partners Urban Food Fest. Everyone is welcome to drop by for a bite to eat. \n\nXurros Club | Mexican Tacos\nRummanco | Caribbean\nLilium Cakery | Cakes\nSoffrito | Italian // Pasta\nHush Hush | Deli\nMeli | Greek
URL:https://bakerstreetq.co.uk/event/food-market-at-55-baker-street-3/2022-06-09/
CATEGORIES:In Person
ATTACH;FMTTYPE=image/png:https://bakerstreetq.co.uk/wp-content/uploads/2021/12/55-Baker-Street-Market-events-page-2.png
END:VEVENT
BEGIN:VEVENT
DTSTART;TZID=Europe/London:20220609T120000
DTEND;TZID=Europe/London:20220609T143000
DTSTAMP:20260426T022650
CREATED:20211206T082054Z
LAST-MODIFIED:20211206T082054Z
UID:10000224-1654776000-1654785000@bakerstreetq.co.uk
SUMMARY:Food Market at 55 Baker Street
DESCRIPTION:Our food market returns to the outdoor atrium of 55 Baker Street from 12.00 to 14.30. A small but perfectly formed ‘mini’ market\, it will feature independent street-food stalls from our market partners Urban Food Fest. Everyone is welcome to drop by for a bite to eat. \n\nXurros Club | Mexican Tacos\nRummanco | Caribbean\nLilium Cakery | Cakes\nSoffrito | Italian // Pasta\nHush Hush | Deli\nMeli | Greek
URL:https://bakerstreetq.co.uk/event/food-market-at-55-baker-street-3/2022-06-09/
CATEGORIES:In Person
ATTACH;FMTTYPE=image/png:https://bakerstreetq.co.uk/wp-content/uploads/2021/12/55-Baker-Street-Market-events-page-2.png
END:VEVENT
BEGIN:VEVENT
DTSTART;TZID=Europe/London:20220609T120000
DTEND;TZID=Europe/London:20220609T143000
DTSTAMP:20260426T022650
CREATED:20211206T082054Z
LAST-MODIFIED:20211206T082054Z
UID:10000253-1654776000-1654785000@bakerstreetq.co.uk
SUMMARY:Food Market at 55 Baker Street
DESCRIPTION:Our food market returns to the outdoor atrium of 55 Baker Street from 12.00 to 14.30. A small but perfectly formed ‘mini’ market\, it will feature independent street-food stalls from our market partners Urban Food Fest. Everyone is welcome to drop by for a bite to eat. \n\nXurros Club | Mexican Tacos\nRummanco | Caribbean\nLilium Cakery | Cakes\nSoffrito | Italian // Pasta\nHush Hush | Deli\nMeli | Greek
URL:https://bakerstreetq.co.uk/event/food-market-at-55-baker-street-3/2022-06-09/
CATEGORIES:In Person
ATTACH;FMTTYPE=image/png:https://bakerstreetq.co.uk/wp-content/uploads/2021/12/55-Baker-Street-Market-events-page-2.png
END:VEVENT
BEGIN:VEVENT
DTSTART;TZID=Europe/London:20220609T120000
DTEND;TZID=Europe/London:20220609T143000
DTSTAMP:20260426T022650
CREATED:20211206T082054Z
LAST-MODIFIED:20211206T082054Z
UID:10000282-1654776000-1654785000@bakerstreetq.co.uk
SUMMARY:Food Market at 55 Baker Street
DESCRIPTION:Our food market returns to the outdoor atrium of 55 Baker Street from 12.00 to 14.30. A small but perfectly formed ‘mini’ market\, it will feature independent street-food stalls from our market partners Urban Food Fest. Everyone is welcome to drop by for a bite to eat. \n\nXurros Club | Mexican Tacos\nRummanco | Caribbean\nLilium Cakery | Cakes\nSoffrito | Italian // Pasta\nHush Hush | Deli\nMeli | Greek
URL:https://bakerstreetq.co.uk/event/food-market-at-55-baker-street-3/2022-06-09/
CATEGORIES:In Person
ATTACH;FMTTYPE=image/png:https://bakerstreetq.co.uk/wp-content/uploads/2021/12/55-Baker-Street-Market-events-page-2.png
END:VEVENT
BEGIN:VEVENT
DTSTART;TZID=Europe/London:20220609T120000
DTEND;TZID=Europe/London:20220609T143000
DTSTAMP:20260426T022650
CREATED:20211206T082054Z
LAST-MODIFIED:20211206T082054Z
UID:10000311-1654776000-1654785000@bakerstreetq.co.uk
SUMMARY:Food Market at 55 Baker Street
DESCRIPTION:Our food market returns to the outdoor atrium of 55 Baker Street from 12.00 to 14.30. A small but perfectly formed ‘mini’ market\, it will feature independent street-food stalls from our market partners Urban Food Fest. Everyone is welcome to drop by for a bite to eat. \n\nXurros Club | Mexican Tacos\nRummanco | Caribbean\nLilium Cakery | Cakes\nSoffrito | Italian // Pasta\nHush Hush | Deli\nMeli | Greek
URL:https://bakerstreetq.co.uk/event/food-market-at-55-baker-street-3/2022-06-09/
CATEGORIES:In Person
ATTACH;FMTTYPE=image/png:https://bakerstreetq.co.uk/wp-content/uploads/2021/12/55-Baker-Street-Market-events-page-2.png
END:VEVENT
BEGIN:VEVENT
DTSTART;TZID=Europe/London:20220609T120000
DTEND;TZID=Europe/London:20220609T143000
DTSTAMP:20260426T022650
CREATED:20211206T082054Z
LAST-MODIFIED:20211206T082054Z
UID:10000340-1654776000-1654785000@bakerstreetq.co.uk
SUMMARY:Food Market at 55 Baker Street
DESCRIPTION:Our food market returns to the outdoor atrium of 55 Baker Street from 12.00 to 14.30. A small but perfectly formed ‘mini’ market\, it will feature independent street-food stalls from our market partners Urban Food Fest. Everyone is welcome to drop by for a bite to eat. \n\nXurros Club | Mexican Tacos\nRummanco | Caribbean\nLilium Cakery | Cakes\nSoffrito | Italian // Pasta\nHush Hush | Deli\nMeli | Greek
URL:https://bakerstreetq.co.uk/event/food-market-at-55-baker-street-3/2022-06-09/
CATEGORIES:In Person
ATTACH;FMTTYPE=image/png:https://bakerstreetq.co.uk/wp-content/uploads/2021/12/55-Baker-Street-Market-events-page-2.png
END:VEVENT
BEGIN:VEVENT
DTSTART;TZID=Europe/London:20220609T120000
DTEND;TZID=Europe/London:20220609T143000
DTSTAMP:20260426T022650
CREATED:20211206T082054Z
LAST-MODIFIED:20211206T082054Z
UID:10000369-1654776000-1654785000@bakerstreetq.co.uk
SUMMARY:Food Market at 55 Baker Street
DESCRIPTION:Our food market returns to the outdoor atrium of 55 Baker Street from 12.00 to 14.30. A small but perfectly formed ‘mini’ market\, it will feature independent street-food stalls from our market partners Urban Food Fest. Everyone is welcome to drop by for a bite to eat. \n\nXurros Club | Mexican Tacos\nRummanco | Caribbean\nLilium Cakery | Cakes\nSoffrito | Italian // Pasta\nHush Hush | Deli\nMeli | Greek
URL:https://bakerstreetq.co.uk/event/food-market-at-55-baker-street-3/2022-06-09/
CATEGORIES:In Person
ATTACH;FMTTYPE=image/png:https://bakerstreetq.co.uk/wp-content/uploads/2021/12/55-Baker-Street-Market-events-page-2.png
END:VEVENT
BEGIN:VEVENT
DTSTART;TZID=Europe/London:20220609T120000
DTEND;TZID=Europe/London:20220609T143000
DTSTAMP:20260426T022650
CREATED:20211206T082054Z
LAST-MODIFIED:20211206T082054Z
UID:10000398-1654776000-1654785000@bakerstreetq.co.uk
SUMMARY:Food Market at 55 Baker Street
DESCRIPTION:Our food market returns to the outdoor atrium of 55 Baker Street from 12.00 to 14.30. A small but perfectly formed ‘mini’ market\, it will feature independent street-food stalls from our market partners Urban Food Fest. Everyone is welcome to drop by for a bite to eat. \n\nXurros Club | Mexican Tacos\nRummanco | Caribbean\nLilium Cakery | Cakes\nSoffrito | Italian // Pasta\nHush Hush | Deli\nMeli | Greek
URL:https://bakerstreetq.co.uk/event/food-market-at-55-baker-street-3/2022-06-09/
CATEGORIES:In Person
ATTACH;FMTTYPE=image/png:https://bakerstreetq.co.uk/wp-content/uploads/2021/12/55-Baker-Street-Market-events-page-2.png
END:VEVENT
BEGIN:VEVENT
DTSTART;TZID=Europe/London:20220609T120000
DTEND;TZID=Europe/London:20220609T143000
DTSTAMP:20260426T022650
CREATED:20211206T082054Z
LAST-MODIFIED:20211206T082054Z
UID:10000427-1654776000-1654785000@bakerstreetq.co.uk
SUMMARY:Food Market at 55 Baker Street
DESCRIPTION:Our food market returns to the outdoor atrium of 55 Baker Street from 12.00 to 14.30. A small but perfectly formed ‘mini’ market\, it will feature independent street-food stalls from our market partners Urban Food Fest. Everyone is welcome to drop by for a bite to eat. \n\nXurros Club | Mexican Tacos\nRummanco | Caribbean\nLilium Cakery | Cakes\nSoffrito | Italian // Pasta\nHush Hush | Deli\nMeli | Greek
URL:https://bakerstreetq.co.uk/event/food-market-at-55-baker-street-3/2022-06-09/
CATEGORIES:In Person
ATTACH;FMTTYPE=image/png:https://bakerstreetq.co.uk/wp-content/uploads/2021/12/55-Baker-Street-Market-events-page-2.png
END:VEVENT
BEGIN:VEVENT
DTSTART;TZID=Europe/London:20220609T120000
DTEND;TZID=Europe/London:20220609T143000
DTSTAMP:20260426T022650
CREATED:20211206T082054Z
LAST-MODIFIED:20211206T082054Z
UID:10000456-1654776000-1654785000@bakerstreetq.co.uk
SUMMARY:Food Market at 55 Baker Street
DESCRIPTION:Our food market returns to the outdoor atrium of 55 Baker Street from 12.00 to 14.30. A small but perfectly formed ‘mini’ market\, it will feature independent street-food stalls from our market partners Urban Food Fest. Everyone is welcome to drop by for a bite to eat. \n\nXurros Club | Mexican Tacos\nRummanco | Caribbean\nLilium Cakery | Cakes\nSoffrito | Italian // Pasta\nHush Hush | Deli\nMeli | Greek
URL:https://bakerstreetq.co.uk/event/food-market-at-55-baker-street-3/2022-06-09/
CATEGORIES:In Person
ATTACH;FMTTYPE=image/png:https://bakerstreetq.co.uk/wp-content/uploads/2021/12/55-Baker-Street-Market-events-page-2.png
END:VEVENT
BEGIN:VEVENT
DTSTART;TZID=Europe/London:20220609T120000
DTEND;TZID=Europe/London:20220609T143000
DTSTAMP:20260426T022650
CREATED:20211206T082054Z
LAST-MODIFIED:20211206T082054Z
UID:10000485-1654776000-1654785000@bakerstreetq.co.uk
SUMMARY:Food Market at 55 Baker Street
DESCRIPTION:Our food market returns to the outdoor atrium of 55 Baker Street from 12.00 to 14.30. A small but perfectly formed ‘mini’ market\, it will feature independent street-food stalls from our market partners Urban Food Fest. Everyone is welcome to drop by for a bite to eat. \n\nXurros Club | Mexican Tacos\nRummanco | Caribbean\nLilium Cakery | Cakes\nSoffrito | Italian // Pasta\nHush Hush | Deli\nMeli | Greek
URL:https://bakerstreetq.co.uk/event/food-market-at-55-baker-street-3/2022-06-09/
CATEGORIES:In Person
ATTACH;FMTTYPE=image/png:https://bakerstreetq.co.uk/wp-content/uploads/2021/12/55-Baker-Street-Market-events-page-2.png
END:VEVENT
BEGIN:VEVENT
DTSTART;TZID=Europe/London:20220609T120000
DTEND;TZID=Europe/London:20220609T143000
DTSTAMP:20260426T022650
CREATED:20211206T082054Z
LAST-MODIFIED:20211206T082054Z
UID:10000514-1654776000-1654785000@bakerstreetq.co.uk
SUMMARY:Food Market at 55 Baker Street
DESCRIPTION:Our food market returns to the outdoor atrium of 55 Baker Street from 12.00 to 14.30. A small but perfectly formed ‘mini’ market\, it will feature independent street-food stalls from our market partners Urban Food Fest. Everyone is welcome to drop by for a bite to eat. \n\nXurros Club | Mexican Tacos\nRummanco | Caribbean\nLilium Cakery | Cakes\nSoffrito | Italian // Pasta\nHush Hush | Deli\nMeli | Greek
URL:https://bakerstreetq.co.uk/event/food-market-at-55-baker-street-3/2022-06-09/
CATEGORIES:In Person
ATTACH;FMTTYPE=image/png:https://bakerstreetq.co.uk/wp-content/uploads/2021/12/55-Baker-Street-Market-events-page-2.png
END:VEVENT
BEGIN:VEVENT
DTSTART;TZID=Europe/London:20220609T120000
DTEND;TZID=Europe/London:20220609T143000
DTSTAMP:20260426T022650
CREATED:20211206T082054Z
LAST-MODIFIED:20211206T082054Z
UID:10000543-1654776000-1654785000@bakerstreetq.co.uk
SUMMARY:Food Market at 55 Baker Street
DESCRIPTION:Our food market returns to the outdoor atrium of 55 Baker Street from 12.00 to 14.30. A small but perfectly formed ‘mini’ market\, it will feature independent street-food stalls from our market partners Urban Food Fest. Everyone is welcome to drop by for a bite to eat. \n\nXurros Club | Mexican Tacos\nRummanco | Caribbean\nLilium Cakery | Cakes\nSoffrito | Italian // Pasta\nHush Hush | Deli\nMeli | Greek
URL:https://bakerstreetq.co.uk/event/food-market-at-55-baker-street-3/2022-06-09/
CATEGORIES:In Person
ATTACH;FMTTYPE=image/png:https://bakerstreetq.co.uk/wp-content/uploads/2021/12/55-Baker-Street-Market-events-page-2.png
END:VEVENT
BEGIN:VEVENT
DTSTART;TZID=Europe/London:20220609T120000
DTEND;TZID=Europe/London:20220609T143000
DTSTAMP:20260426T022650
CREATED:20211206T082054Z
LAST-MODIFIED:20211206T082054Z
UID:10000572-1654776000-1654785000@bakerstreetq.co.uk
SUMMARY:Food Market at 55 Baker Street
DESCRIPTION:Our food market returns to the outdoor atrium of 55 Baker Street from 12.00 to 14.30. A small but perfectly formed ‘mini’ market\, it will feature independent street-food stalls from our market partners Urban Food Fest. Everyone is welcome to drop by for a bite to eat. \n\nXurros Club | Mexican Tacos\nRummanco | Caribbean\nLilium Cakery | Cakes\nSoffrito | Italian // Pasta\nHush Hush | Deli\nMeli | Greek
URL:https://bakerstreetq.co.uk/event/food-market-at-55-baker-street-3/2022-06-09/
CATEGORIES:In Person
ATTACH;FMTTYPE=image/png:https://bakerstreetq.co.uk/wp-content/uploads/2021/12/55-Baker-Street-Market-events-page-2.png
END:VEVENT
BEGIN:VEVENT
DTSTART;TZID=Europe/London:20220609T120000
DTEND;TZID=Europe/London:20220609T143000
DTSTAMP:20260426T022650
CREATED:20211206T082054Z
LAST-MODIFIED:20211206T082054Z
UID:10000601-1654776000-1654785000@bakerstreetq.co.uk
SUMMARY:Food Market at 55 Baker Street
DESCRIPTION:Our food market returns to the outdoor atrium of 55 Baker Street from 12.00 to 14.30. A small but perfectly formed ‘mini’ market\, it will feature independent street-food stalls from our market partners Urban Food Fest. Everyone is welcome to drop by for a bite to eat. \n\nXurros Club | Mexican Tacos\nRummanco | Caribbean\nLilium Cakery | Cakes\nSoffrito | Italian // Pasta\nHush Hush | Deli\nMeli | Greek
URL:https://bakerstreetq.co.uk/event/food-market-at-55-baker-street-3/2022-06-09/
CATEGORIES:In Person
ATTACH;FMTTYPE=image/png:https://bakerstreetq.co.uk/wp-content/uploads/2021/12/55-Baker-Street-Market-events-page-2.png
END:VEVENT
BEGIN:VEVENT
DTSTART;TZID=Europe/London:20220609T120000
DTEND;TZID=Europe/London:20220609T143000
DTSTAMP:20260426T022650
CREATED:20211206T082054Z
LAST-MODIFIED:20211206T082054Z
UID:10000642-1654776000-1654785000@bakerstreetq.co.uk
SUMMARY:Food Market at 55 Baker Street
DESCRIPTION:Our food market returns to the outdoor atrium of 55 Baker Street from 12.00 to 14.30. A small but perfectly formed ‘mini’ market\, it will feature independent street-food stalls from our market partners Urban Food Fest. Everyone is welcome to drop by for a bite to eat. \n\nXurros Club | Mexican Tacos\nRummanco | Caribbean\nLilium Cakery | Cakes\nSoffrito | Italian // Pasta\nHush Hush | Deli\nMeli | Greek
URL:https://bakerstreetq.co.uk/event/food-market-at-55-baker-street-3/2022-06-09/
CATEGORIES:In Person
ATTACH;FMTTYPE=image/png:https://bakerstreetq.co.uk/wp-content/uploads/2021/12/55-Baker-Street-Market-events-page-2.png
END:VEVENT
BEGIN:VEVENT
DTSTART;TZID=Europe/London:20220609T120000
DTEND;TZID=Europe/London:20220609T143000
DTSTAMP:20260426T022650
CREATED:20211206T082054Z
LAST-MODIFIED:20211206T082054Z
UID:10000671-1654776000-1654785000@bakerstreetq.co.uk
SUMMARY:Food Market at 55 Baker Street
DESCRIPTION:Our food market returns to the outdoor atrium of 55 Baker Street from 12.00 to 14.30. A small but perfectly formed ‘mini’ market\, it will feature independent street-food stalls from our market partners Urban Food Fest. Everyone is welcome to drop by for a bite to eat. \n\nXurros Club | Mexican Tacos\nRummanco | Caribbean\nLilium Cakery | Cakes\nSoffrito | Italian // Pasta\nHush Hush | Deli\nMeli | Greek
URL:https://bakerstreetq.co.uk/event/food-market-at-55-baker-street-3/2022-06-09/
CATEGORIES:In Person
ATTACH;FMTTYPE=image/png:https://bakerstreetq.co.uk/wp-content/uploads/2021/12/55-Baker-Street-Market-events-page-2.png
END:VEVENT
BEGIN:VEVENT
DTSTART;TZID=Europe/London:20220609T120000
DTEND;TZID=Europe/London:20220609T143000
DTSTAMP:20260426T022650
CREATED:20211206T082054Z
LAST-MODIFIED:20211206T082054Z
UID:10000700-1654776000-1654785000@bakerstreetq.co.uk
SUMMARY:Food Market at 55 Baker Street
DESCRIPTION:Our food market returns to the outdoor atrium of 55 Baker Street from 12.00 to 14.30. A small but perfectly formed ‘mini’ market\, it will feature independent street-food stalls from our market partners Urban Food Fest. Everyone is welcome to drop by for a bite to eat. \n\nXurros Club | Mexican Tacos\nRummanco | Caribbean\nLilium Cakery | Cakes\nSoffrito | Italian // Pasta\nHush Hush | Deli\nMeli | Greek
URL:https://bakerstreetq.co.uk/event/food-market-at-55-baker-street-3/2022-06-09/
CATEGORIES:In Person
ATTACH;FMTTYPE=image/png:https://bakerstreetq.co.uk/wp-content/uploads/2021/12/55-Baker-Street-Market-events-page-2.png
END:VEVENT
BEGIN:VEVENT
DTSTART;TZID=Europe/London:20220609T120000
DTEND;TZID=Europe/London:20220609T143000
DTSTAMP:20260426T022650
CREATED:20211206T082054Z
LAST-MODIFIED:20211206T082054Z
UID:10000729-1654776000-1654785000@bakerstreetq.co.uk
SUMMARY:Food Market at 55 Baker Street
DESCRIPTION:Our food market returns to the outdoor atrium of 55 Baker Street from 12.00 to 14.30. A small but perfectly formed ‘mini’ market\, it will feature independent street-food stalls from our market partners Urban Food Fest. Everyone is welcome to drop by for a bite to eat. \n\nXurros Club | Mexican Tacos\nRummanco | Caribbean\nLilium Cakery | Cakes\nSoffrito | Italian // Pasta\nHush Hush | Deli\nMeli | Greek
URL:https://bakerstreetq.co.uk/event/food-market-at-55-baker-street-3/2022-06-09/
CATEGORIES:In Person
ATTACH;FMTTYPE=image/png:https://bakerstreetq.co.uk/wp-content/uploads/2021/12/55-Baker-Street-Market-events-page-2.png
END:VEVENT
BEGIN:VEVENT
DTSTART;TZID=Europe/London:20220609T120000
DTEND;TZID=Europe/London:20220609T143000
DTSTAMP:20260426T022650
CREATED:20211206T082054Z
LAST-MODIFIED:20211206T082054Z
UID:10000758-1654776000-1654785000@bakerstreetq.co.uk
SUMMARY:Food Market at 55 Baker Street
DESCRIPTION:Our food market returns to the outdoor atrium of 55 Baker Street from 12.00 to 14.30. A small but perfectly formed ‘mini’ market\, it will feature independent street-food stalls from our market partners Urban Food Fest. Everyone is welcome to drop by for a bite to eat. \n\nXurros Club | Mexican Tacos\nRummanco | Caribbean\nLilium Cakery | Cakes\nSoffrito | Italian // Pasta\nHush Hush | Deli\nMeli | Greek
URL:https://bakerstreetq.co.uk/event/food-market-at-55-baker-street-3/2022-06-09/
CATEGORIES:In Person
ATTACH;FMTTYPE=image/png:https://bakerstreetq.co.uk/wp-content/uploads/2021/12/55-Baker-Street-Market-events-page-2.png
END:VEVENT
BEGIN:VEVENT
DTSTART;TZID=Europe/London:20220609T120000
DTEND;TZID=Europe/London:20220609T143000
DTSTAMP:20260426T022650
CREATED:20211206T082054Z
LAST-MODIFIED:20211206T082054Z
UID:10000787-1654776000-1654785000@bakerstreetq.co.uk
SUMMARY:Food Market at 55 Baker Street
DESCRIPTION:Our food market returns to the outdoor atrium of 55 Baker Street from 12.00 to 14.30. A small but perfectly formed ‘mini’ market\, it will feature independent street-food stalls from our market partners Urban Food Fest. Everyone is welcome to drop by for a bite to eat. \n\nXurros Club | Mexican Tacos\nRummanco | Caribbean\nLilium Cakery | Cakes\nSoffrito | Italian // Pasta\nHush Hush | Deli\nMeli | Greek
URL:https://bakerstreetq.co.uk/event/food-market-at-55-baker-street-3/2022-06-09/
CATEGORIES:In Person
ATTACH;FMTTYPE=image/png:https://bakerstreetq.co.uk/wp-content/uploads/2021/12/55-Baker-Street-Market-events-page-2.png
END:VEVENT
BEGIN:VEVENT
DTSTART;TZID=Europe/London:20220609T120000
DTEND;TZID=Europe/London:20220609T143000
DTSTAMP:20260426T022650
CREATED:20211206T082054Z
LAST-MODIFIED:20211206T082054Z
UID:10000816-1654776000-1654785000@bakerstreetq.co.uk
SUMMARY:Food Market at 55 Baker Street
DESCRIPTION:Our food market returns to the outdoor atrium of 55 Baker Street from 12.00 to 14.30. A small but perfectly formed ‘mini’ market\, it will feature independent street-food stalls from our market partners Urban Food Fest. Everyone is welcome to drop by for a bite to eat. \n\nXurros Club | Mexican Tacos\nRummanco | Caribbean\nLilium Cakery | Cakes\nSoffrito | Italian // Pasta\nHush Hush | Deli\nMeli | Greek
URL:https://bakerstreetq.co.uk/event/food-market-at-55-baker-street-3/2022-06-09/
CATEGORIES:In Person
ATTACH;FMTTYPE=image/png:https://bakerstreetq.co.uk/wp-content/uploads/2021/12/55-Baker-Street-Market-events-page-2.png
END:VEVENT
BEGIN:VEVENT
DTSTART;TZID=Europe/London:20220609T120000
DTEND;TZID=Europe/London:20220609T143000
DTSTAMP:20260426T022650
CREATED:20211206T082054Z
LAST-MODIFIED:20211206T082054Z
UID:10000845-1654776000-1654785000@bakerstreetq.co.uk
SUMMARY:Food Market at 55 Baker Street
DESCRIPTION:Our food market returns to the outdoor atrium of 55 Baker Street from 12.00 to 14.30. A small but perfectly formed ‘mini’ market\, it will feature independent street-food stalls from our market partners Urban Food Fest. Everyone is welcome to drop by for a bite to eat. \n\nXurros Club | Mexican Tacos\nRummanco | Caribbean\nLilium Cakery | Cakes\nSoffrito | Italian // Pasta\nHush Hush | Deli\nMeli | Greek
URL:https://bakerstreetq.co.uk/event/food-market-at-55-baker-street-3/2022-06-09/
CATEGORIES:In Person
ATTACH;FMTTYPE=image/png:https://bakerstreetq.co.uk/wp-content/uploads/2021/12/55-Baker-Street-Market-events-page-2.png
END:VEVENT
BEGIN:VEVENT
DTSTART;TZID=Europe/London:20220609T120000
DTEND;TZID=Europe/London:20220609T143000
DTSTAMP:20260426T022650
CREATED:20211206T082054Z
LAST-MODIFIED:20211206T082054Z
UID:10000874-1654776000-1654785000@bakerstreetq.co.uk
SUMMARY:Food Market at 55 Baker Street
DESCRIPTION:Our food market returns to the outdoor atrium of 55 Baker Street from 12.00 to 14.30. A small but perfectly formed ‘mini’ market\, it will feature independent street-food stalls from our market partners Urban Food Fest. Everyone is welcome to drop by for a bite to eat. \n\nXurros Club | Mexican Tacos\nRummanco | Caribbean\nLilium Cakery | Cakes\nSoffrito | Italian // Pasta\nHush Hush | Deli\nMeli | Greek
URL:https://bakerstreetq.co.uk/event/food-market-at-55-baker-street-3/2022-06-09/
CATEGORIES:In Person
ATTACH;FMTTYPE=image/png:https://bakerstreetq.co.uk/wp-content/uploads/2021/12/55-Baker-Street-Market-events-page-2.png
END:VEVENT
BEGIN:VEVENT
DTSTART;TZID=Europe/London:20220609T120000
DTEND;TZID=Europe/London:20220609T150000
DTSTAMP:20260426T022650
CREATED:20211206T082054Z
LAST-MODIFIED:20211206T082054Z
UID:10000041-1654776000-1654786800@bakerstreetq.co.uk
SUMMARY:Food Market at 55 Baker Street
DESCRIPTION:Our food market returns to the outdoor atrium of 55 Baker Street from 12.00 to 14.30. A small but perfectly formed ‘mini’ market\, it will feature independent street-food stalls from our market partners Urban Food Fest. Everyone is welcome to drop by for a bite to eat. \n\nXurros Club | Mexican Tacos\nRummanco | Caribbean\nLilium Cakery | Cakes\nSoffrito | Italian // Pasta\nHush Hush | Deli\nMeli | Greek
URL:https://bakerstreetq.co.uk/event/food-market-at-55-baker-street-3/2022-06-09/
CATEGORIES:In Person
ATTACH;FMTTYPE=image/png:https://bakerstreetq.co.uk/wp-content/uploads/2021/12/55-Baker-Street-Market-events-page-2.png
END:VEVENT
BEGIN:VEVENT
DTSTART;TZID=Europe/London:20220609T120000
DTEND;TZID=Europe/London:20220609T150000
DTSTAMP:20260426T022650
CREATED:20211206T082054Z
LAST-MODIFIED:20211206T082054Z
UID:10000078-1654776000-1654786800@bakerstreetq.co.uk
SUMMARY:Food Market at 55 Baker Street
DESCRIPTION:Our food market returns to the outdoor atrium of 55 Baker Street from 12.00 to 14.30. A small but perfectly formed ‘mini’ market\, it will feature independent street-food stalls from our market partners Urban Food Fest. Everyone is welcome to drop by for a bite to eat. \n\nXurros Club | Mexican Tacos\nRummanco | Caribbean\nLilium Cakery | Cakes\nSoffrito | Italian // Pasta\nHush Hush | Deli\nMeli | Greek
URL:https://bakerstreetq.co.uk/event/food-market-at-55-baker-street-3/2022-06-09/
CATEGORIES:In Person
ATTACH;FMTTYPE=image/png:https://bakerstreetq.co.uk/wp-content/uploads/2021/12/55-Baker-Street-Market-events-page-2.png
END:VEVENT
BEGIN:VEVENT
DTSTART;TZID=Europe/London:20220615T130000
DTEND;TZID=Europe/London:20220615T140000
DTSTAMP:20260426T022650
CREATED:20220304T150845Z
LAST-MODIFIED:20220304T150845Z
UID:10000912-1655298000-1655301600@bakerstreetq.co.uk
SUMMARY:Guided Walking Tour: Garden Squares in Marylebone
DESCRIPTION:To celebrate Open Garden Squares Weekend on 11 and 12 June\, we are hosting a gardens guided tour within Marylebone. \nExplore Marylebone loveliest leafy squares and learn the history behind the gardens and how they were used in days gone by. \nMeet at 55 Baker Street at 13.00 and Mark our blue badge guide will lead you through the streets of Marylebone.
URL:https://bakerstreetq.co.uk/event/guided-walking-tour-open-garden-squares-within-marylebone-3/
CATEGORIES:In Person
ATTACH;FMTTYPE=image/png:https://bakerstreetq.co.uk/wp-content/uploads/2022/03/Untitled-design-14.png
END:VEVENT
BEGIN:VEVENT
DTSTART;TZID=Europe/London:20220621T130000
DTEND;TZID=Europe/London:20220621T140000
DTSTAMP:20260426T022650
CREATED:20220401T160839Z
LAST-MODIFIED:20220401T160839Z
UID:10000931-1655816400-1655820000@bakerstreetq.co.uk
SUMMARY:Pop Up Yoga Club
DESCRIPTION:Celebrate International Day of Yoga with us with our yoga class. \nThis 60 minute online yoga class with gem & i yoga will include breath awareness\, simple sequencing\, relaxation\, and meditation.
URL:https://bakerstreetq.co.uk/event/pop-up-yoga-club-3/
CATEGORIES:In Person
ATTACH;FMTTYPE=image/png:https://bakerstreetq.co.uk/wp-content/uploads/2022/04/Pop-up-yoga-resized-for-website.png
END:VEVENT
END:VCALENDAR