BEGIN:VCALENDAR
VERSION:2.0
PRODID:-//Baker Street Quarter Partnership - ECPv6.15.20//NONSGML v1.0//EN
CALSCALE:GREGORIAN
METHOD:PUBLISH
X-ORIGINAL-URL:https://bakerstreetq.co.uk
X-WR-CALDESC:Events for Baker Street Quarter Partnership
REFRESH-INTERVAL;VALUE=DURATION:PT1H
X-Robots-Tag:noindex
X-PUBLISHED-TTL:PT1H
BEGIN:VTIMEZONE
TZID:Europe/London
BEGIN:DAYLIGHT
TZOFFSETFROM:+0000
TZOFFSETTO:+0100
TZNAME:BST
DTSTART:20210328T010000
END:DAYLIGHT
BEGIN:STANDARD
TZOFFSETFROM:+0100
TZOFFSETTO:+0000
TZNAME:GMT
DTSTART:20211031T010000
END:STANDARD
BEGIN:DAYLIGHT
TZOFFSETFROM:+0000
TZOFFSETTO:+0100
TZNAME:BST
DTSTART:20220327T010000
END:DAYLIGHT
BEGIN:STANDARD
TZOFFSETFROM:+0100
TZOFFSETTO:+0000
TZNAME:GMT
DTSTART:20221030T010000
END:STANDARD
BEGIN:DAYLIGHT
TZOFFSETFROM:+0000
TZOFFSETTO:+0100
TZNAME:BST
DTSTART:20230326T010000
END:DAYLIGHT
BEGIN:STANDARD
TZOFFSETFROM:+0100
TZOFFSETTO:+0000
TZNAME:GMT
DTSTART:20231029T010000
END:STANDARD
END:VTIMEZONE
BEGIN:VEVENT
DTSTART;TZID=Europe/London:20220519T123000
DTEND;TZID=Europe/London:20220519T133000
DTSTAMP:20260421T064821
CREATED:20220401T161744Z
LAST-MODIFIED:20220401T161744Z
UID:10000932-1652963400-1652967000@bakerstreetq.co.uk
SUMMARY:Sign To Sing Workshop
DESCRIPTION:Learn how to perform a song in Sign Language in this fun and relaxed workshop. Learning to sign enriches your cognitive processes and enhances creative thinking\, better problem-solving skills and promotes cultural awareness. \nThis workshop is led by Fletch@ who is one of the UK’s leading Deaf Sign Song Performers and works by translating the lyrics of songs and performing them in sign language. \nThis emotive and captivating experience gives hearing people have the chance to experience the song both audibly\, but more intensely\, in a visual and powerful way and deaf people access to the song \nFletch@ provides SignSong Workshops\, inspirational talks and BSL courses\, all celebrating diversity and awareness.
URL:https://bakerstreetq.co.uk/event/sign-to-sing-workshop-3/
CATEGORIES:In Person
ATTACH;FMTTYPE=image/png:https://bakerstreetq.co.uk/wp-content/uploads/2022/04/sign-language-1.png
END:VEVENT
END:VCALENDAR