BEGIN:VCALENDAR
VERSION:2.0
PRODID:-//Baker Street Quarter Partnership - ECPv6.15.20//NONSGML v1.0//EN
CALSCALE:GREGORIAN
METHOD:PUBLISH
X-ORIGINAL-URL:https://bakerstreetq.co.uk
X-WR-CALDESC:Events for Baker Street Quarter Partnership
REFRESH-INTERVAL;VALUE=DURATION:PT1H
X-Robots-Tag:noindex
X-PUBLISHED-TTL:PT1H
BEGIN:VTIMEZONE
TZID:Europe/London
BEGIN:DAYLIGHT
TZOFFSETFROM:+0000
TZOFFSETTO:+0100
TZNAME:BST
DTSTART:20210328T010000
END:DAYLIGHT
BEGIN:STANDARD
TZOFFSETFROM:+0100
TZOFFSETTO:+0000
TZNAME:GMT
DTSTART:20211031T010000
END:STANDARD
BEGIN:DAYLIGHT
TZOFFSETFROM:+0000
TZOFFSETTO:+0100
TZNAME:BST
DTSTART:20220327T010000
END:DAYLIGHT
BEGIN:STANDARD
TZOFFSETFROM:+0100
TZOFFSETTO:+0000
TZNAME:GMT
DTSTART:20221030T010000
END:STANDARD
BEGIN:DAYLIGHT
TZOFFSETFROM:+0000
TZOFFSETTO:+0100
TZNAME:BST
DTSTART:20230326T010000
END:DAYLIGHT
BEGIN:STANDARD
TZOFFSETFROM:+0100
TZOFFSETTO:+0000
TZNAME:GMT
DTSTART:20231029T010000
END:STANDARD
END:VTIMEZONE
BEGIN:VEVENT
DTSTART;TZID=Europe/London:20220421T123000
DTEND;TZID=Europe/London:20220421T133000
DTSTAMP:20260421T032855
CREATED:20220329T200945Z
LAST-MODIFIED:20220329T200945Z
UID:10000924-1650544200-1650547800@bakerstreetq.co.uk
SUMMARY:BSQ Art Club: Sculpture
DESCRIPTION:Drawing improves creativity\, relieves stress\, strengthens focus and strategic thinking so join us as we concentrate on sculpture drawing. \nTo celebrate International Sculpture Day this month\, the BSQ Art Club concentrates on sculpture in all its forms. Practising art helps to relax and aids focus and helps to unwind\, relax and provides a calming sensation. \nAll abilities welcome; even if you think you do not have an art ability\, this session will help your wellbeing and mindset. All you need is a pencil\, piece of paper and a rubber (just in case!). \nGive your brain and eyes a break from the screen and nurture your creativity with this art for all club. \nThis training is exclusive to employees of Baker Street Quarter Partnership member businesses. To check if your business is a member\, email info@bakerstreetq.co.uk.
URL:https://bakerstreetq.co.uk/event/bsq-art-club-sculpture-3/
CATEGORIES:Virtual
ATTACH;FMTTYPE=image/png:https://bakerstreetq.co.uk/wp-content/uploads/2022/03/art-club-3.png
END:VEVENT
END:VCALENDAR