BEGIN:VCALENDAR
VERSION:2.0
PRODID:-//Baker Street Quarter Partnership - ECPv6.15.20//NONSGML v1.0//EN
CALSCALE:GREGORIAN
METHOD:PUBLISH
X-ORIGINAL-URL:https://bakerstreetq.co.uk
X-WR-CALDESC:Events for Baker Street Quarter Partnership
REFRESH-INTERVAL;VALUE=DURATION:PT1H
X-Robots-Tag:noindex
X-PUBLISHED-TTL:PT1H
BEGIN:VTIMEZONE
TZID:Europe/London
BEGIN:DAYLIGHT
TZOFFSETFROM:+0000
TZOFFSETTO:+0100
TZNAME:BST
DTSTART:20210328T010000
END:DAYLIGHT
BEGIN:STANDARD
TZOFFSETFROM:+0100
TZOFFSETTO:+0000
TZNAME:GMT
DTSTART:20211031T010000
END:STANDARD
BEGIN:DAYLIGHT
TZOFFSETFROM:+0000
TZOFFSETTO:+0100
TZNAME:BST
DTSTART:20220327T010000
END:DAYLIGHT
BEGIN:STANDARD
TZOFFSETFROM:+0100
TZOFFSETTO:+0000
TZNAME:GMT
DTSTART:20221030T010000
END:STANDARD
BEGIN:DAYLIGHT
TZOFFSETFROM:+0000
TZOFFSETTO:+0100
TZNAME:BST
DTSTART:20230326T010000
END:DAYLIGHT
BEGIN:STANDARD
TZOFFSETFROM:+0100
TZOFFSETTO:+0000
TZNAME:GMT
DTSTART:20231029T010000
END:STANDARD
END:VTIMEZONE
BEGIN:VEVENT
DTSTART;TZID=Europe/London:20220407T120000
DTEND;TZID=Europe/London:20220407T123000
DTSTAMP:20260421T032853
CREATED:20220316T174717Z
LAST-MODIFIED:20220316T174717Z
UID:10000914-1649332800-1649334600@bakerstreetq.co.uk
SUMMARY:Mindful Walking Club
DESCRIPTION:Not only are there physical benefits of walking but a mindful walk can be a wonder for your mental health. Join us for a fresh and spritely 30-minute walk around the Baker Street Quarter and Marylebone each month\, to clear out the cobwebs and fuzz from our bodies and minds. \nWith a different route each month\, you’ll be able to see the many wonders that Marylebone has to offer but you will feel refreshed and re-energised to take on the rest of the day. Whether you want to listen to music via your headphones\, walk in silence or chat with colleagues – this walk is here to help you de-stress and heighten your wellbeing. \nMindful walking has physical benefits\, but it can reduce blood pressure and heart rate\, create feelings of wellbeing\, provide better sleep\, improve mood and manage stress. April’s monthly walking club coincides with World Health Day to support health and wellbeing. Walking on a regular basis alleviates fatigues\, increases decision making\, improves fitness and reduces back pain. \nMeeting point: 55 Baker Street
URL:https://bakerstreetq.co.uk/event/mindful-walking-club-3/
CATEGORIES:In Person
ATTACH;FMTTYPE=image/png:https://bakerstreetq.co.uk/wp-content/uploads/2022/03/walking-club.png
END:VEVENT
END:VCALENDAR