BEGIN:VCALENDAR
VERSION:2.0
PRODID:-//Baker Street Quarter Partnership - ECPv6.15.20//NONSGML v1.0//EN
CALSCALE:GREGORIAN
METHOD:PUBLISH
X-ORIGINAL-URL:https://bakerstreetq.co.uk
X-WR-CALDESC:Events for Baker Street Quarter Partnership
REFRESH-INTERVAL;VALUE=DURATION:PT1H
X-Robots-Tag:noindex
X-PUBLISHED-TTL:PT1H
BEGIN:VTIMEZONE
TZID:Europe/London
BEGIN:DAYLIGHT
TZOFFSETFROM:+0000
TZOFFSETTO:+0100
TZNAME:BST
DTSTART:20210328T010000
END:DAYLIGHT
BEGIN:STANDARD
TZOFFSETFROM:+0100
TZOFFSETTO:+0000
TZNAME:GMT
DTSTART:20211031T010000
END:STANDARD
BEGIN:DAYLIGHT
TZOFFSETFROM:+0000
TZOFFSETTO:+0100
TZNAME:BST
DTSTART:20220327T010000
END:DAYLIGHT
BEGIN:STANDARD
TZOFFSETFROM:+0100
TZOFFSETTO:+0000
TZNAME:GMT
DTSTART:20221030T010000
END:STANDARD
BEGIN:DAYLIGHT
TZOFFSETFROM:+0000
TZOFFSETTO:+0100
TZNAME:BST
DTSTART:20230326T010000
END:DAYLIGHT
BEGIN:STANDARD
TZOFFSETFROM:+0100
TZOFFSETTO:+0000
TZNAME:GMT
DTSTART:20231029T010000
END:STANDARD
END:VTIMEZONE
BEGIN:VEVENT
DTSTART;TZID=Europe/London:20220322T100000
DTEND;TZID=Europe/London:20220403T180000
DTSTAMP:20260421T032845
CREATED:20220318T161201Z
LAST-MODIFIED:20220318T161201Z
UID:10000919-1647943200-1649008800@bakerstreetq.co.uk
SUMMARY:Identity by Artistellar at 67 York Street
DESCRIPTION:Identity is a three-person show presenting the Malaysian artist Alya Hatta\, Chinese artist Tang Shuo\, and the Salvadorian artist Jose Campos aka Studio Lenca. \nComing from various cultural backgrounds\, all three artists share the experience of examining their identity in a foreign country and portraying the human condition of today’s world. \nOpen 10:00 to 18:00\, with Sunday 27 March appointment only.
URL:https://bakerstreetq.co.uk/event/identity-by-artistellar-at-67-york-street-3/
LOCATION:67 York Street\, 67a York Street\, London\, W1H 1QB
CATEGORIES:In Person
ATTACH;FMTTYPE=image/png:https://bakerstreetq.co.uk/wp-content/uploads/2022/03/67-York-Street.png
END:VEVENT
END:VCALENDAR