BEGIN:VCALENDAR
VERSION:2.0
PRODID:-//Baker Street Quarter Partnership - ECPv6.15.20//NONSGML v1.0//EN
CALSCALE:GREGORIAN
METHOD:PUBLISH
X-ORIGINAL-URL:https://bakerstreetq.co.uk
X-WR-CALDESC:Events for Baker Street Quarter Partnership
REFRESH-INTERVAL;VALUE=DURATION:PT1H
X-Robots-Tag:noindex
X-PUBLISHED-TTL:PT1H
BEGIN:VTIMEZONE
TZID:Europe/London
BEGIN:DAYLIGHT
TZOFFSETFROM:+0000
TZOFFSETTO:+0100
TZNAME:BST
DTSTART:20210328T010000
END:DAYLIGHT
BEGIN:STANDARD
TZOFFSETFROM:+0100
TZOFFSETTO:+0000
TZNAME:GMT
DTSTART:20211031T010000
END:STANDARD
BEGIN:DAYLIGHT
TZOFFSETFROM:+0000
TZOFFSETTO:+0100
TZNAME:BST
DTSTART:20220327T010000
END:DAYLIGHT
BEGIN:STANDARD
TZOFFSETFROM:+0100
TZOFFSETTO:+0000
TZNAME:GMT
DTSTART:20221030T010000
END:STANDARD
BEGIN:DAYLIGHT
TZOFFSETFROM:+0000
TZOFFSETTO:+0100
TZNAME:BST
DTSTART:20230326T010000
END:DAYLIGHT
BEGIN:STANDARD
TZOFFSETFROM:+0100
TZOFFSETTO:+0000
TZNAME:GMT
DTSTART:20231029T010000
END:STANDARD
END:VTIMEZONE
BEGIN:VEVENT
DTSTART;TZID=Europe/London:20220309T093000
DTEND;TZID=Europe/London:20220309T113000
DTSTAMP:20260421T175039
CREATED:20220119T150840Z
LAST-MODIFIED:20220119T150840Z
UID:10000894-1646818200-1646825400@bakerstreetq.co.uk
SUMMARY:Major Incident Table-Top Exercise
DESCRIPTION:As part of our continuing programme of work to enhance the security and resilience of the Quarter we will be hosting our latest emergency planning and crisis management exercise as a hybrid session on 9 March 2022. \nBased around a realistic scenario\, the tabletop exercise will be focused on crisis prevention and response and will examine how incident management can be improved by access to information\, enhanced communication and collaboration with neighbouring businesses. \nThe session builds on and complements our previous exercises and will specifically consider the security implications of the current ‘hybrid’ way of working with staff time split between home and work.  It is not necessary for you to have attended the earlier tabletop to benefit from this event.  It is open to all members\, irrespective of your level of expertise and is designed to help you assess your preparedness\, understand how your plans fit with other members and consider how the area might recover from the disruptive effects of a major event. \nIf you’re in a security role or are responsible for developing business continuity and crisis response plans we would particularly welcome your attendance. \nThis session is exclusive to employees of Baker Street Quarter Partnership member businesses. To check if your business is a member\, email info@bakerstreetq.co.uk.
URL:https://bakerstreetq.co.uk/event/major-incident-table-top-exercise-save-the-date-3/
CATEGORIES:Training
ATTACH;FMTTYPE=image/jpeg:https://bakerstreetq.co.uk/wp-content/uploads/2022/01/Table-Top-Business-Continuity-WEB.jpg
END:VEVENT
END:VCALENDAR