BEGIN:VCALENDAR
VERSION:2.0
PRODID:-//Baker Street Quarter Partnership - ECPv6.15.20//NONSGML v1.0//EN
CALSCALE:GREGORIAN
METHOD:PUBLISH
X-ORIGINAL-URL:https://bakerstreetq.co.uk
X-WR-CALDESC:Events for Baker Street Quarter Partnership
REFRESH-INTERVAL;VALUE=DURATION:PT1H
X-Robots-Tag:noindex
X-PUBLISHED-TTL:PT1H
BEGIN:VTIMEZONE
TZID:Europe/London
BEGIN:DAYLIGHT
TZOFFSETFROM:+0000
TZOFFSETTO:+0100
TZNAME:BST
DTSTART:20210328T010000
END:DAYLIGHT
BEGIN:STANDARD
TZOFFSETFROM:+0100
TZOFFSETTO:+0000
TZNAME:GMT
DTSTART:20211031T010000
END:STANDARD
BEGIN:DAYLIGHT
TZOFFSETFROM:+0000
TZOFFSETTO:+0100
TZNAME:BST
DTSTART:20220327T010000
END:DAYLIGHT
BEGIN:STANDARD
TZOFFSETFROM:+0100
TZOFFSETTO:+0000
TZNAME:GMT
DTSTART:20221030T010000
END:STANDARD
BEGIN:DAYLIGHT
TZOFFSETFROM:+0000
TZOFFSETTO:+0100
TZNAME:BST
DTSTART:20230326T010000
END:DAYLIGHT
BEGIN:STANDARD
TZOFFSETFROM:+0100
TZOFFSETTO:+0000
TZNAME:GMT
DTSTART:20231029T010000
END:STANDARD
END:VTIMEZONE
BEGIN:VEVENT
DTSTART;TZID=Europe/London:20220223T090000
DTEND;TZID=Europe/London:20220223T120000
DTSTAMP:20260424T104853
CREATED:20211206T111840Z
LAST-MODIFIED:20211206T111840Z
UID:10000631-1645606800-1645617600@bakerstreetq.co.uk
SUMMARY:Fire Marshal
DESCRIPTION:Fire Marshal Training on 23 February is fully booked.  \nThis half day (3 hours) Fire marshal training courses is delivered by a professional firefighter. You will learn basic fire safety procedures in the workplace and how to ensure your organisation is compliant with the law. It is a legal requirement to ensure you have an adequate number of staff trained to handle the safe and successful evacuation in the case of a fire emergency. \nThis course will be delivered virtually \nFire Marshal Training is exclusive to employees of Baker Street Quarter Partnership member businesses. To check if your business is a member\, email info@bakerstreetq.co.uk.
URL:https://bakerstreetq.co.uk/event/fire-marshal-training-2022-02-23-3/
CATEGORIES:Training,Virtual
ATTACH;FMTTYPE=image/jpeg:https://bakerstreetq.co.uk/wp-content/uploads/2021/12/matt-chesin-jHqAIuAZPU0-unsplash.jpeg
END:VEVENT
BEGIN:VEVENT
DTSTART;TZID=Europe/London:20220223T123000
DTEND;TZID=Europe/London:20220223T133000
DTSTAMP:20260424T104853
CREATED:20220127T105632Z
LAST-MODIFIED:20220127T105632Z
UID:10000899-1645619400-1645623000@bakerstreetq.co.uk
SUMMARY:Three Steps To Happy Hormones
DESCRIPTION:This workshop is for you if you are in your late 30s to 40s\, noticing changes in mood\, weight\, energy\, periods or confidence. \nMichelle from New Body and Soul will take you through three important steps that women of any age can focus on to ensure they are supporting their health. Hormones play a huge role in our mood\, energy\, confidence\, memory\, immune system\, skin and weight.  Michelle is passionate about women’s health having overcome her own challenges in this area and will share her knowledge in this free workshop.
URL:https://bakerstreetq.co.uk/event/three-steps-to-happy-hormones-3/
CATEGORIES:Virtual
ATTACH;FMTTYPE=image/jpeg:https://bakerstreetq.co.uk/wp-content/uploads/2022/01/Hormones-workshop.jpg
END:VEVENT
END:VCALENDAR