BEGIN:VCALENDAR
VERSION:2.0
PRODID:-//Baker Street Quarter Partnership - ECPv6.15.20//NONSGML v1.0//EN
CALSCALE:GREGORIAN
METHOD:PUBLISH
X-ORIGINAL-URL:https://bakerstreetq.co.uk
X-WR-CALDESC:Events for Baker Street Quarter Partnership
REFRESH-INTERVAL;VALUE=DURATION:PT1H
X-Robots-Tag:noindex
X-PUBLISHED-TTL:PT1H
BEGIN:VTIMEZONE
TZID:Europe/London
BEGIN:DAYLIGHT
TZOFFSETFROM:+0000
TZOFFSETTO:+0100
TZNAME:BST
DTSTART:20210328T010000
END:DAYLIGHT
BEGIN:STANDARD
TZOFFSETFROM:+0100
TZOFFSETTO:+0000
TZNAME:GMT
DTSTART:20211031T010000
END:STANDARD
BEGIN:DAYLIGHT
TZOFFSETFROM:+0000
TZOFFSETTO:+0100
TZNAME:BST
DTSTART:20220327T010000
END:DAYLIGHT
BEGIN:STANDARD
TZOFFSETFROM:+0100
TZOFFSETTO:+0000
TZNAME:GMT
DTSTART:20221030T010000
END:STANDARD
BEGIN:DAYLIGHT
TZOFFSETFROM:+0000
TZOFFSETTO:+0100
TZNAME:BST
DTSTART:20230326T010000
END:DAYLIGHT
BEGIN:STANDARD
TZOFFSETFROM:+0100
TZOFFSETTO:+0000
TZNAME:GMT
DTSTART:20231029T010000
END:STANDARD
END:VTIMEZONE
BEGIN:VEVENT
DTSTART;TZID=Europe/London:20220202T130000
DTEND;TZID=Europe/London:20220202T140000
DTSTAMP:20260422T145753
CREATED:20220119T145129Z
LAST-MODIFIED:20220119T145129Z
UID:10000893-1643806800-1643810400@bakerstreetq.co.uk
SUMMARY:Hybrid Working – optimising your back’s health
DESCRIPTION:Keep your back at optimum health with West 1 Physiotherapy and Pilates\, as they offer the solution to the current working conditions of working from both your home and the office. \nThis event is free to employees of Baker Street Quarter Partnership member businesses. To check if your business is a member\, email info@bakerstreetq.co.uk.
URL:https://bakerstreetq.co.uk/event/hybrid-working-optimising-your-backs-health-3/
CATEGORIES:Virtual
ATTACH;FMTTYPE=image/jpeg:https://bakerstreetq.co.uk/wp-content/uploads/2022/01/back-3.jpg
END:VEVENT
END:VCALENDAR